| Back to Multiple platform build/check report for BioC 3.10 | 
  | 
This page was generated on 2020-03-12 13:19:28 -0400 (Thu, 12 Mar 2020).
| Package 532/1823 | Hostname | OS / Arch | INSTALL | BUILD | CHECK | BUILD BIN | ||||||
| epivizr 2.16.0 Hector Corrada Bravo 
  | malbec1 | Linux (Ubuntu 18.04.4 LTS) / x86_64 | OK | OK | OK | |||||||
| tokay1 | Windows Server 2012 R2 Standard / x64 | OK | OK | WARNINGS | OK | |||||||
| merida1 | OS X 10.11.6 El Capitan / x86_64 | OK | OK | OK | [ OK ] | 
| Package: epivizr | 
| Version: 2.16.0 | 
| Command: rm -rf epivizr.buildbin-libdir && mkdir epivizr.buildbin-libdir && /Users/biocbuild/BBS/utils/build-universal.sh epivizr_2.16.0.tar.gz /Library/Frameworks/R.framework/Versions/Current/Resources/bin/R epivizr.buildbin-libdir | 
| StartedAt: 2020-03-12 07:35:50 -0400 (Thu, 12 Mar 2020) | 
| EndedAt: 2020-03-12 07:36:53 -0400 (Thu, 12 Mar 2020) | 
| EllapsedTime: 62.4 seconds | 
| RetCode: 0 | 
| Status: OK | 
| PackageFile: epivizr_2.16.0.tgz | 
| PackageFileSize: 1.537 MiB | 
############################################################################## ############################################################################## ### ### Running command: ### ### rm -rf epivizr.buildbin-libdir && mkdir epivizr.buildbin-libdir && /Users/biocbuild/BBS/utils/build-universal.sh epivizr_2.16.0.tar.gz /Library/Frameworks/R.framework/Versions/Current/Resources/bin/R epivizr.buildbin-libdir ### ############################################################################## ############################################################################## >>>>>>> >>>>>>> INSTALLATION WITH 'R CMD INSTALL --preclean --no-multiarch --library=epivizr.buildbin-libdir epivizr_2.16.0.tar.gz' >>>>>>> * installing *source* package ‘epivizr’ ... ** using staged installation ** R ** data ** inst ** byte-compile and prepare package for lazy loading ** help *** installing help indices ** building package indices ** installing vignettes ** testing if installed package can be loaded from temporary location ** testing if installed package can be loaded from final location ** testing if installed package keeps a record of temporary installation path * DONE (epivizr)