| Back to Multiple platform build/check report for BioC 3.10 |
|
This page was generated on 2020-04-15 12:15:12 -0400 (Wed, 15 Apr 2020).
| Package 465/1823 | Hostname | OS / Arch | INSTALL | BUILD | CHECK | BUILD BIN | ||||||
| divergence 1.2.0 Wikum Dinalankara
| malbec1 | Linux (Ubuntu 18.04.4 LTS) / x86_64 | OK | OK | [ OK ] | |||||||
| tokay1 | Windows Server 2012 R2 Standard / x64 | OK | OK | OK | OK | |||||||
| merida1 | OS X 10.11.6 El Capitan / x86_64 | OK | OK | OK | OK |
| Package: divergence |
| Version: 1.2.0 |
| Command: /home/biocbuild/bbs-3.10-bioc/R/bin/R CMD check --install=check:divergence.install-out.txt --library=/home/biocbuild/bbs-3.10-bioc/R/library --no-vignettes --timings divergence_1.2.0.tar.gz |
| StartedAt: 2020-04-15 06:17:28 -0400 (Wed, 15 Apr 2020) |
| EndedAt: 2020-04-15 06:20:24 -0400 (Wed, 15 Apr 2020) |
| EllapsedTime: 176.3 seconds |
| RetCode: 0 |
| Status: OK |
| CheckDir: divergence.Rcheck |
| Warnings: 0 |
##############################################################################
##############################################################################
###
### Running command:
###
### /home/biocbuild/bbs-3.10-bioc/R/bin/R CMD check --install=check:divergence.install-out.txt --library=/home/biocbuild/bbs-3.10-bioc/R/library --no-vignettes --timings divergence_1.2.0.tar.gz
###
##############################################################################
##############################################################################
* using log directory ‘/home/biocbuild/bbs-3.10-bioc/meat/divergence.Rcheck’
* using R version 3.6.3 (2020-02-29)
* using platform: x86_64-pc-linux-gnu (64-bit)
* using session charset: UTF-8
* using option ‘--no-vignettes’
* checking for file ‘divergence/DESCRIPTION’ ... OK
* this is package ‘divergence’ version ‘1.2.0’
* package encoding: UTF-8
* checking package namespace information ... OK
* checking package dependencies ... OK
* checking if this is a source package ... OK
* checking if there is a namespace ... OK
* checking for hidden files and directories ... OK
* checking for portable file names ... OK
* checking for sufficient/correct file permissions ... OK
* checking whether package ‘divergence’ can be installed ... OK
* checking installed package size ... OK
* checking package directory ... OK
* checking ‘build’ directory ... OK
* checking DESCRIPTION meta-information ... OK
* checking top-level files ... NOTE
File
LICENSE
is not mentioned in the DESCRIPTION file.
* checking for left-over files ... OK
* checking index information ... OK
* checking package subdirectories ... OK
* checking R files for non-ASCII characters ... OK
* checking R files for syntax errors ... OK
* checking whether the package can be loaded ... OK
* checking whether the package can be loaded with stated dependencies ... OK
* checking whether the package can be unloaded cleanly ... OK
* checking whether the namespace can be loaded with stated dependencies ... OK
* checking whether the namespace can be unloaded cleanly ... OK
* checking dependencies in R code ... OK
* checking S3 generic/method consistency ... OK
* checking replacement functions ... OK
* checking foreign function calls ... OK
* checking R code for possible problems ... NOTE
check_SE: no visible binding for global variable ‘data’
computeSingleFeaturesetBinaryVector: no visible global function
definition for ‘dist’
computeSingleFeaturesetSupport: no visible global function definition
for ‘dist’
computeSingleFeaturesetSupport: no visible global function definition
for ‘quantile’
computeSingleRange: no visible global function definition for
‘quantile’
getRangesBySections: no visible global function definition for
‘detectCores’
rowChiSq: no visible global function definition for ‘chisq.test’
rowChiSq: no visible global function definition for ‘xtabs’
Undefined global functions or variables:
chisq.test data detectCores dist quantile xtabs
Consider adding
importFrom("stats", "chisq.test", "dist", "quantile", "xtabs")
importFrom("utils", "data")
to your NAMESPACE file.
* checking Rd files ... OK
* checking Rd metadata ... OK
* checking Rd cross-references ... OK
* checking for missing documentation entries ... OK
* checking for code/documentation mismatches ... OK
* checking Rd \usage sections ... OK
* checking Rd contents ... OK
* checking for unstated dependencies in examples ... OK
* checking contents of ‘data’ directory ... OK
* checking data for non-ASCII characters ... OK
* checking data for ASCII and uncompressed saves ... OK
* checking files in ‘vignettes’ ... OK
* checking examples ... OK
Examples with CPU or elapsed time > 5s
user system elapsed
computeChiSquaredTest 25.404 15.732 9.017
findUnivariateGammaWithSupport 21.884 16.460 7.366
computeUnivariateDigitization 21.788 15.568 7.679
computeMultivariateDigitization 5.384 0.028 5.437
* checking for unstated dependencies in vignettes ... OK
* checking package vignettes in ‘inst/doc’ ... OK
* checking running R code from vignettes ... SKIPPED
* checking re-building of vignette outputs ... SKIPPED
* checking PDF version of manual ... OK
* DONE
Status: 2 NOTEs
See
‘/home/biocbuild/bbs-3.10-bioc/meat/divergence.Rcheck/00check.log’
for details.
divergence.Rcheck/00install.out
############################################################################## ############################################################################## ### ### Running command: ### ### /home/biocbuild/bbs-3.10-bioc/R/bin/R CMD INSTALL divergence ### ############################################################################## ############################################################################## * installing to library ‘/home/biocbuild/bbs-3.10-bioc/R/library’ * installing *source* package ‘divergence’ ... ** using staged installation ** R ** data *** moving datasets to lazyload DB ** byte-compile and prepare package for lazy loading ** help *** installing help indices ** building package indices ** installing vignettes ** testing if installed package can be loaded from temporary location ** testing if installed package can be loaded from final location ** testing if installed package keeps a record of temporary installation path * DONE (divergence)
divergence.Rcheck/divergence-Ex.timings
| name | user | system | elapsed | |
| computeChiSquaredTest | 25.404 | 15.732 | 9.017 | |
| computeMultivariateBinaryMatrix | 1.420 | 0.096 | 1.521 | |
| computeMultivariateDigitization | 5.384 | 0.028 | 5.437 | |
| computeMultivariateSupport | 0.424 | 0.000 | 0.428 | |
| computeQuantileMatrix | 0.056 | 0.000 | 0.059 | |
| computeUnivariateDigitization | 21.788 | 15.568 | 7.679 | |
| computeUnivariateSupport | 1.824 | 1.296 | 0.636 | |
| computeUnivariateTernaryMatrix | 2.528 | 1.852 | 1.021 | |
| findMultivariateGammaWithSupport | 0.532 | 0.024 | 0.559 | |
| findUnivariateGammaWithSupport | 21.884 | 16.460 | 7.366 | |