| Back to Multiple platform build/check report for BioC 3.10 |
|
This page was generated on 2020-04-15 12:28:36 -0400 (Wed, 15 Apr 2020).
| Package 336/1823 | Hostname | OS / Arch | INSTALL | BUILD | CHECK | BUILD BIN | ||||||
| coexnet 1.8.0 Juan David Henao
| malbec1 | Linux (Ubuntu 18.04.4 LTS) / x86_64 | OK | OK | OK | |||||||
| tokay1 | Windows Server 2012 R2 Standard / x64 | OK | OK | OK | [ OK ] | |||||||
| merida1 | OS X 10.11.6 El Capitan / x86_64 | OK | OK | OK | OK |
| Package: coexnet |
| Version: 1.8.0 |
| Command: rm -rf coexnet.buildbin-libdir && mkdir coexnet.buildbin-libdir && C:\Users\biocbuild\bbs-3.10-bioc\R\bin\R.exe CMD INSTALL --merge-multiarch --build --library=coexnet.buildbin-libdir coexnet_1.8.0.tar.gz |
| StartedAt: 2020-04-15 08:27:47 -0400 (Wed, 15 Apr 2020) |
| EndedAt: 2020-04-15 08:28:43 -0400 (Wed, 15 Apr 2020) |
| EllapsedTime: 56.3 seconds |
| RetCode: 0 |
| Status: OK |
| PackageFile: coexnet_1.8.0.zip |
| PackageFileSize: 1.753 MiB |
##############################################################################
##############################################################################
###
### Running command:
###
### rm -rf coexnet.buildbin-libdir && mkdir coexnet.buildbin-libdir && C:\Users\biocbuild\bbs-3.10-bioc\R\bin\R.exe CMD INSTALL --merge-multiarch --build --library=coexnet.buildbin-libdir coexnet_1.8.0.tar.gz
###
##############################################################################
##############################################################################
install for i386
* installing *source* package 'coexnet' ...
** using staged installation
** R
** data
*** moving datasets to lazyload DB
** inst
** byte-compile and prepare package for lazy loading
** help
*** installing help indices
converting help for package 'coexnet'
finding HTML links ... done
CCP html
affy html
cofVar html
createNet html
difExprs html
exprMat html
findThreshold html
geneSymbol html
getAffy html
getInfo html
info html
net1 html
net2 html
ppiNet html
sharedComponents html
** building package indices
** installing vignettes
** testing if installed package can be loaded from temporary location
** testing if installed package can be loaded from final location
** testing if installed package keeps a record of temporary installation path
install for x64
* installing *source* package 'coexnet' ...
** testing if installed package can be loaded
* MD5 sums
packaged installation of 'coexnet' as coexnet_1.8.0.zip
* DONE (coexnet)