| Back to Multiple platform build/check report for BioC 3.10 |
|
This page was generated on 2020-04-15 12:21:54 -0400 (Wed, 15 Apr 2020).
| Package 331/1823 | Hostname | OS / Arch | INSTALL | BUILD | CHECK | BUILD BIN | ||||||
| cobindR 1.24.0 Manuela Benary
| malbec1 | Linux (Ubuntu 18.04.4 LTS) / x86_64 | ERROR | ERROR | skipped | |||||||
| tokay1 | Windows Server 2012 R2 Standard / x64 | [ ERROR ] | ERROR | skipped | skipped | |||||||
| merida1 | OS X 10.11.6 El Capitan / x86_64 | ERROR | ERROR | skipped | skipped |
| Package: cobindR |
| Version: 1.24.0 |
| Command: C:\cygwin\bin\curl.exe -O https://malbec1.bioconductor.org/BBS/3.10/bioc/src/contrib/cobindR_1.24.0.tar.gz && rm -rf cobindR.buildbin-libdir && mkdir cobindR.buildbin-libdir && C:\Users\biocbuild\bbs-3.10-bioc\R\bin\R.exe CMD INSTALL --merge-multiarch --build --library=cobindR.buildbin-libdir cobindR_1.24.0.tar.gz && C:\Users\biocbuild\bbs-3.10-bioc\R\bin\R.exe CMD INSTALL cobindR_1.24.0.zip && rm cobindR_1.24.0.tar.gz cobindR_1.24.0.zip |
| StartedAt: 2020-04-14 20:42:06 -0400 (Tue, 14 Apr 2020) |
| EndedAt: 2020-04-14 20:42:07 -0400 (Tue, 14 Apr 2020) |
| EllapsedTime: 1.0 seconds |
| RetCode: 1 |
| Status: ERROR |
##############################################################################
##############################################################################
###
### Running command:
###
### C:\cygwin\bin\curl.exe -O https://malbec1.bioconductor.org/BBS/3.10/bioc/src/contrib/cobindR_1.24.0.tar.gz && rm -rf cobindR.buildbin-libdir && mkdir cobindR.buildbin-libdir && C:\Users\biocbuild\bbs-3.10-bioc\R\bin\R.exe CMD INSTALL --merge-multiarch --build --library=cobindR.buildbin-libdir cobindR_1.24.0.tar.gz && C:\Users\biocbuild\bbs-3.10-bioc\R\bin\R.exe CMD INSTALL cobindR_1.24.0.zip && rm cobindR_1.24.0.tar.gz cobindR_1.24.0.zip
###
##############################################################################
##############################################################################
% Total % Received % Xferd Average Speed Time Time Time Current
Dload Upload Total Spent Left Speed
0 0 0 0 0 0 0 0 --:--:-- --:--:-- --:--:-- 0
100 820k 100 820k 0 0 18.5M 0 --:--:-- --:--:-- --:--:-- 20.0M
install for i386
ERROR: dependency 'rtfbs' is not available for package 'cobindR'
* removing 'C:/Users/biocbuild/bbs-3.10-bioc/meat/cobindR.buildbin-libdir/cobindR'