| Back to Multiple platform build/check report for BioC 3.10 |
|
This page was generated on 2020-04-15 12:33:40 -0400 (Wed, 15 Apr 2020).
| Package 300/1823 | Hostname | OS / Arch | INSTALL | BUILD | CHECK | BUILD BIN | ||||||
| cliqueMS 1.0.2 Oriol Senan Campos
| malbec1 | Linux (Ubuntu 18.04.4 LTS) / x86_64 | OK | OK | OK | |||||||
| tokay1 | Windows Server 2012 R2 Standard / x64 | OK | OK | OK | [ OK ] | |||||||
| merida1 | OS X 10.11.6 El Capitan / x86_64 | OK | OK | OK | OK |
| Package: cliqueMS |
| Version: 1.0.2 |
| Command: rm -rf cliqueMS.buildbin-libdir && mkdir cliqueMS.buildbin-libdir && C:\Users\biocbuild\bbs-3.10-bioc\R\bin\R.exe CMD INSTALL --merge-multiarch --build --library=cliqueMS.buildbin-libdir cliqueMS_1.0.2.tar.gz |
| StartedAt: 2020-04-15 08:25:41 -0400 (Wed, 15 Apr 2020) |
| EndedAt: 2020-04-15 08:27:40 -0400 (Wed, 15 Apr 2020) |
| EllapsedTime: 119.5 seconds |
| RetCode: 0 |
| Status: OK |
| PackageFile: cliqueMS_1.0.2.zip |
| PackageFileSize: 1.463 MiB |
##############################################################################
##############################################################################
###
### Running command:
###
### rm -rf cliqueMS.buildbin-libdir && mkdir cliqueMS.buildbin-libdir && C:\Users\biocbuild\bbs-3.10-bioc\R\bin\R.exe CMD INSTALL --merge-multiarch --build --library=cliqueMS.buildbin-libdir cliqueMS_1.0.2.tar.gz
###
##############################################################################
##############################################################################
install for i386
* installing *source* package 'cliqueMS' ...
** using staged installation
** libs
C:/Rtools/mingw_32/bin/g++ -std=gnu++11 -I"C:/Users/BIOCBU~1/BBS-3~1.10-/R/include" -DNDEBUG -I"C:/Users/biocbuild/bbs-3.10-bioc/R/library/Rcpp/include" -I"C:/Users/biocbuild/bbs-3.10-bioc/R/library/BH/include" -I"C:/Users/biocbuild/bbs-3.10-bioc/R/library/RcppArmadillo/include" -I"C:/extsoft/include" -fopenmp -O2 -Wall -mtune=core2 -c RcppExports.cpp -o RcppExports.o
C:/Rtools/mingw_32/bin/g++ -std=gnu++11 -I"C:/Users/BIOCBU~1/BBS-3~1.10-/R/include" -DNDEBUG -I"C:/Users/biocbuild/bbs-3.10-bioc/R/library/Rcpp/include" -I"C:/Users/biocbuild/bbs-3.10-bioc/R/library/BH/include" -I"C:/Users/biocbuild/bbs-3.10-bioc/R/library/RcppArmadillo/include" -I"C:/extsoft/include" -fopenmp -O2 -Wall -mtune=core2 -c findAnnotationR.cpp -o findAnnotationR.o
In file included from findAnnotationR.cpp:1:0:
annotationCliqueMSR.h: In function 'std::vector<std::pair<double, double> > sortMass(annotData&, int, std::unordered_map<double, std::pair<double, double> >, int)':
annotationCliqueMSR.h:440:11: warning: comparison between signed and unsigned integer expressions [-Wsign-compare]
if(id < allM.size()) // not add more masses in case that for that feature are less than "n" top masses
^
annotationCliqueMSR.h: In function 'std::unordered_set<double> getTopScoringMasses(annotData&, int, rawadList, int, int, double)':
annotationCliqueMSR.h:476:11: warning: comparison between signed and unsigned integer expressions [-Wsign-compare]
if(id < allM.size()) // not add more masses in case that there are less than "n" top masses
^
annotationCliqueMSR.h: In function 'std::vector<int> sortAnnotations(std::unordered_map<int, Annotation>&, int)':
annotationCliqueMSR.h:725:11: warning: comparison between signed and unsigned integer expressions [-Wsign-compare]
if(id < allAn.size() )
^
annotationCliqueMSR.h: In function 'double computeMaxScore(std::vector<double>&, int, double)':
annotationCliqueMSR.h:747:25: warning: 'completeroundscore' may be used uninitialized in this function [-Wmaybe-uninitialized]
score = (completeround*completeroundscore) + remainderroundscore + (completeround*newmass);
^
C:/Rtools/mingw_32/bin/g++ -std=gnu++11 -I"C:/Users/BIOCBU~1/BBS-3~1.10-/R/include" -DNDEBUG -I"C:/Users/biocbuild/bbs-3.10-bioc/R/library/Rcpp/include" -I"C:/Users/biocbuild/bbs-3.10-bioc/R/library/BH/include" -I"C:/Users/biocbuild/bbs-3.10-bioc/R/library/RcppArmadillo/include" -I"C:/extsoft/include" -fopenmp -O2 -Wall -mtune=core2 -c findCliquesR.cpp -o findCliquesR.o
In file included from findCliquesR.cpp:2:0:
networkCliqueMSR.h: In function 'Edges createEdges(Rcpp::DataFrame)':
networkCliqueMSR.h:38:37: warning: comparison between signed and unsigned integer expressions [-Wsign-compare]
for(unsigned int index = 0; index < vnode1.size(); index++) {
^
C:/Rtools/mingw_32/bin/g++ -std=gnu++11 -I"C:/Users/BIOCBU~1/BBS-3~1.10-/R/include" -DNDEBUG -I"C:/Users/biocbuild/bbs-3.10-bioc/R/library/Rcpp/include" -I"C:/Users/biocbuild/bbs-3.10-bioc/R/library/BH/include" -I"C:/Users/biocbuild/bbs-3.10-bioc/R/library/RcppArmadillo/include" -I"C:/extsoft/include" -fopenmp -O2 -Wall -mtune=core2 -c findIsotopesR.cpp -o findIsotopesR.o
C:/Rtools/mingw_32/bin/g++ -shared -s -static-libgcc -o cliqueMS.dll tmp.def RcppExports.o findAnnotationR.o findCliquesR.o findIsotopesR.o -fopenmp -LC:/Users/BIOCBU~1/BBS-3~1.10-/R/bin/i386 -lRlapack -LC:/Users/BIOCBU~1/BBS-3~1.10-/R/bin/i386 -lRblas -lgfortran -lm -lquadmath -LC:/extsoft/lib/i386 -LC:/extsoft/lib -LC:/Users/BIOCBU~1/BBS-3~1.10-/R/bin/i386 -lR
installing to C:/Users/biocbuild/bbs-3.10-bioc/meat/cliqueMS.buildbin-libdir/00LOCK-cliqueMS/00new/cliqueMS/libs/i386
** R
** data
** inst
** byte-compile and prepare package for lazy loading
** help
*** installing help indices
converting help for package 'cliqueMS'
finding HTML links ... done
anClique-class html
anClique html
cliqueMS html
computeCliques html
createNetwork html
createanClique html
ex.cliqueGroups html
getAnnotation html
getCliques html
getIsotopes html
negative.adinfo html
positive.adinfo html
** building package indices
** installing vignettes
** testing if installed package can be loaded from temporary location
** testing if installed package can be loaded from final location
** testing if installed package keeps a record of temporary installation path
install for x64
* installing *source* package 'cliqueMS' ...
** libs
C:/Rtools/mingw_64/bin/g++ -std=gnu++11 -I"C:/Users/BIOCBU~1/BBS-3~1.10-/R/include" -DNDEBUG -I"C:/Users/biocbuild/bbs-3.10-bioc/R/library/Rcpp/include" -I"C:/Users/biocbuild/bbs-3.10-bioc/R/library/BH/include" -I"C:/Users/biocbuild/bbs-3.10-bioc/R/library/RcppArmadillo/include" -I"C:/extsoft/include" -fopenmp -O2 -Wall -mtune=core2 -c RcppExports.cpp -o RcppExports.o
C:/Rtools/mingw_64/bin/g++ -std=gnu++11 -I"C:/Users/BIOCBU~1/BBS-3~1.10-/R/include" -DNDEBUG -I"C:/Users/biocbuild/bbs-3.10-bioc/R/library/Rcpp/include" -I"C:/Users/biocbuild/bbs-3.10-bioc/R/library/BH/include" -I"C:/Users/biocbuild/bbs-3.10-bioc/R/library/RcppArmadillo/include" -I"C:/extsoft/include" -fopenmp -O2 -Wall -mtune=core2 -c findAnnotationR.cpp -o findAnnotationR.o
In file included from findAnnotationR.cpp:1:0:
annotationCliqueMSR.h: In function 'std::vector<std::pair<double, double> > sortMass(annotData&, int, std::unordered_map<double, std::pair<double, double> >, int)':
annotationCliqueMSR.h:440:11: warning: comparison between signed and unsigned integer expressions [-Wsign-compare]
if(id < allM.size()) // not add more masses in case that for that feature are less than "n" top masses
^
annotationCliqueMSR.h: In function 'std::unordered_set<double> getTopScoringMasses(annotData&, int, rawadList, int, int, double)':
annotationCliqueMSR.h:476:11: warning: comparison between signed and unsigned integer expressions [-Wsign-compare]
if(id < allM.size()) // not add more masses in case that there are less than "n" top masses
^
annotationCliqueMSR.h: In function 'std::vector<int> sortAnnotations(std::unordered_map<int, Annotation>&, int)':
annotationCliqueMSR.h:725:11: warning: comparison between signed and unsigned integer expressions [-Wsign-compare]
if(id < allAn.size() )
^
annotationCliqueMSR.h: In function 'double computeMaxScore(std::vector<double>&, int, double)':
annotationCliqueMSR.h:747:25: warning: 'completeroundscore' may be used uninitialized in this function [-Wmaybe-uninitialized]
score = (completeround*completeroundscore) + remainderroundscore + (completeround*newmass);
^
C:/Rtools/mingw_64/bin/g++ -std=gnu++11 -I"C:/Users/BIOCBU~1/BBS-3~1.10-/R/include" -DNDEBUG -I"C:/Users/biocbuild/bbs-3.10-bioc/R/library/Rcpp/include" -I"C:/Users/biocbuild/bbs-3.10-bioc/R/library/BH/include" -I"C:/Users/biocbuild/bbs-3.10-bioc/R/library/RcppArmadillo/include" -I"C:/extsoft/include" -fopenmp -O2 -Wall -mtune=core2 -c findCliquesR.cpp -o findCliquesR.o
C:/Rtools/mingw_64/bin/g++ -std=gnu++11 -I"C:/Users/BIOCBU~1/BBS-3~1.10-/R/include" -DNDEBUG -I"C:/Users/biocbuild/bbs-3.10-bioc/R/library/Rcpp/include" -I"C:/Users/biocbuild/bbs-3.10-bioc/R/library/BH/include" -I"C:/Users/biocbuild/bbs-3.10-bioc/R/library/RcppArmadillo/include" -I"C:/extsoft/include" -fopenmp -O2 -Wall -mtune=core2 -c findIsotopesR.cpp -o findIsotopesR.o
C:/Rtools/mingw_64/bin/g++ -shared -s -static-libgcc -o cliqueMS.dll tmp.def RcppExports.o findAnnotationR.o findCliquesR.o findIsotopesR.o -fopenmp -LC:/Users/BIOCBU~1/BBS-3~1.10-/R/bin/x64 -lRlapack -LC:/Users/BIOCBU~1/BBS-3~1.10-/R/bin/x64 -lRblas -lgfortran -lm -lquadmath -LC:/extsoft/lib/x64 -LC:/extsoft/lib -LC:/Users/BIOCBU~1/BBS-3~1.10-/R/bin/x64 -lR
installing to C:/Users/biocbuild/bbs-3.10-bioc/meat/cliqueMS.buildbin-libdir/cliqueMS/libs/x64
** testing if installed package can be loaded
* MD5 sums
packaged installation of 'cliqueMS' as cliqueMS_1.0.2.zip
* DONE (cliqueMS)