| Back to Multiple platform build/check report for BioC 3.10 |
|
This page was generated on 2020-04-15 12:21:45 -0400 (Wed, 15 Apr 2020).
| Package 297/1823 | Hostname | OS / Arch | INSTALL | BUILD | CHECK | BUILD BIN | ||||||
| cleaver 1.24.0 Sebastian Gibb
| malbec1 | Linux (Ubuntu 18.04.4 LTS) / x86_64 | OK | OK | OK | |||||||
| tokay1 | Windows Server 2012 R2 Standard / x64 | [ OK ] | OK | OK | OK | |||||||
| merida1 | OS X 10.11.6 El Capitan / x86_64 | OK | OK | OK | OK |
| Package: cleaver |
| Version: 1.24.0 |
| Command: C:\cygwin\bin\curl.exe -O https://malbec1.bioconductor.org/BBS/3.10/bioc/src/contrib/cleaver_1.24.0.tar.gz && rm -rf cleaver.buildbin-libdir && mkdir cleaver.buildbin-libdir && C:\Users\biocbuild\bbs-3.10-bioc\R\bin\R.exe CMD INSTALL --merge-multiarch --build --library=cleaver.buildbin-libdir cleaver_1.24.0.tar.gz && C:\Users\biocbuild\bbs-3.10-bioc\R\bin\R.exe CMD INSTALL cleaver_1.24.0.zip && rm cleaver_1.24.0.tar.gz cleaver_1.24.0.zip |
| StartedAt: 2020-04-14 19:12:24 -0400 (Tue, 14 Apr 2020) |
| EndedAt: 2020-04-14 19:13:37 -0400 (Tue, 14 Apr 2020) |
| EllapsedTime: 73.0 seconds |
| RetCode: 0 |
| Status: OK |
##############################################################################
##############################################################################
###
### Running command:
###
### C:\cygwin\bin\curl.exe -O https://malbec1.bioconductor.org/BBS/3.10/bioc/src/contrib/cleaver_1.24.0.tar.gz && rm -rf cleaver.buildbin-libdir && mkdir cleaver.buildbin-libdir && C:\Users\biocbuild\bbs-3.10-bioc\R\bin\R.exe CMD INSTALL --merge-multiarch --build --library=cleaver.buildbin-libdir cleaver_1.24.0.tar.gz && C:\Users\biocbuild\bbs-3.10-bioc\R\bin\R.exe CMD INSTALL cleaver_1.24.0.zip && rm cleaver_1.24.0.tar.gz cleaver_1.24.0.zip
###
##############################################################################
##############################################################################
% Total % Received % Xferd Average Speed Time Time Time Current
Dload Upload Total Spent Left Speed
0 0 0 0 0 0 0 0 --:--:-- --:--:-- --:--:-- 0
100 17704 100 17704 0 0 200k 0 --:--:-- --:--:-- --:--:-- 210k
install for i386
* installing *source* package 'cleaver' ...
** using staged installation
** R
** byte-compile and prepare package for lazy loading
** help
*** installing help indices
converting help for package 'cleaver'
finding HTML links ... done
cleave-methods html
finding level-2 HTML links ... done
cleaver-package html
** building package indices
** installing vignettes
** testing if installed package can be loaded from temporary location
** testing if installed package can be loaded from final location
** testing if installed package keeps a record of temporary installation path
install for x64
* installing *source* package 'cleaver' ...
** testing if installed package can be loaded
* MD5 sums
packaged installation of 'cleaver' as cleaver_1.24.0.zip
* DONE (cleaver)
* installing to library 'C:/Users/biocbuild/bbs-3.10-bioc/R/library'
package 'cleaver' successfully unpacked and MD5 sums checked