| Back to Multiple platform build/check report for BioC 3.10 | 
  | 
This page was generated on 2020-04-15 12:17:37 -0400 (Wed, 15 Apr 2020).
| Package 257/1823 | Hostname | OS / Arch | INSTALL | BUILD | CHECK | BUILD BIN | ||||||
| cghMCR 1.44.0 J. Zhang 
  | malbec1 | Linux (Ubuntu 18.04.4 LTS) / x86_64 | OK | OK | WARNINGS | |||||||
| tokay1 | Windows Server 2012 R2 Standard / x64 | OK | OK | WARNINGS | [ OK ] | |||||||
| merida1 | OS X 10.11.6 El Capitan / x86_64 | OK | OK | WARNINGS | OK | 
| Package: cghMCR | 
| Version: 1.44.0 | 
| Command: rm -rf cghMCR.buildbin-libdir && mkdir cghMCR.buildbin-libdir && C:\Users\biocbuild\bbs-3.10-bioc\R\bin\R.exe CMD INSTALL --merge-multiarch --build --library=cghMCR.buildbin-libdir cghMCR_1.44.0.tar.gz | 
| StartedAt: 2020-04-15 08:22:38 -0400 (Wed, 15 Apr 2020) | 
| EndedAt: 2020-04-15 08:23:52 -0400 (Wed, 15 Apr 2020) | 
| EllapsedTime: 74.1 seconds | 
| RetCode: 0 | 
| Status: OK | 
| PackageFile: cghMCR_1.44.0.zip | 
| PackageFileSize: 36.27 MiB | 
##############################################################################
##############################################################################
###
### Running command:
###
###   rm -rf cghMCR.buildbin-libdir && mkdir cghMCR.buildbin-libdir && C:\Users\biocbuild\bbs-3.10-bioc\R\bin\R.exe CMD INSTALL --merge-multiarch --build --library=cghMCR.buildbin-libdir cghMCR_1.44.0.tar.gz
###
##############################################################################
##############################################################################
install for i386
* installing *source* package 'cghMCR' ...
** using staged installation
** R
** data
** inst
** byte-compile and prepare package for lazy loading
** help
*** installing help indices
  converting help for package 'cghMCR'
    finding HTML links ... done
    SGOL-class                              html  
    cghMCR-class                            html  
    cghMCR                                  html  
    mergeMCRProbes                          html  
    methods                                 html  
    plot.DNAcopy                            html  
** building package indices
** installing vignettes
** testing if installed package can be loaded from temporary location
** testing if installed package can be loaded from final location
** testing if installed package keeps a record of temporary installation path
install for x64
* installing *source* package 'cghMCR' ...
** testing if installed package can be loaded
* MD5 sums
packaged installation of 'cghMCR' as cghMCR_1.44.0.zip
* DONE (cghMCR)