| Back to Multiple platform build/check report for BioC 3.10 |
|
This page was generated on 2020-04-15 12:31:22 -0400 (Wed, 15 Apr 2020).
| Package 391/1823 | Hostname | OS / Arch | INSTALL | BUILD | CHECK | BUILD BIN | ||||||
| cTRAP 1.4.0 Nuno Saraiva-Agostinho
| malbec1 | Linux (Ubuntu 18.04.4 LTS) / x86_64 | OK | OK | OK | |||||||
| tokay1 | Windows Server 2012 R2 Standard / x64 | OK | OK | OK | [ OK ] | |||||||
| merida1 | OS X 10.11.6 El Capitan / x86_64 | OK | OK | OK | OK |
| Package: cTRAP |
| Version: 1.4.0 |
| Command: rm -rf cTRAP.buildbin-libdir && mkdir cTRAP.buildbin-libdir && C:\Users\biocbuild\bbs-3.10-bioc\R\bin\R.exe CMD INSTALL --merge-multiarch --build --library=cTRAP.buildbin-libdir cTRAP_1.4.0.tar.gz |
| StartedAt: 2020-04-15 08:31:14 -0400 (Wed, 15 Apr 2020) |
| EndedAt: 2020-04-15 08:31:49 -0400 (Wed, 15 Apr 2020) |
| EllapsedTime: 34.1 seconds |
| RetCode: 0 |
| Status: OK |
| PackageFile: cTRAP_1.4.0.zip |
| PackageFileSize: 4.913 MiB |
##############################################################################
##############################################################################
###
### Running command:
###
### rm -rf cTRAP.buildbin-libdir && mkdir cTRAP.buildbin-libdir && C:\Users\biocbuild\bbs-3.10-bioc\R\bin\R.exe CMD INSTALL --merge-multiarch --build --library=cTRAP.buildbin-libdir cTRAP_1.4.0.tar.gz
###
##############################################################################
##############################################################################
install for i386
* installing *source* package 'cTRAP' ...
** using staged installation
** R
** data
*** moving datasets to lazyload DB
** inst
** byte-compile and prepare package for lazy loading
** help
*** installing help indices
converting help for package 'cTRAP'
finding HTML links ... done
ENCODEmetadata html
GCT-class html
analyseDrugSetEnrichment html
as.table.similarPerturbations html
cTRAP html
calculateCellLineMean html
checkColnames html
chunkVector html
closeOpenHandles html
cmapMetadata html
cmapPerturbationsCompounds html
cmapPerturbationsKD html
compareAgainstReference html
compareAgainstReferencePerMethod html
compareQuantile html
convertENSEMBLtoGeneSymbols html
correlateAgainstReference html
counts html
diffExprStat html
dim.perturbationChanges html
dimnames.perturbationChanges html
downloadENCODEknockdownMetadata html
downloadIfNotFound html
filterCMapMetadata html
fix.datatypes html
getCMapConditions html
getCMapPerturbationTypes html
getENCODEcontrols html
loadCMapData html
loadCMapZscores html
loadCTRPgeneExpression html
loadDrugDescriptors html
loadENCODEsample html
loadENCODEsamples html
loadExpressionDrugSensitivityAssociation
html
loadNCI60drugSensitivity html
matchStatsWithDrugSetsID html
parseCMapID html
performDifferentialExpression html
performGSEA html
performGSEAagainstReference html
plot.perturbationChanges html
plot.referenceComparison html
plotDrugSetEnrichment html
plotESplot html
plotGSEA html
plotMetricDistribution html
plotSingleCorr html
plotTargetingDrugsVSsimilarPerturbations
html
predictTargetingDrugs html
prepareCMapPerturbations html
prepareDrugSets html
prepareENCODEgeneExpression html
prepareExpressionDrugSensitivityAssociation
html
prepareGSEApathways html
print.similarPerturbations html
processByChunks html
processIds html
rankColumns html
rankSimilarPerturbations html
readGctxIds html
readGctxMeta html
stripStr html
sub-.perturbationChanges html
subsetToIds html
** building package indices
** installing vignettes
** testing if installed package can be loaded from temporary location
** testing if installed package can be loaded from final location
** testing if installed package keeps a record of temporary installation path
install for x64
* installing *source* package 'cTRAP' ...
** testing if installed package can be loaded
* MD5 sums
packaged installation of 'cTRAP' as cTRAP_1.4.0.zip
* DONE (cTRAP)