| Back to Multiple platform build/check report for BioC 3.10 |
|
This page was generated on 2020-04-15 12:20:48 -0400 (Wed, 15 Apr 2020).
| Package 203/1823 | Hostname | OS / Arch | INSTALL | BUILD | CHECK | BUILD BIN | ||||||
| bsseq 1.22.0 Kasper Daniel Hansen
| malbec1 | Linux (Ubuntu 18.04.4 LTS) / x86_64 | OK | OK | OK | |||||||
| tokay1 | Windows Server 2012 R2 Standard / x64 | OK | OK | WARNINGS | [ OK ] | |||||||
| merida1 | OS X 10.11.6 El Capitan / x86_64 | OK | OK | OK | OK |
| Package: bsseq |
| Version: 1.22.0 |
| Command: rm -rf bsseq.buildbin-libdir && mkdir bsseq.buildbin-libdir && C:\Users\biocbuild\bbs-3.10-bioc\R\bin\R.exe CMD INSTALL --merge-multiarch --build --library=bsseq.buildbin-libdir bsseq_1.22.0.tar.gz |
| StartedAt: 2020-04-15 08:19:23 -0400 (Wed, 15 Apr 2020) |
| EndedAt: 2020-04-15 08:22:13 -0400 (Wed, 15 Apr 2020) |
| EllapsedTime: 169.6 seconds |
| RetCode: 0 |
| Status: OK |
| PackageFile: bsseq_1.22.0.zip |
| PackageFileSize: 8.501 MiB |
##############################################################################
##############################################################################
###
### Running command:
###
### rm -rf bsseq.buildbin-libdir && mkdir bsseq.buildbin-libdir && C:\Users\biocbuild\bbs-3.10-bioc\R\bin\R.exe CMD INSTALL --merge-multiarch --build --library=bsseq.buildbin-libdir bsseq_1.22.0.tar.gz
###
##############################################################################
##############################################################################
install for i386
* installing *source* package 'bsseq' ...
** using staged installation
** libs
C:/Rtools/mingw_32/bin/g++ -std=gnu++11 -I"C:/Users/BIOCBU~1/BBS-3~1.10-/R/include" -DNDEBUG -I"C:/Users/biocbuild/bbs-3.10-bioc/R/library/Rcpp/include" -I"C:/Users/biocbuild/bbs-3.10-bioc/R/library/beachmat/include" -I"C:/extsoft/include" -O2 -Wall -mtune=core2 -c check_M_and_Cov.cpp -o check_M_and_Cov.o
C:/Rtools/mingw_32/bin/g++ -std=gnu++11 -I"C:/Users/BIOCBU~1/BBS-3~1.10-/R/include" -DNDEBUG -I"C:/Users/biocbuild/bbs-3.10-bioc/R/library/Rcpp/include" -I"C:/Users/biocbuild/bbs-3.10-bioc/R/library/beachmat/include" -I"C:/extsoft/include" -O2 -Wall -mtune=core2 -c init.cpp -o init.o
C:/Rtools/mingw_32/bin/g++ -std=gnu++11 -I"C:/Users/BIOCBU~1/BBS-3~1.10-/R/include" -DNDEBUG -I"C:/Users/biocbuild/bbs-3.10-bioc/R/library/Rcpp/include" -I"C:/Users/biocbuild/bbs-3.10-bioc/R/library/beachmat/include" -I"C:/extsoft/include" -O2 -Wall -mtune=core2 -c utils.cpp -o utils.o
C:/Rtools/mingw_32/bin/g++ -shared -s -static-libgcc -o bsseq.dll tmp.def check_M_and_Cov.o init.o utils.o -LC:/extsoft/lib/i386 -LC:/extsoft/lib -LC:/Users/BIOCBU~1/BBS-3~1.10-/R/bin/i386 -lR
installing to C:/Users/biocbuild/bbs-3.10-bioc/meat/bsseq.buildbin-libdir/00LOCK-bsseq/00new/bsseq/libs/i386
** R
** data
*** moving datasets to lazyload DB
** inst
** byte-compile and prepare package for lazy loading
** help
*** installing help indices
converting help for package 'bsseq'
finding HTML links ... done
BS.chr22 html
BSmooth html
finding level-2 HTML links ... done
Rd warning: C:/Users/biocbuild/bbs-3.10-bioc/tmpdir/RtmpoLuWWy/R.INSTALL351461425672/bsseq/man/BSmooth.Rd:38: file link 'getHDF5DumpChunkDim' in package 'HDF5Array' does not exist and so has been treated as a topic
Rd warning: C:/Users/biocbuild/bbs-3.10-bioc/tmpdir/RtmpoLuWWy/R.INSTALL351461425672/bsseq/man/BSmooth.Rd:40: file link 'getHDF5DumpChunkDim' in package 'HDF5Array' does not exist and so has been treated as a topic
Rd warning: C:/Users/biocbuild/bbs-3.10-bioc/tmpdir/RtmpoLuWWy/R.INSTALL351461425672/bsseq/man/BSmooth.Rd:43: file link 'getHDF5DumpCompressionLevel' in package 'HDF5Array' does not exist and so has been treated as a topic
Rd warning: C:/Users/biocbuild/bbs-3.10-bioc/tmpdir/RtmpoLuWWy/R.INSTALL351461425672/bsseq/man/BSmooth.Rd:44: file link 'getHDF5DumpCompressionLevel' in package 'HDF5Array' does not exist and so has been treated as a topic
Rd warning: C:/Users/biocbuild/bbs-3.10-bioc/tmpdir/RtmpoLuWWy/R.INSTALL351461425672/bsseq/man/BSmooth.Rd:67: file link 'getRealizationBackend' in package 'DelayedArray' does not exist and so has been treated as a topic
BSmooth.fstat html
BSmooth.tstat html
BSseq-class html
Rd warning: C:/Users/biocbuild/bbs-3.10-bioc/tmpdir/RtmpoLuWWy/R.INSTALL351461425672/bsseq/man/BSseq-class.Rd:137: file link 'setRealizationBackend' in package 'DelayedArray' does not exist and so has been treated as a topic
BSseq html
Rd warning: C:/Users/biocbuild/bbs-3.10-bioc/tmpdir/RtmpoLuWWy/R.INSTALL351461425672/bsseq/man/BSseq.Rd:34: file link 'DelayedMatrix' in package 'DelayedArray' does not exist and so has been treated as a topic
BSseqStat-class html
Rd warning: C:/Users/biocbuild/bbs-3.10-bioc/tmpdir/RtmpoLuWWy/R.INSTALL351461425672/bsseq/man/BSseqStat-class.Rd:27: file link 'DelayedMatrix' in package 'DelayedArray' does not exist and so has been treated as a topic
BSseqTstat-class html
Rd warning: C:/Users/biocbuild/bbs-3.10-bioc/tmpdir/RtmpoLuWWy/R.INSTALL351461425672/bsseq/man/BSseqTstat-class.Rd:27: file link 'DelayedMatrix' in package 'DelayedArray' does not exist and so has been treated as a topic
FWGRanges-class html
computeStat html
data.frame2GRanges html
dmrFinder html
findLoci html
Rd warning: C:/Users/biocbuild/bbs-3.10-bioc/tmpdir/RtmpoLuWWy/R.INSTALL351461425672/bsseq/man/findLoci.Rd:44: file link 'vmatchPattern' in package 'Biostrings' does not exist and so has been treated as a topic
Rd warning: C:/Users/biocbuild/bbs-3.10-bioc/tmpdir/RtmpoLuWWy/R.INSTALL351461425672/bsseq/man/findLoci.Rd:45: file link 'vmatchPattern' in package 'Biostrings' does not exist and so has been treated as a topic
Rd warning: C:/Users/biocbuild/bbs-3.10-bioc/tmpdir/RtmpoLuWWy/R.INSTALL351461425672/bsseq/man/findLoci.Rd:55: file link 'vmatchPattern' in package 'Biostrings' does not exist and so has been treated as a topic
fisherTests html
Rd warning: C:/Users/biocbuild/bbs-3.10-bioc/tmpdir/RtmpoLuWWy/R.INSTALL351461425672/bsseq/man/fisherTests.Rd:55: file link 'mclapply' in package 'parallel' does not exist and so has been treated as a topic
getCoverage html
getMeth html
getStats html
goodnessOfFit html
hasGRanges-class html
internals html
plotRegion html
read.bismark html
Rd warning: C:/Users/biocbuild/bbs-3.10-bioc/tmpdir/RtmpoLuWWy/R.INSTALL351461425672/bsseq/man/read.bismark.Rd:36: file link 'rowRanges' in package 'SummarizedExperiment' does not exist and so has been treated as a topic
Rd warning: C:/Users/biocbuild/bbs-3.10-bioc/tmpdir/RtmpoLuWWy/R.INSTALL351461425672/bsseq/man/read.bismark.Rd:73: file link 'getHDF5DumpChunkDim' in package 'HDF5Array' does not exist and so has been treated as a topic
Rd warning: C:/Users/biocbuild/bbs-3.10-bioc/tmpdir/RtmpoLuWWy/R.INSTALL351461425672/bsseq/man/read.bismark.Rd:75: file link 'getHDF5DumpChunkDim' in package 'HDF5Array' does not exist and so has been treated as a topic
Rd warning: C:/Users/biocbuild/bbs-3.10-bioc/tmpdir/RtmpoLuWWy/R.INSTALL351461425672/bsseq/man/read.bismark.Rd:78: file link 'getHDF5DumpCompressionLevel' in package 'HDF5Array' does not exist and so has been treated as a topic
Rd warning: C:/Users/biocbuild/bbs-3.10-bioc/tmpdir/RtmpoLuWWy/R.INSTALL351461425672/bsseq/man/read.bismark.Rd:79: file link 'getHDF5DumpCompressionLevel' in package 'HDF5Array' does not exist and so has been treated as a topic
Rd warning: C:/Users/biocbuild/bbs-3.10-bioc/tmpdir/RtmpoLuWWy/R.INSTALL351461425672/bsseq/man/read.bismark.Rd:91: file link 'tempdir' in package 'base' does not exist and so has been treated as a topic
Rd warning: C:/Users/biocbuild/bbs-3.10-bioc/tmpdir/RtmpoLuWWy/R.INSTALL351461425672/bsseq/man/read.bismark.Rd:177: file link 'getRealizationBackend' in package 'DelayedArray' does not exist and so has been treated as a topic
read.bsmooth html
read.umtab html
smoothSds html
** building package indices
** installing vignettes
** testing if installed package can be loaded from temporary location
** testing if installed package can be loaded from final location
** testing if installed package keeps a record of temporary installation path
install for x64
* installing *source* package 'bsseq' ...
** libs
C:/Rtools/mingw_64/bin/g++ -std=gnu++11 -I"C:/Users/BIOCBU~1/BBS-3~1.10-/R/include" -DNDEBUG -I"C:/Users/biocbuild/bbs-3.10-bioc/R/library/Rcpp/include" -I"C:/Users/biocbuild/bbs-3.10-bioc/R/library/beachmat/include" -I"C:/extsoft/include" -O2 -Wall -mtune=core2 -c check_M_and_Cov.cpp -o check_M_and_Cov.o
C:/Rtools/mingw_64/bin/g++ -std=gnu++11 -I"C:/Users/BIOCBU~1/BBS-3~1.10-/R/include" -DNDEBUG -I"C:/Users/biocbuild/bbs-3.10-bioc/R/library/Rcpp/include" -I"C:/Users/biocbuild/bbs-3.10-bioc/R/library/beachmat/include" -I"C:/extsoft/include" -O2 -Wall -mtune=core2 -c init.cpp -o init.o
C:/Rtools/mingw_64/bin/g++ -std=gnu++11 -I"C:/Users/BIOCBU~1/BBS-3~1.10-/R/include" -DNDEBUG -I"C:/Users/biocbuild/bbs-3.10-bioc/R/library/Rcpp/include" -I"C:/Users/biocbuild/bbs-3.10-bioc/R/library/beachmat/include" -I"C:/extsoft/include" -O2 -Wall -mtune=core2 -c utils.cpp -o utils.o
C:/Rtools/mingw_64/bin/g++ -shared -s -static-libgcc -o bsseq.dll tmp.def check_M_and_Cov.o init.o utils.o -LC:/extsoft/lib/x64 -LC:/extsoft/lib -LC:/Users/BIOCBU~1/BBS-3~1.10-/R/bin/x64 -lR
installing to C:/Users/biocbuild/bbs-3.10-bioc/meat/bsseq.buildbin-libdir/bsseq/libs/x64
** testing if installed package can be loaded
* MD5 sums
packaged installation of 'bsseq' as bsseq_1.22.0.zip
* DONE (bsseq)