| Back to Multiple platform build/check report for BioC 3.10 |
|
This page was generated on 2020-04-15 12:48:20 -0400 (Wed, 15 Apr 2020).
| Package 85/1823 | Hostname | OS / Arch | INSTALL | BUILD | CHECK | BUILD BIN | ||||||
| artMS 1.4.3 David Jimenez-Morales
| malbec1 | Linux (Ubuntu 18.04.4 LTS) / x86_64 | OK | OK | OK | |||||||
| tokay1 | Windows Server 2012 R2 Standard / x64 | OK | OK | OK | OK | |||||||
| merida1 | OS X 10.11.6 El Capitan / x86_64 | OK | OK | [ OK ] | OK |
| Package: artMS |
| Version: 1.4.3 |
| Command: /Library/Frameworks/R.framework/Versions/Current/Resources/bin/R CMD check --install=check:artMS.install-out.txt --library=/Library/Frameworks/R.framework/Versions/Current/Resources/library --no-vignettes --timings artMS_1.4.3.tar.gz |
| StartedAt: 2020-04-15 00:27:23 -0400 (Wed, 15 Apr 2020) |
| EndedAt: 2020-04-15 00:30:58 -0400 (Wed, 15 Apr 2020) |
| EllapsedTime: 215.4 seconds |
| RetCode: 0 |
| Status: OK |
| CheckDir: artMS.Rcheck |
| Warnings: 0 |
############################################################################## ############################################################################## ### ### Running command: ### ### /Library/Frameworks/R.framework/Versions/Current/Resources/bin/R CMD check --install=check:artMS.install-out.txt --library=/Library/Frameworks/R.framework/Versions/Current/Resources/library --no-vignettes --timings artMS_1.4.3.tar.gz ### ############################################################################## ############################################################################## * using log directory ‘/Users/biocbuild/bbs-3.10-bioc/meat/artMS.Rcheck’ * using R version 3.6.3 (2020-02-29) * using platform: x86_64-apple-darwin15.6.0 (64-bit) * using session charset: UTF-8 * using option ‘--no-vignettes’ * checking for file ‘artMS/DESCRIPTION’ ... OK * checking extension type ... Package * this is package ‘artMS’ version ‘1.4.3’ * package encoding: UTF-8 * checking package namespace information ... OK * checking package dependencies ... OK * checking if this is a source package ... OK * checking if there is a namespace ... OK * checking for hidden files and directories ... OK * checking for portable file names ... OK * checking for sufficient/correct file permissions ... OK * checking whether package ‘artMS’ can be installed ... OK * checking installed package size ... OK * checking package directory ... OK * checking ‘build’ directory ... OK * checking DESCRIPTION meta-information ... OK * checking top-level files ... OK * checking for left-over files ... OK * checking index information ... OK * checking package subdirectories ... OK * checking R files for non-ASCII characters ... OK * checking R files for syntax errors ... OK * checking whether the package can be loaded ... OK * checking whether the package can be loaded with stated dependencies ... OK * checking whether the package can be unloaded cleanly ... OK * checking whether the namespace can be loaded with stated dependencies ... OK * checking whether the namespace can be unloaded cleanly ... OK * checking dependencies in R code ... OK * checking S3 generic/method consistency ... OK * checking replacement functions ... OK * checking foreign function calls ... OK * checking R code for possible problems ... OK * checking Rd files ... OK * checking Rd metadata ... OK * checking Rd cross-references ... OK * checking for missing documentation entries ... OK * checking for code/documentation mismatches ... OK * checking Rd \usage sections ... OK * checking Rd contents ... OK * checking for unstated dependencies in examples ... OK * checking contents of ‘data’ directory ... OK * checking data for non-ASCII characters ... OK * checking data for ASCII and uncompressed saves ... OK * checking files in ‘vignettes’ ... OK * checking examples ... OK * checking for unstated dependencies in ‘tests’ ... OK * checking tests ... Running ‘testthat.R’ OK * checking for unstated dependencies in vignettes ... OK * checking package vignettes in ‘inst/doc’ ... OK * checking running R code from vignettes ... SKIPPED * checking re-building of vignette outputs ... SKIPPED * checking PDF version of manual ... OK * DONE Status: OK
artMS.Rcheck/00install.out
############################################################################## ############################################################################## ### ### Running command: ### ### /Library/Frameworks/R.framework/Versions/Current/Resources/bin/R CMD INSTALL artMS ### ############################################################################## ############################################################################## * installing to library ‘/Library/Frameworks/R.framework/Versions/3.6/Resources/library’ * installing *source* package ‘artMS’ ... ** using staged installation ** R ** data *** moving datasets to lazyload DB ** inst ** byte-compile and prepare package for lazy loading ** help *** installing help indices ** building package indices ** installing vignettes ** testing if installed package can be loaded from temporary location ** testing if installed package can be loaded from final location ** testing if installed package keeps a record of temporary installation path * DONE (artMS)
artMS.Rcheck/tests/testthat.Rout
R version 3.6.3 (2020-02-29) -- "Holding the Windsock"
Copyright (C) 2020 The R Foundation for Statistical Computing
Platform: x86_64-apple-darwin15.6.0 (64-bit)
R is free software and comes with ABSOLUTELY NO WARRANTY.
You are welcome to redistribute it under certain conditions.
Type 'license()' or 'licence()' for distribution details.
R is a collaborative project with many contributors.
Type 'contributors()' for more information and
'citation()' on how to cite R or R packages in publications.
Type 'demo()' for some demos, 'help()' for on-line help, or
'help.start()' for an HTML browser interface to help.
Type 'q()' to quit R.
> library(testthat)
> library(artMS)
>
> test_check("artMS")
══ testthat results ═══════════════════════════════════════════════════════════
[ OK: 2 | SKIPPED: 0 | WARNINGS: 0 | FAILED: 0 ]
>
> proc.time()
user system elapsed
8.645 0.549 9.208
artMS.Rcheck/artMS-Ex.timings
| name | user | system | elapsed | |
| artmsAnalysisQuantifications | 0.035 | 0.001 | 0.036 | |
| artmsAnnotateSpecie | 0.002 | 0.003 | 0.005 | |
| artmsAnnotationUniprot | 3.216 | 0.279 | 3.533 | |
| artmsAvgIntensityRT | 2.669 | 0.056 | 2.750 | |
| artmsChangeColumnName | 0.001 | 0.000 | 0.001 | |
| artmsConvertMetabolomics | 0.001 | 0.000 | 0.001 | |
| artmsDataPlots | 0 | 0 | 0 | |
| artmsEnrichLog2fc | 0.451 | 0.009 | 4.313 | |
| artmsEnrichProfiler | 0.351 | 0.005 | 3.018 | |
| artmsEvidenceToSAINTq | 0.002 | 0.000 | 0.002 | |
| artmsEvidenceToSaintExpress | 0.002 | 0.001 | 0.002 | |
| artmsFilterEvidenceContaminants | 0.067 | 0.005 | 0.073 | |
| artmsGeneratePhSiteExtended | 0.000 | 0.000 | 0.001 | |
| artmsIsEvidenceNewVersion | 0.001 | 0.000 | 0.002 | |
| artmsIsSpeciesSupported | 0.062 | 0.000 | 0.062 | |
| artmsLeaveOnlyUniprotEntryID | 0.002 | 0.001 | 0.002 | |
| artmsMapUniprot2Entrez | 0.303 | 0.008 | 0.315 | |
| artmsMergeEvidenceAndKeys | 0.068 | 0.004 | 0.072 | |
| artmsMsstatsSummary | 0.001 | 0.000 | 0.001 | |
| artmsPhosfateOutput | 0.001 | 0.000 | 0.000 | |
| artmsPhotonOutput | 0 | 0 | 0 | |
| artmsPlotHeatmapQuant | 0.394 | 0.007 | 0.405 | |
| artmsProtein2SiteConversion | 0.002 | 0.000 | 0.002 | |
| artmsQualityControlEvidenceBasic | 2.122 | 0.049 | 2.195 | |
| artmsQualityControlEvidenceExtended | 0.006 | 0.000 | 0.008 | |
| artmsQualityControlMetabolomics | 0.002 | 0.000 | 0.002 | |
| artmsQualityControlSummaryExtended | 0.002 | 0.000 | 0.002 | |
| artmsQuantification | 0 | 0 | 0 | |
| artmsResultsWide | 0.372 | 0.005 | 0.381 | |
| artmsSILACtoLong | 0 | 0 | 0 | |
| artmsSpectralCounts | 0.180 | 0.006 | 0.187 | |
| artmsVolcanoPlot | 0.312 | 0.003 | 0.317 | |
| artmsWriteConfigYamlFile | 0 | 0 | 0 | |