| Back to Multiple platform build/check report for BioC 3.10 |
|
This page was generated on 2020-04-15 12:13:10 -0400 (Wed, 15 Apr 2020).
| Package 51/1823 | Hostname | OS / Arch | INSTALL | BUILD | CHECK | BUILD BIN | ||||||
| amplican 1.8.2 Eivind Valen
| malbec1 | Linux (Ubuntu 18.04.4 LTS) / x86_64 | OK | OK | [ OK ] | |||||||
| tokay1 | Windows Server 2012 R2 Standard / x64 | OK | OK | OK | OK | |||||||
| merida1 | OS X 10.11.6 El Capitan / x86_64 | OK | OK | OK | OK |
| Package: amplican |
| Version: 1.8.2 |
| Command: /home/biocbuild/bbs-3.10-bioc/R/bin/R CMD check --install=check:amplican.install-out.txt --library=/home/biocbuild/bbs-3.10-bioc/R/library --no-vignettes --timings amplican_1.8.2.tar.gz |
| StartedAt: 2020-04-15 05:05:31 -0400 (Wed, 15 Apr 2020) |
| EndedAt: 2020-04-15 05:09:05 -0400 (Wed, 15 Apr 2020) |
| EllapsedTime: 213.7 seconds |
| RetCode: 0 |
| Status: OK |
| CheckDir: amplican.Rcheck |
| Warnings: 0 |
##############################################################################
##############################################################################
###
### Running command:
###
### /home/biocbuild/bbs-3.10-bioc/R/bin/R CMD check --install=check:amplican.install-out.txt --library=/home/biocbuild/bbs-3.10-bioc/R/library --no-vignettes --timings amplican_1.8.2.tar.gz
###
##############################################################################
##############################################################################
* using log directory ‘/home/biocbuild/bbs-3.10-bioc/meat/amplican.Rcheck’
* using R version 3.6.3 (2020-02-29)
* using platform: x86_64-pc-linux-gnu (64-bit)
* using session charset: UTF-8
* using option ‘--no-vignettes’
* checking for file ‘amplican/DESCRIPTION’ ... OK
* checking extension type ... Package
* this is package ‘amplican’ version ‘1.8.2’
* package encoding: UTF-8
* checking package namespace information ... OK
* checking package dependencies ... OK
* checking if this is a source package ... OK
* checking if there is a namespace ... OK
* checking for hidden files and directories ... OK
* checking for portable file names ... OK
* checking for sufficient/correct file permissions ... OK
* checking whether package ‘amplican’ can be installed ... OK
* checking installed package size ... OK
* checking package directory ... OK
* checking ‘build’ directory ... OK
* checking DESCRIPTION meta-information ... OK
* checking top-level files ... OK
* checking for left-over files ... OK
* checking index information ... OK
* checking package subdirectories ... OK
* checking R files for non-ASCII characters ... OK
* checking R files for syntax errors ... OK
* checking whether the package can be loaded ... OK
* checking whether the package can be loaded with stated dependencies ... OK
* checking whether the package can be unloaded cleanly ... OK
* checking whether the namespace can be loaded with stated dependencies ... OK
* checking whether the namespace can be unloaded cleanly ... OK
* checking dependencies in R code ... OK
* checking S3 generic/method consistency ... OK
* checking replacement functions ... OK
* checking foreign function calls ... OK
* checking R code for possible problems ... OK
* checking Rd files ... OK
* checking Rd metadata ... OK
* checking Rd cross-references ... OK
* checking for missing documentation entries ... OK
* checking for code/documentation mismatches ... OK
* checking Rd \usage sections ... OK
* checking Rd contents ... OK
* checking for unstated dependencies in examples ... OK
* checking line endings in C/C++/Fortran sources/headers ... OK
* checking compiled code ... NOTE
Note: information on .o files is not available
* checking files in ‘vignettes’ ... OK
* checking examples ... OK
Examples with CPU or elapsed time > 5s
user system elapsed
amplicanPipeline 23.508 0.164 11.058
amplicanAlign 8.660 0.352 9.314
amplicanConsensus 6.556 0.028 1.996
amplicanSummarize 5.976 0.020 1.710
plot_variants 5.880 0.016 2.348
amplicanFilter 5.496 0.036 1.578
plot_heterogeneity 5.308 0.020 2.068
* checking for unstated dependencies in ‘tests’ ... OK
* checking tests ...
Running ‘testthat.R’
OK
* checking for unstated dependencies in vignettes ... OK
* checking package vignettes in ‘inst/doc’ ... OK
* checking running R code from vignettes ... SKIPPED
* checking re-building of vignette outputs ... SKIPPED
* checking PDF version of manual ... OK
* DONE
Status: 1 NOTE
See
‘/home/biocbuild/bbs-3.10-bioc/meat/amplican.Rcheck/00check.log’
for details.
amplican.Rcheck/00install.out
############################################################################## ############################################################################## ### ### Running command: ### ### /home/biocbuild/bbs-3.10-bioc/R/bin/R CMD INSTALL amplican ### ############################################################################## ############################################################################## * installing to library ‘/home/biocbuild/bbs-3.10-bioc/R/library’ * installing *source* package ‘amplican’ ... ** using staged installation ** libs g++ -std=gnu++11 -I"/home/biocbuild/bbs-3.10-bioc/R/include" -DNDEBUG -I"/home/biocbuild/bbs-3.10-bioc/R/library/Rcpp/include" -I/usr/local/include -fpic -g -O2 -Wall -c RcppExports.cpp -o RcppExports.o g++ -std=gnu++11 -I"/home/biocbuild/bbs-3.10-bioc/R/include" -DNDEBUG -I"/home/biocbuild/bbs-3.10-bioc/R/library/Rcpp/include" -I/usr/local/include -fpic -g -O2 -Wall -c bezier.cpp -o bezier.o g++ -std=gnu++11 -shared -L/home/biocbuild/bbs-3.10-bioc/R/lib -L/usr/local/lib -o amplican.so RcppExports.o bezier.o -L/home/biocbuild/bbs-3.10-bioc/R/lib -lR installing to /home/biocbuild/bbs-3.10-bioc/R/library/00LOCK-amplican/00new/amplican/libs ** R ** inst ** byte-compile and prepare package for lazy loading ** help *** installing help indices ** building package indices ** installing vignettes ** testing if installed package can be loaded from temporary location ** checking absolute paths in shared objects and dynamic libraries ** testing if installed package can be loaded from final location ** testing if installed package keeps a record of temporary installation path * DONE (amplican)
amplican.Rcheck/tests/testthat.Rout
R version 3.6.3 (2020-02-29) -- "Holding the Windsock"
Copyright (C) 2020 The R Foundation for Statistical Computing
Platform: x86_64-pc-linux-gnu (64-bit)
R is free software and comes with ABSOLUTELY NO WARRANTY.
You are welcome to redistribute it under certain conditions.
Type 'license()' or 'licence()' for distribution details.
R is a collaborative project with many contributors.
Type 'contributors()' for more information and
'citation()' on how to cite R or R packages in publications.
Type 'demo()' for some demos, 'help()' for on-line help, or
'help.start()' for an HTML browser interface to help.
Type 'q()' to quit R.
> library(testthat)
> library(amplican)
Loading required package: BiocGenerics
Loading required package: parallel
Attaching package: 'BiocGenerics'
The following objects are masked from 'package:parallel':
clusterApply, clusterApplyLB, clusterCall, clusterEvalQ,
clusterExport, clusterMap, parApply, parCapply, parLapply,
parLapplyLB, parRapply, parSapply, parSapplyLB
The following objects are masked from 'package:stats':
IQR, mad, sd, var, xtabs
The following objects are masked from 'package:base':
Filter, Find, Map, Position, Reduce, anyDuplicated, append,
as.data.frame, basename, cbind, colnames, dirname, do.call,
duplicated, eval, evalq, get, grep, grepl, intersect, is.unsorted,
lapply, mapply, match, mget, order, paste, pmax, pmax.int, pmin,
pmin.int, rank, rbind, rownames, sapply, setdiff, sort, table,
tapply, union, unique, unsplit, which, which.max, which.min
Loading required package: Biostrings
Loading required package: S4Vectors
Loading required package: stats4
Attaching package: 'S4Vectors'
The following object is masked from 'package:base':
expand.grid
Loading required package: IRanges
Loading required package: XVector
Attaching package: 'Biostrings'
The following object is masked from 'package:base':
strsplit
Loading required package: data.table
Attaching package: 'data.table'
The following object is masked from 'package:IRanges':
shift
The following objects are masked from 'package:S4Vectors':
first, second
Pease consider supporting this software by citing:
Labun et al. 2019
Accurate analysis of genuine CRISPR editing events with ampliCan.
Genome Res. 2019 Mar 8
doi: 10.1101/gr.244293.118
Without appreciation scientific software is usually abandoned and eventually deprecated, but you can easily support authors by citations.
>
> test_check("amplican")
══ testthat results ═══════════════════════════════════════════════════════════
[ OK: 56 | SKIPPED: 0 | WARNINGS: 3 | FAILED: 0 ]
>
> proc.time()
user system elapsed
64.408 0.776 48.837
amplican.Rcheck/amplican-Ex.timings
| name | user | system | elapsed | |
| AlignmentsExperimentSet-class | 2.000 | 0.016 | 2.018 | |
| amplicanAlign | 8.660 | 0.352 | 9.314 | |
| amplicanConsensus | 6.556 | 0.028 | 1.996 | |
| amplicanFilter | 5.496 | 0.036 | 1.578 | |
| amplicanMap | 0.344 | 0.004 | 0.349 | |
| amplicanNormalize | 4.892 | 0.032 | 1.367 | |
| amplicanOverlap | 0.224 | 0.004 | 0.085 | |
| amplicanPipeline | 23.508 | 0.164 | 11.058 | |
| amplicanReport | 0.008 | 0.008 | 0.019 | |
| amplicanSummarize | 5.976 | 0.020 | 1.710 | |
| amplican_print_reads | 0.364 | 0.004 | 0.389 | |
| assignedCount | 0.028 | 0.000 | 0.031 | |
| barcodeData-set | 0.008 | 0.000 | 0.009 | |
| barcodeData | 0.012 | 0.000 | 0.010 | |
| comb_along | 0.032 | 0.000 | 0.032 | |
| experimentData-set | 0.004 | 0.004 | 0.009 | |
| experimentData | 0.008 | 0.004 | 0.014 | |
| extractEvents | 3.552 | 0.044 | 3.638 | |
| findEOP | 0.004 | 0.000 | 0.005 | |
| findLQR | 0.508 | 0.000 | 0.190 | |
| findPD | 0.012 | 0.000 | 0.005 | |
| fwdReads-set | 0.008 | 0.000 | 0.010 | |
| fwdReads | 0.476 | 0.000 | 0.483 | |
| fwdReadsType-set | 0.012 | 0.000 | 0.010 | |
| fwdReadsType | 0.008 | 0.000 | 0.008 | |
| geom_bezier | 0.496 | 0.000 | 0.496 | |
| lookupAlignment | 0.324 | 0.000 | 0.324 | |
| metaplot_deletions | 1.256 | 0.008 | 0.589 | |
| metaplot_insertions | 1.060 | 0.008 | 0.588 | |
| metaplot_mismatches | 1.168 | 0.008 | 0.662 | |
| plot_cuts | 0.820 | 0.008 | 0.592 | |
| plot_deletions | 1.276 | 0.000 | 0.649 | |
| plot_height | 0.000 | 0.000 | 0.001 | |
| plot_heterogeneity | 5.308 | 0.020 | 2.068 | |
| plot_insertions | 1.484 | 0.004 | 0.969 | |
| plot_mismatches | 1.460 | 0.024 | 0.972 | |
| plot_variants | 5.880 | 0.016 | 2.348 | |
| readCounts-set | 0.008 | 0.000 | 0.009 | |
| readCounts | 0.008 | 0.000 | 0.008 | |
| rveReads-set | 0.008 | 0.000 | 0.009 | |
| rveReads | 0.540 | 0.000 | 0.539 | |
| rveReadsType-set | 0.008 | 0.000 | 0.009 | |
| rveReadsType | 0.008 | 0.000 | 0.007 | |
| unassignedCount | 0.008 | 0.000 | 0.007 | |
| unassignedData-set | 0.008 | 0.000 | 0.008 | |
| unassignedData | 0.008 | 0.000 | 0.009 | |
| writeAlignments | 0.032 | 0.000 | 0.033 | |