| Back to Multiple platform build/check report for BioC 3.10 |
|
This page was generated on 2020-04-15 12:08:26 -0400 (Wed, 15 Apr 2020).
| Package 47/1823 | Hostname | OS / Arch | INSTALL | BUILD | CHECK | BUILD BIN | ||||||
| alsace 1.22.0 Ron Wehrens
| malbec1 | Linux (Ubuntu 18.04.4 LTS) / x86_64 | OK | OK | [ OK ] | |||||||
| tokay1 | Windows Server 2012 R2 Standard / x64 | OK | OK | OK | OK | |||||||
| merida1 | OS X 10.11.6 El Capitan / x86_64 | OK | OK | OK | OK |
| Package: alsace |
| Version: 1.22.0 |
| Command: /home/biocbuild/bbs-3.10-bioc/R/bin/R CMD check --install=check:alsace.install-out.txt --library=/home/biocbuild/bbs-3.10-bioc/R/library --no-vignettes --timings alsace_1.22.0.tar.gz |
| StartedAt: 2020-04-15 02:04:29 -0400 (Wed, 15 Apr 2020) |
| EndedAt: 2020-04-15 02:05:34 -0400 (Wed, 15 Apr 2020) |
| EllapsedTime: 64.7 seconds |
| RetCode: 0 |
| Status: OK |
| CheckDir: alsace.Rcheck |
| Warnings: 0 |
##############################################################################
##############################################################################
###
### Running command:
###
### /home/biocbuild/bbs-3.10-bioc/R/bin/R CMD check --install=check:alsace.install-out.txt --library=/home/biocbuild/bbs-3.10-bioc/R/library --no-vignettes --timings alsace_1.22.0.tar.gz
###
##############################################################################
##############################################################################
* using log directory ‘/home/biocbuild/bbs-3.10-bioc/meat/alsace.Rcheck’
* using R version 3.6.3 (2020-02-29)
* using platform: x86_64-pc-linux-gnu (64-bit)
* using session charset: UTF-8
* using option ‘--no-vignettes’
* checking for file ‘alsace/DESCRIPTION’ ... OK
* checking extension type ... Package
* this is package ‘alsace’ version ‘1.22.0’
* checking package namespace information ... OK
* checking package dependencies ... OK
* checking if this is a source package ... OK
* checking if there is a namespace ... OK
* checking for hidden files and directories ... OK
* checking for portable file names ... OK
* checking for sufficient/correct file permissions ... OK
* checking whether package ‘alsace’ can be installed ... OK
* checking installed package size ... OK
* checking package directory ... OK
* checking ‘build’ directory ... OK
* checking DESCRIPTION meta-information ... OK
* checking top-level files ... OK
* checking for left-over files ... OK
* checking index information ... OK
* checking package subdirectories ... OK
* checking R files for non-ASCII characters ... OK
* checking R files for syntax errors ... OK
* checking whether the package can be loaded ... OK
* checking whether the package can be loaded with stated dependencies ... OK
* checking whether the package can be unloaded cleanly ... OK
* checking whether the namespace can be loaded with stated dependencies ... OK
* checking whether the namespace can be unloaded cleanly ... OK
* checking dependencies in R code ... NOTE
'library' or 'require' call to ‘lattice’ in package code.
Please use :: or requireNamespace() instead.
See section 'Suggested packages' in the 'Writing R Extensions' manual.
* checking S3 generic/method consistency ... OK
* checking replacement functions ... OK
* checking foreign function calls ... OK
* checking R code for possible problems ... NOTE
getPeakTable : clusterPeaks: no visible global function definition for
‘stripplot’
getPeakTable : clusterPeaks : <anonymous>: no visible global function
definition for ‘panel.stripplot’
getPeakTable : clusterPeaks : <anonymous>: no visible global function
definition for ‘panel.abline’
Undefined global functions or variables:
panel.abline panel.stripplot stripplot
* checking Rd files ... OK
* checking Rd metadata ... OK
* checking Rd cross-references ... OK
* checking for missing documentation entries ... OK
* checking for code/documentation mismatches ... OK
* checking Rd \usage sections ... OK
* checking Rd contents ... OK
* checking for unstated dependencies in examples ... OK
* checking contents of ‘data’ directory ... OK
* checking data for non-ASCII characters ... OK
* checking data for ASCII and uncompressed saves ... OK
* checking files in ‘vignettes’ ... OK
* checking examples ... OK
Examples with CPU or elapsed time > 5s
user system elapsed
components 12.664 0.036 12.743
teaMerged 8.112 0.016 8.146
doALS 5.940 0.000 5.943
fitpeaks 5.724 0.000 5.730
* checking for unstated dependencies in vignettes ... OK
* checking package vignettes in ‘inst/doc’ ... OK
* checking running R code from vignettes ... SKIPPED
* checking re-building of vignette outputs ... SKIPPED
* checking PDF version of manual ... OK
* DONE
Status: 2 NOTEs
See
‘/home/biocbuild/bbs-3.10-bioc/meat/alsace.Rcheck/00check.log’
for details.
alsace.Rcheck/00install.out
############################################################################## ############################################################################## ### ### Running command: ### ### /home/biocbuild/bbs-3.10-bioc/R/bin/R CMD INSTALL alsace ### ############################################################################## ############################################################################## * installing to library ‘/home/biocbuild/bbs-3.10-bioc/R/library’ * installing *source* package ‘alsace’ ... ** using staged installation ** R ** data ** byte-compile and prepare package for lazy loading ** help *** installing help indices ** building package indices ** installing vignettes ** testing if installed package can be loaded from temporary location ** testing if installed package can be loaded from final location ** testing if installed package keeps a record of temporary installation path * DONE (alsace)
alsace.Rcheck/alsace-Ex.timings
| name | user | system | elapsed | |
| components | 12.664 | 0.036 | 12.743 | |
| correctPeaks | 4.504 | 0.000 | 4.514 | |
| correctRT | 2.432 | 0.004 | 2.438 | |
| doALS | 5.940 | 0.000 | 5.943 | |
| filterPeaks | 0.044 | 0.004 | 0.050 | |
| fitpeaks | 5.724 | 0.000 | 5.730 | |
| getAllPeaks | 0.056 | 0.000 | 0.055 | |
| getPeakTable | 2.592 | 0.000 | 2.600 | |
| opa | 1.368 | 0.000 | 1.371 | |
| preprocess | 0.148 | 0.000 | 0.151 | |
| showALSresult | 0.140 | 0.000 | 0.141 | |
| tea | 0.144 | 0.004 | 0.148 | |
| teaMerged | 8.112 | 0.016 | 8.146 | |
| windows | 0.144 | 0.000 | 0.148 | |