| Back to Multiple platform build/check report for BioC 3.10 |
|
This page was generated on 2020-04-15 12:35:43 -0400 (Wed, 15 Apr 2020).
| Package 26/1823 | Hostname | OS / Arch | INSTALL | BUILD | CHECK | BUILD BIN | ||||||
| affyContam 1.44.0 V. Carey
| malbec1 | Linux (Ubuntu 18.04.4 LTS) / x86_64 | OK | OK | OK | |||||||
| tokay1 | Windows Server 2012 R2 Standard / x64 | OK | OK | OK | OK | |||||||
| merida1 | OS X 10.11.6 El Capitan / x86_64 | OK | OK | OK | [ OK ] |
| Package: affyContam |
| Version: 1.44.0 |
| Command: rm -rf affyContam.buildbin-libdir && mkdir affyContam.buildbin-libdir && /Users/biocbuild/BBS/utils/build-universal.sh affyContam_1.44.0.tar.gz /Library/Frameworks/R.framework/Versions/Current/Resources/bin/R affyContam.buildbin-libdir |
| StartedAt: 2020-04-15 06:46:59 -0400 (Wed, 15 Apr 2020) |
| EndedAt: 2020-04-15 06:47:42 -0400 (Wed, 15 Apr 2020) |
| EllapsedTime: 42.7 seconds |
| RetCode: 0 |
| Status: OK |
| PackageFile: affyContam_1.44.0.tgz |
| PackageFileSize: 231.7 KiB |
##############################################################################
##############################################################################
###
### Running command:
###
### rm -rf affyContam.buildbin-libdir && mkdir affyContam.buildbin-libdir && /Users/biocbuild/BBS/utils/build-universal.sh affyContam_1.44.0.tar.gz /Library/Frameworks/R.framework/Versions/Current/Resources/bin/R affyContam.buildbin-libdir
###
##############################################################################
##############################################################################
>>>>>>>
>>>>>>> INSTALLATION WITH 'R CMD INSTALL --preclean --no-multiarch --library=affyContam.buildbin-libdir affyContam_1.44.0.tar.gz'
>>>>>>>
* installing *source* package ‘affyContam’ ...
** using staged installation
** R
** inst
** byte-compile and prepare package for lazy loading
Package
[1,] "affydata"
LibPath
[1,] "/Library/Frameworks/R.framework/Versions/3.6/Resources/library"
Item Title
[1,] "Dilution" "AffyBatch instance Dilution"
** help
*** installing help indices
** building package indices
** installing vignettes
** testing if installed package can be loaded from temporary location
Package
[1,] "affydata"
LibPath
[1,] "/Library/Frameworks/R.framework/Versions/3.6/Resources/library"
Item Title
[1,] "Dilution" "AffyBatch instance Dilution"
** testing if installed package can be loaded from final location
Package
[1,] "affydata"
LibPath
[1,] "/Library/Frameworks/R.framework/Versions/3.6/Resources/library"
Item Title
[1,] "Dilution" "AffyBatch instance Dilution"
** testing if installed package keeps a record of temporary installation path
* DONE (affyContam)