| Back to Multiple platform build/check report for BioC 3.10 |
|
This page was generated on 2020-04-15 12:32:47 -0400 (Wed, 15 Apr 2020).
| Package 1795/1823 | Hostname | OS / Arch | INSTALL | BUILD | CHECK | BUILD BIN | ||||||
| ViSEAGO 1.0.0 Aurelien Brionne
| malbec1 | Linux (Ubuntu 18.04.4 LTS) / x86_64 | OK | OK | WARNINGS | |||||||
| tokay1 | Windows Server 2012 R2 Standard / x64 | OK | OK | WARNINGS | [ OK ] | |||||||
| merida1 | OS X 10.11.6 El Capitan / x86_64 | OK | OK | WARNINGS | OK |
| Package: ViSEAGO |
| Version: 1.0.0 |
| Command: rm -rf ViSEAGO.buildbin-libdir && mkdir ViSEAGO.buildbin-libdir && C:\Users\biocbuild\bbs-3.10-bioc\R\bin\R.exe CMD INSTALL --merge-multiarch --build --library=ViSEAGO.buildbin-libdir ViSEAGO_1.0.0.tar.gz |
| StartedAt: 2020-04-15 09:53:16 -0400 (Wed, 15 Apr 2020) |
| EndedAt: 2020-04-15 09:53:48 -0400 (Wed, 15 Apr 2020) |
| EllapsedTime: 31.7 seconds |
| RetCode: 0 |
| Status: OK |
| PackageFile: ViSEAGO_1.0.0.zip |
| PackageFileSize: 4.601 MiB |
##############################################################################
##############################################################################
###
### Running command:
###
### rm -rf ViSEAGO.buildbin-libdir && mkdir ViSEAGO.buildbin-libdir && C:\Users\biocbuild\bbs-3.10-bioc\R\bin\R.exe CMD INSTALL --merge-multiarch --build --library=ViSEAGO.buildbin-libdir ViSEAGO_1.0.0.tar.gz
###
##############################################################################
##############################################################################
install for i386
* installing *source* package 'ViSEAGO' ...
** using staged installation
** R
** data
** inst
** byte-compile and prepare package for lazy loading
** help
*** installing help indices
converting help for package 'ViSEAGO'
finding HTML links ... done
Bioconductor2GO html
Custom2GO html
Ensembl2GO html
EntrezGene2GO html
EntrezGene_orthologs html
GO_SS-class html
GO_clusters-class html
GOclusters_heatmap-methods html
GOcount-methods html
GOterms_heatmap-methods html
MDSplot-methods html
Uniprot2GO html
Upset-methods html
ViSEAGO html
annotate-methods html
available_organisms-methods html
build_GO_SS-methods html
clusters_cor-methods html
compare_clusters-methods html
compute_SS_distances-methods html
create_topGOdata-methods html
enrich_GO_terms-class html
gene2GO-class html
genomic_ressource-class html
merge_enrich_terms-methods html
myGOs html
overLapper html
finding level-2 HTML links ... done
pkgdiagram html
show_heatmap-methods html
show_table-methods html
taxonomy html
** building package indices
** installing vignettes
** testing if installed package can be loaded from temporary location
** testing if installed package can be loaded from final location
** testing if installed package keeps a record of temporary installation path
install for x64
* installing *source* package 'ViSEAGO' ...
** testing if installed package can be loaded
* MD5 sums
packaged installation of 'ViSEAGO' as ViSEAGO_1.0.0.zip
* DONE (ViSEAGO)