| Back to Multiple platform build/check report for BioC 3.10 | 
  | 
This page was generated on 2020-04-15 12:06:53 -0400 (Wed, 15 Apr 2020).
| Package 1791/1823 | Hostname | OS / Arch | INSTALL | BUILD | CHECK | BUILD BIN | ||||||
| VegaMC 3.24.0 Sandro Morganella 
  | malbec1 | Linux (Ubuntu 18.04.4 LTS) / x86_64 | [ OK ] | OK | OK | |||||||
| tokay1 | Windows Server 2012 R2 Standard / x64 | OK | OK | OK | OK | |||||||
| merida1 | OS X 10.11.6 El Capitan / x86_64 | OK | OK | WARNINGS | OK | 
| Package: VegaMC | 
| Version: 3.24.0 | 
| Command: /home/biocbuild/bbs-3.10-bioc/R/bin/R CMD INSTALL VegaMC | 
| StartedAt: 2020-04-14 18:40:39 -0400 (Tue, 14 Apr 2020) | 
| EndedAt: 2020-04-14 18:41:05 -0400 (Tue, 14 Apr 2020) | 
| EllapsedTime: 26.2 seconds | 
| RetCode: 0 | 
| Status: OK | 
##############################################################################
##############################################################################
###
### Running command:
###
###   /home/biocbuild/bbs-3.10-bioc/R/bin/R CMD INSTALL VegaMC
###
##############################################################################
##############################################################################
* installing to library ‘/home/biocbuild/bbs-3.10-bioc/R/library’
* installing *source* package ‘VegaMC’ ...
** using staged installation
** libs
gcc -I"/home/biocbuild/bbs-3.10-bioc/R/include" -DNDEBUG   -I/usr/local/include  -fpic  -g -O2  -Wall -c run_vegaMC.c -o run_vegaMC.o
run_vegaMC.c: In function ‘read_params’:
run_vegaMC.c:618:18: warning: unused variable ‘brkt’ [-Wunused-variable]
     char *elem, *brkt;
                  ^~~~
run_vegaMC.c: In function ‘load_data’:
run_vegaMC.c:534:32: warning: ‘chr’ may be used uninitialized in this function [-Wmaybe-uninitialized]
         temp_probe->chromosome = chr;
         ~~~~~~~~~~~~~~~~~~~~~~~^~~~~
run_vegaMC.c:535:30: warning: ‘position’ may be used uninitialized in this function [-Wmaybe-uninitialized]
         temp_probe->position = position;
         ~~~~~~~~~~~~~~~~~~~~~^~~~~~~~~~
run_vegaMC.c:564:14: warning: ‘first_probe’ may be used uninitialized in this function [-Wmaybe-uninitialized]
     prev_chr = temp_probe->chromosome;
     ~~~~~~~~~^~~~~~~~~~~~~~~~~~~~~~~~
run_vegaMC.c: In function ‘call_VegaMC’:
run_vegaMC.c:461:29: warning: ‘first_seg’ may be used uninitialized in this function [-Wmaybe-uninitialized]
         for (i = 0; i < (tmp->num_regions); i++) {
                         ~~~~^~~~~~~~~~~~~~
run_vegaMC.c:435:32: warning: ‘prev_seg’ may be used uninitialized in this function [-Wmaybe-uninitialized]
                 prev_seg->next = tmp;
                 ~~~~~~~~~~~~~~~^~~~~
gcc -I"/home/biocbuild/bbs-3.10-bioc/R/include" -DNDEBUG   -I/usr/local/include  -fpic  -g -O2  -Wall -c sort_data.c -o sort_data.o
gcc -I"/home/biocbuild/bbs-3.10-bioc/R/include" -DNDEBUG   -I/usr/local/include  -fpic  -g -O2  -Wall -c vegaMC.c -o vegaMC.o
vegaMC.c: In function ‘heap_delete’:
vegaMC.c:235:10: warning: variable ‘deleted’ set but not used [-Wunused-but-set-variable]
     node deleted;
          ^~~~~~~
vegaMC.c: In function ‘init_trivial_segmentation’:
vegaMC.c:592:15: warning: variable ‘index’ set but not used [-Wunused-but-set-variable]
     int i, j, index;
               ^~~~~
gcc -shared -L/home/biocbuild/bbs-3.10-bioc/R/lib -L/usr/local/lib -o VegaMC.so run_vegaMC.o sort_data.o vegaMC.o -L/home/biocbuild/bbs-3.10-bioc/R/lib -lR
installing to /home/biocbuild/bbs-3.10-bioc/R/library/00LOCK-VegaMC/00new/VegaMC/libs
** R
** inst
** byte-compile and prepare package for lazy loading
** help
*** installing help indices
** building package indices
** installing vignettes
** testing if installed package can be loaded from temporary location
** checking absolute paths in shared objects and dynamic libraries
** testing if installed package can be loaded from final location
** testing if installed package keeps a record of temporary installation path
* DONE (VegaMC)