| Back to Multiple platform build/check report for BioC 3.10 |
|
This page was generated on 2020-04-15 12:19:37 -0400 (Wed, 15 Apr 2020).
| Package 1790/1823 | Hostname | OS / Arch | INSTALL | BUILD | CHECK | BUILD BIN | ||||||
| Vega 1.34.0 Sandro Morganella
| malbec1 | Linux (Ubuntu 18.04.4 LTS) / x86_64 | OK | OK | OK | |||||||
| tokay1 | Windows Server 2012 R2 Standard / x64 | OK | OK | OK | [ OK ] | |||||||
| merida1 | OS X 10.11.6 El Capitan / x86_64 | OK | OK | WARNINGS | OK |
| Package: Vega |
| Version: 1.34.0 |
| Command: rm -rf Vega.buildbin-libdir && mkdir Vega.buildbin-libdir && C:\Users\biocbuild\bbs-3.10-bioc\R\bin\R.exe CMD INSTALL --merge-multiarch --build --library=Vega.buildbin-libdir Vega_1.34.0.tar.gz |
| StartedAt: 2020-04-15 09:52:58 -0400 (Wed, 15 Apr 2020) |
| EndedAt: 2020-04-15 09:53:33 -0400 (Wed, 15 Apr 2020) |
| EllapsedTime: 34.7 seconds |
| RetCode: 0 |
| Status: OK |
| PackageFile: Vega_1.34.0.zip |
| PackageFileSize: 673.7 KiB |
##############################################################################
##############################################################################
###
### Running command:
###
### rm -rf Vega.buildbin-libdir && mkdir Vega.buildbin-libdir && C:\Users\biocbuild\bbs-3.10-bioc\R\bin\R.exe CMD INSTALL --merge-multiarch --build --library=Vega.buildbin-libdir Vega_1.34.0.tar.gz
###
##############################################################################
##############################################################################
install for i386
* installing *source* package 'Vega' ...
** using staged installation
** libs
C:/Rtools/mingw_32/bin/gcc -I"C:/Users/BIOCBU~1/BBS-3~1.10-/R/include" -DNDEBUG -I"C:/extsoft/include" -O3 -Wall -std=gnu99 -mtune=core2 -c vega.c -o vega.o
vega.c: In function 'heap_delete':
vega.c:201:8: warning: variable 'deleted' set but not used [-Wunused-but-set-variable]
node deleted;
^
vega.c: In function 'vega':
vega.c:355:13: warning: unused variable 'maxptr' [-Wunused-variable]
node max, *maxptr, tmp_node;
^
vega.c:348:68: warning: unused variable 'tmp_lambda2' [-Wunused-variable]
double lambda, lambda_gradient, stop_lambda_gradient, tmp_lambda, tmp_lambda2;
^
vega.c:347:6: warning: unused variable 'index' [-Wunused-variable]
int index;
^
vega.c: In function 'update_priority':
vega.c:560:64: warning: unused variable 'next_mean' [-Wunused-variable]
double lambda, first_term, second_term, prev_mean, curr_mean, next_mean;
^
C:/Rtools/mingw_32/bin/gcc -shared -s -static-libgcc -o Vega.dll tmp.def vega.o -LC:/extsoft/lib/i386 -LC:/extsoft/lib -LC:/Users/BIOCBU~1/BBS-3~1.10-/R/bin/i386 -lR
installing to C:/Users/biocbuild/bbs-3.10-bioc/meat/Vega.buildbin-libdir/00LOCK-Vega/00new/Vega/libs/i386
** R
** data
** inst
** byte-compile and prepare package for lazy loading
** help
*** installing help indices
converting help for package 'Vega'
finding HTML links ... done
G519 html
Vega-package html
plotSegmentation html
vega html
** building package indices
** installing vignettes
** testing if installed package can be loaded from temporary location
** testing if installed package can be loaded from final location
** testing if installed package keeps a record of temporary installation path
install for x64
* installing *source* package 'Vega' ...
** libs
C:/Rtools/mingw_64/bin/gcc -I"C:/Users/BIOCBU~1/BBS-3~1.10-/R/include" -DNDEBUG -I"C:/extsoft/include" -O2 -Wall -std=gnu99 -mtune=core2 -c vega.c -o vega.o
vega.c: In function 'heap_delete':
vega.c:201:8: warning: variable 'deleted' set but not used [-Wunused-but-set-variable]
node deleted;
^
vega.c: In function 'vega':
vega.c:355:13: warning: unused variable 'maxptr' [-Wunused-variable]
node max, *maxptr, tmp_node;
^
vega.c:348:68: warning: unused variable 'tmp_lambda2' [-Wunused-variable]
double lambda, lambda_gradient, stop_lambda_gradient, tmp_lambda, tmp_lambda2;
^
vega.c:347:6: warning: unused variable 'index' [-Wunused-variable]
int index;
^
vega.c: In function 'update_priority':
vega.c:560:64: warning: unused variable 'next_mean' [-Wunused-variable]
double lambda, first_term, second_term, prev_mean, curr_mean, next_mean;
^
C:/Rtools/mingw_64/bin/gcc -shared -s -static-libgcc -o Vega.dll tmp.def vega.o -LC:/extsoft/lib/x64 -LC:/extsoft/lib -LC:/Users/BIOCBU~1/BBS-3~1.10-/R/bin/x64 -lR
installing to C:/Users/biocbuild/bbs-3.10-bioc/meat/Vega.buildbin-libdir/Vega/libs/x64
** testing if installed package can be loaded
* MD5 sums
packaged installation of 'Vega' as Vega_1.34.0.zip
* DONE (Vega)