| Back to Multiple platform build/check report for BioC 3.10 |
|
This page was generated on 2020-04-15 12:26:15 -0400 (Wed, 15 Apr 2020).
| Package 1779/1823 | Hostname | OS / Arch | INSTALL | BUILD | CHECK | BUILD BIN | ||||||
| Uniquorn 2.6.0 'Raik Otto'
| malbec1 | Linux (Ubuntu 18.04.4 LTS) / x86_64 | OK | OK | OK | |||||||
| tokay1 | Windows Server 2012 R2 Standard / x64 | OK | OK | OK | [ OK ] | |||||||
| merida1 | OS X 10.11.6 El Capitan / x86_64 | OK | OK | OK | OK |
| Package: Uniquorn |
| Version: 2.6.0 |
| Command: rm -rf Uniquorn.buildbin-libdir && mkdir Uniquorn.buildbin-libdir && C:\Users\biocbuild\bbs-3.10-bioc\R\bin\R.exe CMD INSTALL --merge-multiarch --build --library=Uniquorn.buildbin-libdir Uniquorn_2.6.0.tar.gz |
| StartedAt: 2020-04-15 09:52:22 -0400 (Wed, 15 Apr 2020) |
| EndedAt: 2020-04-15 09:53:13 -0400 (Wed, 15 Apr 2020) |
| EllapsedTime: 51.0 seconds |
| RetCode: 0 |
| Status: OK |
| PackageFile: Uniquorn_2.6.0.zip |
| PackageFileSize: 2.292 MiB |
##############################################################################
##############################################################################
###
### Running command:
###
### rm -rf Uniquorn.buildbin-libdir && mkdir Uniquorn.buildbin-libdir && C:\Users\biocbuild\bbs-3.10-bioc\R\bin\R.exe CMD INSTALL --merge-multiarch --build --library=Uniquorn.buildbin-libdir Uniquorn_2.6.0.tar.gz
###
##############################################################################
##############################################################################
install for i386
* installing *source* package 'Uniquorn' ...
** using staged installation
** R
** inst
** byte-compile and prepare package for lazy loading
** help
*** installing help indices
converting help for package 'Uniquorn'
finding HTML links ... done
add_custom_vcf_to_database html
add_missing_cls html
add_p_q_values_statistics html
add_penalty_statistics html
create_bed_file html
identify_vcf_file html
init_and_load_identification html
initiate_canonical_databases html
match_query_ccl_to_database html
parse_ccle_genotype_data html
parse_cosmic_genotype_data html
parse_vcf_file html
parse_vcf_query_into_db html
read_library_names html
read_mutation_grange_objects html
remove_ccls_from_database html
remove_library_from_database html
show_contained_ccls html
show_contained_variants_for_ccl html
show_contained_variants_in_library html
show_which_ccls_contain_variant html
** building package indices
** installing vignettes
** testing if installed package can be loaded from temporary location
** testing if installed package can be loaded from final location
** testing if installed package keeps a record of temporary installation path
install for x64
* installing *source* package 'Uniquorn' ...
** testing if installed package can be loaded
* MD5 sums
packaged installation of 'Uniquorn' as Uniquorn_2.6.0.zip
* DONE (Uniquorn)