| Back to Multiple platform build/check report for BioC 3.10 |
|
This page was generated on 2020-04-15 12:29:18 -0400 (Wed, 15 Apr 2020).
| Package 1732/1823 | Hostname | OS / Arch | INSTALL | BUILD | CHECK | BUILD BIN | ||||||
| TnT 1.8.1 Jialin Ma
| malbec1 | Linux (Ubuntu 18.04.4 LTS) / x86_64 | OK | OK | OK | |||||||
| tokay1 | Windows Server 2012 R2 Standard / x64 | OK | OK | WARNINGS | [ OK ] | |||||||
| merida1 | OS X 10.11.6 El Capitan / x86_64 | OK | OK | OK | OK |
| Package: TnT |
| Version: 1.8.1 |
| Command: rm -rf TnT.buildbin-libdir && mkdir TnT.buildbin-libdir && C:\Users\biocbuild\bbs-3.10-bioc\R\bin\R.exe CMD INSTALL --merge-multiarch --build --library=TnT.buildbin-libdir TnT_1.8.1.tar.gz |
| StartedAt: 2020-04-15 09:49:42 -0400 (Wed, 15 Apr 2020) |
| EndedAt: 2020-04-15 09:50:34 -0400 (Wed, 15 Apr 2020) |
| EllapsedTime: 51.3 seconds |
| RetCode: 0 |
| Status: OK |
| PackageFile: TnT_1.8.1.zip |
| PackageFileSize: 512.7 KiB |
##############################################################################
##############################################################################
###
### Running command:
###
### rm -rf TnT.buildbin-libdir && mkdir TnT.buildbin-libdir && C:\Users\biocbuild\bbs-3.10-bioc\R\bin\R.exe CMD INSTALL --merge-multiarch --build --library=TnT.buildbin-libdir TnT_1.8.1.tar.gz
###
##############################################################################
##############################################################################
install for i386
* installing *source* package 'TnT' ...
** using staged installation
** R
** inst
** byte-compile and prepare package for lazy loading
** help
*** installing help indices
converting help for package 'TnT'
finding HTML links ... done
TnT-shiny html
composite-track html
knit_print.TnTBoard html
mapcol html
Rd warning: C:/Users/biocbuild/bbs-3.10-bioc/tmpdir/RtmpIXCxBv/R.INSTALL18c8d282bdc/TnT/man/mapcol.Rd:13: file link 'terrain.colors' in package 'grDevices' does not exist and so has been treated as a topic
range-TnTBoard-method html
Rd warning: C:/Users/biocbuild/bbs-3.10-bioc/tmpdir/RtmpIXCxBv/R.INSTALL18c8d282bdc/TnT/man/range-TnTBoard-method.Rd:12: file link 'range,GenomicRanges-method' in package 'GenomicRanges' does not exist and so has been treated as a topic
range-TnTTrack html
Rd warning: C:/Users/biocbuild/bbs-3.10-bioc/tmpdir/RtmpIXCxBv/R.INSTALL18c8d282bdc/TnT/man/range-TnTTrack.Rd:16: file link 'range,GenomicRanges-method' in package 'GenomicRanges' does not exist and so has been treated as a topic
saveTnT html
seqinfo html
strandlabel html
tntboard html
tooltip html
track-constructors html
trackSpec html
trackWidget html
trackdata html
tracklist html
** building package indices
** installing vignettes
** testing if installed package can be loaded from temporary location
** testing if installed package can be loaded from final location
** testing if installed package keeps a record of temporary installation path
install for x64
* installing *source* package 'TnT' ...
** testing if installed package can be loaded
* MD5 sums
packaged installation of 'TnT' as TnT_1.8.1.zip
* DONE (TnT)