| Back to Multiple platform build/check report for BioC 3.10 |
|
This page was generated on 2020-04-15 12:42:30 -0400 (Wed, 15 Apr 2020).
| Package 1706/1823 | Hostname | OS / Arch | INSTALL | BUILD | CHECK | BUILD BIN | ||||||
| TarSeqQC 1.16.0 Gabriela Merino
| malbec1 | Linux (Ubuntu 18.04.4 LTS) / x86_64 | OK | OK | OK | |||||||
| tokay1 | Windows Server 2012 R2 Standard / x64 | OK | OK | OK | OK | |||||||
| merida1 | OS X 10.11.6 El Capitan / x86_64 | OK | OK | [ OK ] | OK |
| Package: TarSeqQC |
| Version: 1.16.0 |
| Command: /Library/Frameworks/R.framework/Versions/Current/Resources/bin/R CMD check --install=check:TarSeqQC.install-out.txt --library=/Library/Frameworks/R.framework/Versions/Current/Resources/library --no-vignettes --timings TarSeqQC_1.16.0.tar.gz |
| StartedAt: 2020-04-15 06:06:01 -0400 (Wed, 15 Apr 2020) |
| EndedAt: 2020-04-15 06:11:10 -0400 (Wed, 15 Apr 2020) |
| EllapsedTime: 309.3 seconds |
| RetCode: 0 |
| Status: OK |
| CheckDir: TarSeqQC.Rcheck |
| Warnings: 0 |
##############################################################################
##############################################################################
###
### Running command:
###
### /Library/Frameworks/R.framework/Versions/Current/Resources/bin/R CMD check --install=check:TarSeqQC.install-out.txt --library=/Library/Frameworks/R.framework/Versions/Current/Resources/library --no-vignettes --timings TarSeqQC_1.16.0.tar.gz
###
##############################################################################
##############################################################################
* using log directory ‘/Users/biocbuild/bbs-3.10-bioc/meat/TarSeqQC.Rcheck’
* using R version 3.6.3 (2020-02-29)
* using platform: x86_64-apple-darwin15.6.0 (64-bit)
* using session charset: UTF-8
* using option ‘--no-vignettes’
* checking for file ‘TarSeqQC/DESCRIPTION’ ... OK
* checking extension type ... Package
* this is package ‘TarSeqQC’ version ‘1.16.0’
* checking package namespace information ... OK
* checking package dependencies ... OK
* checking if this is a source package ... OK
* checking if there is a namespace ... OK
* checking for hidden files and directories ... OK
* checking for portable file names ... OK
* checking for sufficient/correct file permissions ... OK
* checking whether package ‘TarSeqQC’ can be installed ... OK
* checking installed package size ... OK
* checking package directory ... OK
* checking ‘build’ directory ... OK
* checking DESCRIPTION meta-information ... OK
* checking top-level files ... OK
* checking for left-over files ... OK
* checking index information ... OK
* checking package subdirectories ... OK
* checking R files for non-ASCII characters ... OK
* checking R files for syntax errors ... OK
* checking whether the package can be loaded ... OK
* checking whether the package can be loaded with stated dependencies ... OK
* checking whether the package can be unloaded cleanly ... OK
* checking whether the namespace can be loaded with stated dependencies ... OK
* checking whether the namespace can be unloaded cleanly ... OK
* checking dependencies in R code ... OK
* checking S3 generic/method consistency ... OK
* checking replacement functions ... OK
* checking foreign function calls ... OK
* checking R code for possible problems ... NOTE
plotNtdPercentage,TargetExperiment: no visible global function
definition for ‘path’
plotRegion,TargetExperiment: no visible global function definition for
‘path’
readFrequencies,TargetExperiment: no visible global function definition
for ‘path’
Undefined global functions or variables:
path
* checking Rd files ... OK
* checking Rd metadata ... OK
* checking Rd cross-references ... OK
* checking for missing documentation entries ... OK
* checking for code/documentation mismatches ... OK
* checking Rd \usage sections ... OK
* checking Rd contents ... OK
* checking for unstated dependencies in examples ... OK
* checking contents of ‘data’ directory ... OK
* checking data for non-ASCII characters ... OK
* checking data for ASCII and uncompressed saves ... OK
* checking sizes of PDF files under ‘inst/doc’ ... OK
* checking files in ‘vignettes’ ... OK
* checking examples ... OK
Examples with CPU or elapsed time > 5s
user system elapsed
TargetExperiment-class 20.761 5.848 15.673
TargetExperiment-plotRegion 7.748 3.165 3.321
* checking for unstated dependencies in ‘tests’ ... OK
* checking tests ...
Running ‘runTests.R’
OK
* checking for unstated dependencies in vignettes ... OK
* checking package vignettes in ‘inst/doc’ ... OK
* checking running R code from vignettes ... SKIPPED
* checking re-building of vignette outputs ... SKIPPED
* checking PDF version of manual ... OK
* DONE
Status: 1 NOTE
See
‘/Users/biocbuild/bbs-3.10-bioc/meat/TarSeqQC.Rcheck/00check.log’
for details.
TarSeqQC.Rcheck/00install.out
############################################################################## ############################################################################## ### ### Running command: ### ### /Library/Frameworks/R.framework/Versions/Current/Resources/bin/R CMD INSTALL TarSeqQC ### ############################################################################## ############################################################################## * installing to library ‘/Library/Frameworks/R.framework/Versions/3.6/Resources/library’ * installing *source* package ‘TarSeqQC’ ... ** using staged installation ** R ** data ** inst ** byte-compile and prepare package for lazy loading ** help *** installing help indices ** building package indices ** installing vignettes ** testing if installed package can be loaded from temporary location ** testing if installed package can be loaded from final location ** testing if installed package keeps a record of temporary installation path * DONE (TarSeqQC)
TarSeqQC.Rcheck/tests/runTests.Rout
R version 3.6.3 (2020-02-29) -- "Holding the Windsock"
Copyright (C) 2020 The R Foundation for Statistical Computing
Platform: x86_64-apple-darwin15.6.0 (64-bit)
R is free software and comes with ABSOLUTELY NO WARRANTY.
You are welcome to redistribute it under certain conditions.
Type 'license()' or 'licence()' for distribution details.
R is a collaborative project with many contributors.
Type 'contributors()' for more information and
'citation()' on how to cite R or R packages in publications.
Type 'demo()' for some demos, 'help()' for on-line help, or
'help.start()' for an HTML browser interface to help.
Type 'q()' to quit R.
> BiocGenerics:::testPackage("TarSeqQC")
Attaching package: 'BiocGenerics'
The following objects are masked from 'package:parallel':
clusterApply, clusterApplyLB, clusterCall, clusterEvalQ,
clusterExport, clusterMap, parApply, parCapply, parLapply,
parLapplyLB, parRapply, parSapply, parSapplyLB
The following objects are masked from 'package:stats':
IQR, mad, sd, var, xtabs
The following objects are masked from 'package:base':
Filter, Find, Map, Position, Reduce, anyDuplicated, append,
as.data.frame, basename, cbind, colnames, dirname, do.call,
duplicated, eval, evalq, get, grep, grepl, intersect, is.unsorted,
lapply, mapply, match, mget, order, paste, pmax, pmax.int, pmin,
pmin.int, rank, rbind, rownames, sapply, setdiff, sort, table,
tapply, union, unique, unsplit, which, which.max, which.min
Attaching package: 'S4Vectors'
The following object is masked from 'package:base':
expand.grid
Attaching package: 'Biostrings'
The following object is masked from 'package:base':
strsplit
Attaching package: 'plyr'
The following object is masked from 'package:XVector':
compact
The following object is masked from 'package:IRanges':
desc
The following object is masked from 'package:S4Vectors':
rename
RUNIT TEST PROTOCOL -- Wed Apr 15 06:11:01 2020
***********************************************
Number of test functions: 33
Number of errors: 0
Number of failures: 0
1 Test Suite :
TarSeqQC RUnit Tests - 33 test functions, 0 errors, 0 failures
Number of test functions: 33
Number of errors: 0
Number of failures: 0
>
> proc.time()
user system elapsed
21.710 3.571 21.092
TarSeqQC.Rcheck/TarSeqQC-Ex.timings
| name | user | system | elapsed | |
| TargetExperiment-biasExploration | 0.105 | 0.004 | 0.110 | |
| TargetExperiment-buildFeaturePanel | 2.273 | 0.171 | 2.454 | |
| TargetExperiment-buildReport | 1.999 | 0.057 | 2.061 | |
| TargetExperiment-class | 20.761 | 5.848 | 15.673 | |
| TargetExperiment-constructor | 2.590 | 0.618 | 2.164 | |
| TargetExperiment-getters | 0.376 | 0.053 | 0.431 | |
| TargetExperiment-initialize | 0.001 | 0.000 | 0.002 | |
| TargetExperiment-plot | 0.404 | 0.047 | 0.451 | |
| TargetExperiment-plotAttrExpl | 0.188 | 0.020 | 0.209 | |
| TargetExperiment-plotAttrPerform | 0.054 | 0.007 | 0.062 | |
| TargetExperiment-plotFeatPerform | 0.776 | 0.062 | 0.843 | |
| TargetExperiment-plotFeature | 0.586 | 0.426 | 0.494 | |
| TargetExperiment-plotGeneAttrPerFeat | 0.850 | 0.090 | 0.943 | |
| TargetExperiment-plotMetaDataExpl | 0.062 | 0.007 | 0.071 | |
| TargetExperiment-plotNtdPercentage | 0.511 | 0.336 | 0.402 | |
| TargetExperiment-plotRegion | 7.748 | 3.165 | 3.321 | |
| TargetExperiment-print | 0.070 | 0.012 | 0.082 | |
| TargetExperiment-readFrequencies | 0.457 | 0.220 | 0.501 | |
| TargetExperiment-setters | 0.007 | 0.003 | 0.010 | |
| TargetExperiment-show | 0.061 | 0.010 | 0.071 | |
| TargetExperiment-statistics | 0.113 | 0.017 | 0.130 | |
| TargetExperiment-summarizePanel | 1.019 | 0.587 | 0.486 | |
| TargetExperimentList-class | 0.773 | 0.096 | 0.872 | |
| TargetExperimentList-constructor | 0.094 | 0.013 | 0.108 | |
| TargetExperimentList-initialize | 0.083 | 0.009 | 0.093 | |
| TargetExperimentList-plotGlobalAttrExpl | 0.038 | 0.005 | 0.044 | |
| TargetExperimentList-plotPoolPerformance | 0.023 | 0.004 | 0.026 | |
| checkBedFasta | 0.069 | 0.008 | 0.077 | |
| pileupCounts | 0.592 | 0.344 | 0.381 | |
| plotInOutFeatures | 0.531 | 0.213 | 0.572 | |