| Back to Multiple platform build/check report for BioC 3.10 |
|
This page was generated on 2020-04-15 12:32:08 -0400 (Wed, 15 Apr 2020).
| Package 1731/1823 | Hostname | OS / Arch | INSTALL | BUILD | CHECK | BUILD BIN | ||||||
| TNBC.CMS 1.2.0 Doyeong Yu
| malbec1 | Linux (Ubuntu 18.04.4 LTS) / x86_64 | OK | OK | OK | |||||||
| tokay1 | Windows Server 2012 R2 Standard / x64 | [ OK ] | OK | OK | OK | |||||||
| merida1 | OS X 10.11.6 El Capitan / x86_64 | OK | OK | OK | OK |
| Package: TNBC.CMS |
| Version: 1.2.0 |
| Command: C:\cygwin\bin\curl.exe -O https://malbec1.bioconductor.org/BBS/3.10/bioc/src/contrib/TNBC.CMS_1.2.0.tar.gz && rm -rf TNBC.CMS.buildbin-libdir && mkdir TNBC.CMS.buildbin-libdir && C:\Users\biocbuild\bbs-3.10-bioc\R\bin\R.exe CMD INSTALL --merge-multiarch --build --library=TNBC.CMS.buildbin-libdir TNBC.CMS_1.2.0.tar.gz && C:\Users\biocbuild\bbs-3.10-bioc\R\bin\R.exe CMD INSTALL TNBC.CMS_1.2.0.zip && rm TNBC.CMS_1.2.0.tar.gz TNBC.CMS_1.2.0.zip |
| StartedAt: 2020-04-14 20:20:46 -0400 (Tue, 14 Apr 2020) |
| EndedAt: 2020-04-14 20:21:37 -0400 (Tue, 14 Apr 2020) |
| EllapsedTime: 50.4 seconds |
| RetCode: 0 |
| Status: OK |
##############################################################################
##############################################################################
###
### Running command:
###
### C:\cygwin\bin\curl.exe -O https://malbec1.bioconductor.org/BBS/3.10/bioc/src/contrib/TNBC.CMS_1.2.0.tar.gz && rm -rf TNBC.CMS.buildbin-libdir && mkdir TNBC.CMS.buildbin-libdir && C:\Users\biocbuild\bbs-3.10-bioc\R\bin\R.exe CMD INSTALL --merge-multiarch --build --library=TNBC.CMS.buildbin-libdir TNBC.CMS_1.2.0.tar.gz && C:\Users\biocbuild\bbs-3.10-bioc\R\bin\R.exe CMD INSTALL TNBC.CMS_1.2.0.zip && rm TNBC.CMS_1.2.0.tar.gz TNBC.CMS_1.2.0.zip
###
##############################################################################
##############################################################################
% Total % Received % Xferd Average Speed Time Time Time Current
Dload Upload Total Spent Left Speed
0 0 0 0 0 0 0 0 --:--:-- --:--:-- --:--:-- 0
57 2725k 57 1568k 0 0 4032k 0 --:--:-- --:--:-- --:--:-- 4062k
100 2725k 100 2725k 0 0 6808k 0 --:--:-- --:--:-- --:--:-- 6864k
install for i386
* installing *source* package 'TNBC.CMS' ...
** using staged installation
** R
** data
** byte-compile and prepare package for lazy loading
** help
*** installing help indices
converting help for package 'TNBC.CMS'
finding HTML links ... done
GSE25055 html
computeDS html
computeESTIMATEscore html
computeGES html
computexCellScore html
performGSVA html
plotHR html
plotKM html
predictCMS html
** building package indices
** installing vignettes
** testing if installed package can be loaded from temporary location
** testing if installed package can be loaded from final location
** testing if installed package keeps a record of temporary installation path
install for x64
* installing *source* package 'TNBC.CMS' ...
** testing if installed package can be loaded
* MD5 sums
packaged installation of 'TNBC.CMS' as TNBC.CMS_1.2.0.zip
* DONE (TNBC.CMS)
* installing to library 'C:/Users/biocbuild/bbs-3.10-bioc/R/library'
package 'TNBC.CMS' successfully unpacked and MD5 sums checked