| Back to Multiple platform build/check report for BioC 3.10 | 
  | 
This page was generated on 2020-04-15 12:26:20 -0400 (Wed, 15 Apr 2020).
| Package 1693/1823 | Hostname | OS / Arch | INSTALL | BUILD | CHECK | BUILD BIN | ||||||
| SwathXtend 2.8.0 Jemma Wu 
  | malbec1 | Linux (Ubuntu 18.04.4 LTS) / x86_64 | OK | OK | WARNINGS | |||||||
| tokay1 | Windows Server 2012 R2 Standard / x64 | OK | OK | WARNINGS | [ OK ] | |||||||
| merida1 | OS X 10.11.6 El Capitan / x86_64 | OK | OK | WARNINGS | OK | 
| Package: SwathXtend | 
| Version: 2.8.0 | 
| Command: rm -rf SwathXtend.buildbin-libdir && mkdir SwathXtend.buildbin-libdir && C:\Users\biocbuild\bbs-3.10-bioc\R\bin\R.exe CMD INSTALL --merge-multiarch --build --library=SwathXtend.buildbin-libdir SwathXtend_2.8.0.tar.gz | 
| StartedAt: 2020-04-15 09:47:27 -0400 (Wed, 15 Apr 2020) | 
| EndedAt: 2020-04-15 09:49:01 -0400 (Wed, 15 Apr 2020) | 
| EllapsedTime: 93.8 seconds | 
| RetCode: 0 | 
| Status: OK | 
| PackageFile: SwathXtend_2.8.0.zip | 
| PackageFileSize: 346.2 MiB | 
##############################################################################
##############################################################################
###
### Running command:
###
###   rm -rf SwathXtend.buildbin-libdir && mkdir SwathXtend.buildbin-libdir && C:\Users\biocbuild\bbs-3.10-bioc\R\bin\R.exe CMD INSTALL --merge-multiarch --build --library=SwathXtend.buildbin-libdir SwathXtend_2.8.0.tar.gz
###
##############################################################################
##############################################################################
install for i386
* installing *source* package 'SwathXtend' ...
** using staged installation
** R
** data
** inst
** byte-compile and prepare package for lazy loading
** help
*** installing help indices
  converting help for package 'SwathXtend'
    finding HTML links ... done
    applyttest                              html  
    applyttestPep                           html  
    buildSpectraLibPair                     html  
    canonicalFormat                         html  
    checkQuality                            html  
    cleanLib                                html  
    coverage                                html  
    cv                                      html  
    fdr.crit                                html  
    getFdrBins                              html  
    ionCorGS                                html  
    medianNorm                              html  
    mlr                                     html  
    mlrGroup                                html  
    mlrrep                                  html  
    outputLib                               html  
    plotAll                                 html  
    plotDensities                           html  
    plotErrorBarsLines                      html  
    plotRIICor                              html  
    plotRTCor                               html  
    plotRTResd                              html  
    plotRelativeDensities                   html  
    quantification.accuracy                 html  
    readLibFile                             html  
    reliabilityCheckLibrary                 html  
    reliabilityCheckSwath                   html  
    swath.means                             html  
** building package indices
** installing vignettes
** testing if installed package can be loaded from temporary location
** testing if installed package can be loaded from final location
** testing if installed package keeps a record of temporary installation path
install for x64
* installing *source* package 'SwathXtend' ...
** testing if installed package can be loaded
* MD5 sums
packaged installation of 'SwathXtend' as SwathXtend_2.8.0.zip
* DONE (SwathXtend)