| Back to Multiple platform build/check report for BioC 3.10 |
|
This page was generated on 2020-04-15 12:22:54 -0400 (Wed, 15 Apr 2020).
| Package 1689/1823 | Hostname | OS / Arch | INSTALL | BUILD | CHECK | BUILD BIN | ||||||
| Sushi 1.24.0 Douglas H Phanstiel
| malbec1 | Linux (Ubuntu 18.04.4 LTS) / x86_64 | OK | OK | WARNINGS | |||||||
| tokay1 | Windows Server 2012 R2 Standard / x64 | OK | OK | WARNINGS | [ OK ] | |||||||
| merida1 | OS X 10.11.6 El Capitan / x86_64 | OK | OK | WARNINGS | OK |
| Package: Sushi |
| Version: 1.24.0 |
| Command: rm -rf Sushi.buildbin-libdir && mkdir Sushi.buildbin-libdir && C:\Users\biocbuild\bbs-3.10-bioc\R\bin\R.exe CMD INSTALL --merge-multiarch --build --library=Sushi.buildbin-libdir Sushi_1.24.0.tar.gz |
| StartedAt: 2020-04-15 09:47:13 -0400 (Wed, 15 Apr 2020) |
| EndedAt: 2020-04-15 09:47:58 -0400 (Wed, 15 Apr 2020) |
| EllapsedTime: 45.5 seconds |
| RetCode: 0 |
| Status: OK |
| PackageFile: Sushi_1.24.0.zip |
| PackageFileSize: 3.449 MiB |
##############################################################################
##############################################################################
###
### Running command:
###
### rm -rf Sushi.buildbin-libdir && mkdir Sushi.buildbin-libdir && C:\Users\biocbuild\bbs-3.10-bioc\R\bin\R.exe CMD INSTALL --merge-multiarch --build --library=Sushi.buildbin-libdir Sushi_1.24.0.tar.gz
###
##############################################################################
##############################################################################
install for i386
* installing *source* package 'Sushi' ...
** using staged installation
** R
** data
** inst
** byte-compile and prepare package for lazy loading
** help
*** installing help indices
converting help for package 'Sushi'
finding HTML links ... done
SushiColors html
Sushi_5C.bedpe html
Sushi_ChIAPET_pol2.bedpe html
Sushi_ChIPExo_CTCF.bedgraph html
Sushi_ChIPSeq_CTCF.bedgraph html
Sushi_ChIPSeq_pol2.bed html
Sushi_ChIPSeq_pol2.bedgraph html
Sushi_ChIPSeq_severalfactors.bed html
Sushi_DNaseI.bedgraph html
Sushi_GWAS.bed html
Sushi_HiC.matrix html
Sushi_RNASeq_K562.bedgraph html
Sushi_genes.bed html
Sushi_hg18_genome html
Sushi_transcripts.bed html
addlegend html
chromOffsets html
convertstrandinfo html
labelgenome html
labelplot html
maptocolors html
maptolwd html
opaque html
plotBed html
plotBedgraph html
plotBedpe html
plotGenes html
finding level-2 HTML links ... done
plotHic html
plotManhattan html
sortChrom html
zoombox html
zoomsregion html
** building package indices
** installing vignettes
** testing if installed package can be loaded from temporary location
** testing if installed package can be loaded from final location
** testing if installed package keeps a record of temporary installation path
install for x64
* installing *source* package 'Sushi' ...
** testing if installed package can be loaded
* MD5 sums
packaged installation of 'Sushi' as Sushi_1.24.0.zip
* DONE (Sushi)