| Back to Multiple platform build/check report for BioC 3.10 | 
  | 
This page was generated on 2020-04-15 12:43:19 -0400 (Wed, 15 Apr 2020).
| Package 1642/1823 | Hostname | OS / Arch | INSTALL | BUILD | CHECK | BUILD BIN | ||||||
| SpidermiR 1.16.2 Claudia Cava 
  | malbec1 | Linux (Ubuntu 18.04.4 LTS) / x86_64 | OK | OK | WARNINGS | |||||||
| tokay1 | Windows Server 2012 R2 Standard / x64 | OK | OK | WARNINGS | OK | |||||||
| merida1 | OS X 10.11.6 El Capitan / x86_64 | OK | OK | WARNINGS | [ OK ] | 
| Package: SpidermiR | 
| Version: 1.16.2 | 
| Command: rm -rf SpidermiR.buildbin-libdir && mkdir SpidermiR.buildbin-libdir && /Users/biocbuild/BBS/utils/build-universal.sh SpidermiR_1.16.2.tar.gz /Library/Frameworks/R.framework/Versions/Current/Resources/bin/R SpidermiR.buildbin-libdir | 
| StartedAt: 2020-04-15 08:49:36 -0400 (Wed, 15 Apr 2020) | 
| EndedAt: 2020-04-15 08:50:47 -0400 (Wed, 15 Apr 2020) | 
| EllapsedTime: 70.7 seconds | 
| RetCode: 0 | 
| Status: OK | 
| PackageFile: SpidermiR_1.16.2.tgz | 
| PackageFileSize: 919.8 KiB | 
############################################################################## ############################################################################## ### ### Running command: ### ### rm -rf SpidermiR.buildbin-libdir && mkdir SpidermiR.buildbin-libdir && /Users/biocbuild/BBS/utils/build-universal.sh SpidermiR_1.16.2.tar.gz /Library/Frameworks/R.framework/Versions/Current/Resources/bin/R SpidermiR.buildbin-libdir ### ############################################################################## ############################################################################## >>>>>>> >>>>>>> INSTALLATION WITH 'R CMD INSTALL --preclean --no-multiarch --library=SpidermiR.buildbin-libdir SpidermiR_1.16.2.tar.gz' >>>>>>> * installing *source* package ‘SpidermiR’ ... ** using staged installation ** R ** inst ** byte-compile and prepare package for lazy loading Note: possible error in 'simpleNetwork(NetworkData, ': unused argument (textColour = "black") ** help *** installing help indices ** building package indices ** installing vignettes ** testing if installed package can be loaded from temporary location ** testing if installed package can be loaded from final location ** testing if installed package keeps a record of temporary installation path * DONE (SpidermiR)