| Back to Multiple platform build/check report for BioC 3.10 |
|
This page was generated on 2020-04-15 12:16:04 -0400 (Wed, 15 Apr 2020).
| Package 1593/1823 | Hostname | OS / Arch | INSTALL | BUILD | CHECK | BUILD BIN | ||||||
| SigsPack 1.0.0 Franziska Schumann
| malbec1 | Linux (Ubuntu 18.04.4 LTS) / x86_64 | OK | OK | [ OK ] | |||||||
| tokay1 | Windows Server 2012 R2 Standard / x64 | OK | OK | OK | OK | |||||||
| merida1 | OS X 10.11.6 El Capitan / x86_64 | OK | OK | OK | OK |
| Package: SigsPack |
| Version: 1.0.0 |
| Command: /home/biocbuild/bbs-3.10-bioc/R/bin/R CMD check --install=check:SigsPack.install-out.txt --library=/home/biocbuild/bbs-3.10-bioc/R/library --no-vignettes --timings SigsPack_1.0.0.tar.gz |
| StartedAt: 2020-04-15 06:47:55 -0400 (Wed, 15 Apr 2020) |
| EndedAt: 2020-04-15 06:50:42 -0400 (Wed, 15 Apr 2020) |
| EllapsedTime: 167.2 seconds |
| RetCode: 0 |
| Status: OK |
| CheckDir: SigsPack.Rcheck |
| Warnings: 0 |
##############################################################################
##############################################################################
###
### Running command:
###
### /home/biocbuild/bbs-3.10-bioc/R/bin/R CMD check --install=check:SigsPack.install-out.txt --library=/home/biocbuild/bbs-3.10-bioc/R/library --no-vignettes --timings SigsPack_1.0.0.tar.gz
###
##############################################################################
##############################################################################
* using log directory ‘/home/biocbuild/bbs-3.10-bioc/meat/SigsPack.Rcheck’
* using R version 3.6.3 (2020-02-29)
* using platform: x86_64-pc-linux-gnu (64-bit)
* using session charset: UTF-8
* using option ‘--no-vignettes’
* checking for file ‘SigsPack/DESCRIPTION’ ... OK
* checking extension type ... Package
* this is package ‘SigsPack’ version ‘1.0.0’
* package encoding: UTF-8
* checking package namespace information ... OK
* checking package dependencies ... OK
* checking if this is a source package ... OK
* checking if there is a namespace ... OK
* checking for hidden files and directories ... OK
* checking for portable file names ... OK
* checking for sufficient/correct file permissions ... OK
* checking whether package ‘SigsPack’ can be installed ... OK
* checking installed package size ... OK
* checking package directory ... OK
* checking ‘build’ directory ... OK
* checking DESCRIPTION meta-information ... OK
* checking top-level files ... OK
* checking for left-over files ... OK
* checking index information ... OK
* checking package subdirectories ... OK
* checking R files for non-ASCII characters ... OK
* checking R files for syntax errors ... OK
* checking whether the package can be loaded ... OK
* checking whether the package can be loaded with stated dependencies ... OK
* checking whether the package can be unloaded cleanly ... OK
* checking whether the namespace can be loaded with stated dependencies ... OK
* checking whether the namespace can be unloaded cleanly ... OK
* checking dependencies in R code ... OK
* checking S3 generic/method consistency ... OK
* checking replacement functions ... OK
* checking foreign function calls ... OK
* checking R code for possible problems ... OK
* checking Rd files ... OK
* checking Rd metadata ... OK
* checking Rd cross-references ... OK
* checking for missing documentation entries ... OK
* checking for code/documentation mismatches ... OK
* checking Rd \usage sections ... OK
* checking Rd contents ... OK
* checking for unstated dependencies in examples ... OK
* checking contents of ‘data’ directory ... OK
* checking data for non-ASCII characters ... OK
* checking data for ASCII and uncompressed saves ... OK
* checking files in ‘vignettes’ ... OK
* checking examples ... OK
Examples with CPU or elapsed time > 5s
user system elapsed
get_context_freq 62.720 4.080 73.882
normalize 49.888 3.324 54.162
* checking for unstated dependencies in vignettes ... OK
* checking package vignettes in ‘inst/doc’ ... OK
* checking running R code from vignettes ... SKIPPED
* checking re-building of vignette outputs ... SKIPPED
* checking PDF version of manual ... OK
* DONE
Status: OK
SigsPack.Rcheck/00install.out
############################################################################## ############################################################################## ### ### Running command: ### ### /home/biocbuild/bbs-3.10-bioc/R/bin/R CMD INSTALL SigsPack ### ############################################################################## ############################################################################## * installing to library ‘/home/biocbuild/bbs-3.10-bioc/R/library’ * installing *source* package ‘SigsPack’ ... ** using staged installation ** R ** data *** moving datasets to lazyload DB ** inst ** byte-compile and prepare package for lazy loading ** help *** installing help indices ** building package indices ** installing vignettes ** testing if installed package can be loaded from temporary location ** testing if installed package can be loaded from final location ** testing if installed package keeps a record of temporary installation path * DONE (SigsPack)
SigsPack.Rcheck/SigsPack-Ex.timings
| name | user | system | elapsed | |
| bootstrap_mut_catalogues | 0.064 | 0.004 | 0.067 | |
| create_mut_catalogues | 0.816 | 0.000 | 0.844 | |
| decomposeQP | 0.012 | 0.000 | 0.009 | |
| get_context_freq | 62.720 | 4.080 | 73.882 | |
| normalize | 49.888 | 3.324 | 54.162 | |
| plot_bootstrapped_exposure | 0.824 | 0.032 | 0.856 | |
| signature_exposure | 0.048 | 0.012 | 0.058 | |
| summarize_exposures | 0.768 | 0.072 | 0.889 | |
| vcf2mut_cat | 0 | 0 | 0 | |