| Back to Multiple platform build/check report for BioC 3.10 |
|
This page was generated on 2020-04-15 12:22:11 -0400 (Wed, 15 Apr 2020).
| Package 1678/1823 | Hostname | OS / Arch | INSTALL | BUILD | CHECK | BUILD BIN | ||||||
| STRINGdb 1.26.0 Damian Szklarczyk
| malbec1 | Linux (Ubuntu 18.04.4 LTS) / x86_64 | OK | OK | OK | |||||||
| tokay1 | Windows Server 2012 R2 Standard / x64 | [ OK ] | OK | OK | OK | |||||||
| merida1 | OS X 10.11.6 El Capitan / x86_64 | OK | OK | OK | OK |
| Package: STRINGdb |
| Version: 1.26.0 |
| Command: C:\cygwin\bin\curl.exe -O https://malbec1.bioconductor.org/BBS/3.10/bioc/src/contrib/STRINGdb_1.26.0.tar.gz && rm -rf STRINGdb.buildbin-libdir && mkdir STRINGdb.buildbin-libdir && C:\Users\biocbuild\bbs-3.10-bioc\R\bin\R.exe CMD INSTALL --merge-multiarch --build --library=STRINGdb.buildbin-libdir STRINGdb_1.26.0.tar.gz && C:\Users\biocbuild\bbs-3.10-bioc\R\bin\R.exe CMD INSTALL STRINGdb_1.26.0.zip && rm STRINGdb_1.26.0.tar.gz STRINGdb_1.26.0.zip |
| StartedAt: 2020-04-14 19:01:45 -0400 (Tue, 14 Apr 2020) |
| EndedAt: 2020-04-14 19:02:40 -0400 (Tue, 14 Apr 2020) |
| EllapsedTime: 54.8 seconds |
| RetCode: 0 |
| Status: OK |
##############################################################################
##############################################################################
###
### Running command:
###
### C:\cygwin\bin\curl.exe -O https://malbec1.bioconductor.org/BBS/3.10/bioc/src/contrib/STRINGdb_1.26.0.tar.gz && rm -rf STRINGdb.buildbin-libdir && mkdir STRINGdb.buildbin-libdir && C:\Users\biocbuild\bbs-3.10-bioc\R\bin\R.exe CMD INSTALL --merge-multiarch --build --library=STRINGdb.buildbin-libdir STRINGdb_1.26.0.tar.gz && C:\Users\biocbuild\bbs-3.10-bioc\R\bin\R.exe CMD INSTALL STRINGdb_1.26.0.zip && rm STRINGdb_1.26.0.tar.gz STRINGdb_1.26.0.zip
###
##############################################################################
##############################################################################
% Total % Received % Xferd Average Speed Time Time Time Current
Dload Upload Total Spent Left Speed
0 0 0 0 0 0 0 0 --:--:-- --:--:-- --:--:-- 0
1 1066k 1 16384 0 0 499k 0 0:00:02 --:--:-- 0:00:02 551k
100 1066k 100 1066k 0 0 24.1M 0 --:--:-- --:--:-- --:--:-- 26.0M
install for i386
* installing *source* package 'STRINGdb' ...
** using staged installation
** R
** data
** inst
** byte-compile and prepare package for lazy loading
** help
*** installing help indices
converting help for package 'STRINGdb'
finding HTML links ... done
STRINGdb-class html
add_diff_exp_color html
add_proteins_description html
benchmark_ppi html
benchmark_ppi_pathway_view html
coeffOfvar html
delColDf html
diff_exp_example1 html
downloadAbsentFile html
downloadAbsentFileSTRING html
get_STRING_species html
get_aliases html
get_annotations html
get_annotations_desc html
get_bioc_graph html
get_clusters html
get_enrichment html
get_graph html
get_homologs html
get_homologs_besthits html
get_interactions html
get_link html
get_neighbors html
get_png html
get_ppi_enrichment html
get_ppi_enrichment_full html
get_proteins html
get_pubmed html
get_pubmed_interaction html
get_subnetwork html
get_summary html
get_term_proteins html
interactions html
load html
load_all html
map html
mp html
multi_map_df html
plot_network html
plot_ppi_enrichment html
plot_ppi_enrichment_graph html
post_payload html
ppi_enrichment html
ppi_enrichment_full html
ppie.compLambda html
ppie.compLambdaL1L2 html
ppie.compPij html
ppie.getNumEdgesBetween html
remove_homologous_interactions html
renameColDf html
set_background html
** building package indices
** installing vignettes
** testing if installed package can be loaded from temporary location
** testing if installed package can be loaded from final location
** testing if installed package keeps a record of temporary installation path
install for x64
* installing *source* package 'STRINGdb' ...
** testing if installed package can be loaded
* MD5 sums
packaged installation of 'STRINGdb' as STRINGdb_1.26.0.zip
* DONE (STRINGdb)
* installing to library 'C:/Users/biocbuild/bbs-3.10-bioc/R/library'
package 'STRINGdb' successfully unpacked and MD5 sums checked