| Back to Multiple platform build/check report for BioC 3.10 |
|
This page was generated on 2020-04-15 12:17:35 -0400 (Wed, 15 Apr 2020).
| Package 1623/1823 | Hostname | OS / Arch | INSTALL | BUILD | CHECK | BUILD BIN | ||||||
Robert Scharpf
| malbec1 | Linux (Ubuntu 18.04.4 LTS) / x86_64 | OK | OK | WARNINGS | |||||||
| tokay1 | Windows Server 2012 R2 Standard / x64 | OK | OK | WARNINGS | [ OK ] | |||||||
| merida1 | OS X 10.11.6 El Capitan / x86_64 | OK | OK | WARNINGS | OK |
| Package: SNPchip |
| Version: 2.32.0 |
| Command: rm -rf SNPchip.buildbin-libdir && mkdir SNPchip.buildbin-libdir && C:\Users\biocbuild\bbs-3.10-bioc\R\bin\R.exe CMD INSTALL --merge-multiarch --build --library=SNPchip.buildbin-libdir SNPchip_2.32.0.tar.gz |
| StartedAt: 2020-04-15 09:43:28 -0400 (Wed, 15 Apr 2020) |
| EndedAt: 2020-04-15 09:44:03 -0400 (Wed, 15 Apr 2020) |
| EllapsedTime: 34.6 seconds |
| RetCode: 0 |
| Status: OK |
| PackageFile: SNPchip_2.32.0.zip |
| PackageFileSize: 523.7 KiB |
##############################################################################
##############################################################################
###
### Running command:
###
### rm -rf SNPchip.buildbin-libdir && mkdir SNPchip.buildbin-libdir && C:\Users\biocbuild\bbs-3.10-bioc\R\bin\R.exe CMD INSTALL --merge-multiarch --build --library=SNPchip.buildbin-libdir SNPchip_2.32.0.tar.gz
###
##############################################################################
##############################################################################
install for i386
* installing *source* package 'SNPchip' ...
** using staged installation
** R
** inst
** byte-compile and prepare package for lazy loading
** help
*** installing help indices
converting help for package 'SNPchip'
finding HTML links ... done
arrangeFigs html
arrangeSideBySide html
centromere html
dataFrame-methods html
dataFrame html
defunct html
getCytoband html
latticeFigs html
plotIdiogram html
xypanel html
xypanelBaf html
xyplot html
xyplotLrrBaf html
** building package indices
** installing vignettes
** testing if installed package can be loaded from temporary location
Warning: Package 'SNPchip' is deprecated and will be removed from Bioconductor
version 3.11
** testing if installed package can be loaded from final location
Warning: Package 'SNPchip' is deprecated and will be removed from Bioconductor
version 3.11
** testing if installed package keeps a record of temporary installation path
install for x64
* installing *source* package 'SNPchip' ...
** testing if installed package can be loaded
Warning: Package 'SNPchip' is deprecated and will be removed from Bioconductor
version 3.11
* MD5 sums
packaged installation of 'SNPchip' as SNPchip_2.32.0.zip
* DONE (SNPchip)