| Back to Multiple platform build/check report for BioC 3.10 |
|
This page was generated on 2020-04-15 12:26:06 -0400 (Wed, 15 Apr 2020).
| Package 1619/1823 | Hostname | OS / Arch | INSTALL | BUILD | CHECK | BUILD BIN | ||||||
| SMITE 1.14.0 Neil Ari Wijetunga
| malbec1 | Linux (Ubuntu 18.04.4 LTS) / x86_64 | OK | OK | OK | |||||||
| tokay1 | Windows Server 2012 R2 Standard / x64 | OK | OK | OK | [ OK ] | |||||||
| merida1 | OS X 10.11.6 El Capitan / x86_64 | OK | OK | OK | OK |
| Package: SMITE |
| Version: 1.14.0 |
| Command: rm -rf SMITE.buildbin-libdir && mkdir SMITE.buildbin-libdir && C:\Users\biocbuild\bbs-3.10-bioc\R\bin\R.exe CMD INSTALL --merge-multiarch --build --library=SMITE.buildbin-libdir SMITE_1.14.0.tar.gz |
| StartedAt: 2020-04-15 09:43:14 -0400 (Wed, 15 Apr 2020) |
| EndedAt: 2020-04-15 09:44:17 -0400 (Wed, 15 Apr 2020) |
| EllapsedTime: 62.6 seconds |
| RetCode: 0 |
| Status: OK |
| PackageFile: SMITE_1.14.0.zip |
| PackageFileSize: 3.634 MiB |
##############################################################################
##############################################################################
###
### Running command:
###
### rm -rf SMITE.buildbin-libdir && mkdir SMITE.buildbin-libdir && C:\Users\biocbuild\bbs-3.10-bioc\R\bin\R.exe CMD INSTALL --merge-multiarch --build --library=SMITE.buildbin-libdir SMITE_1.14.0.tar.gz
###
##############################################################################
##############################################################################
install for i386
* installing *source* package 'SMITE' ...
** using staged installation
** R
** data
** inst
** byte-compile and prepare package for lazy loading
** help
*** installing help indices
converting help for package 'SMITE'
finding HTML links ... done
Reactome.Symbol.Igraph html
SMITE-package html
addShadowText html
annotateExpression html
annotateModification html
convertGeneIds html
curated_expression html
extractExpression html
extractGOseq html
extractModification html
extractModules html
extractScores html
genes_for_conversiontest html
hg19_gene_bed html
highScores html
histone_h3k4me1 html
makePvalueAnnotation html
makePvalueObject html
methylationdata html
normalizePval html
plotCompareScores html
plotDensityPval html
plotModule html
removeModification html
runBioNet html
runGOseq html
runSpinglass html
scorePval html
stoufferTest html
test_annotation_score_data html
** building package indices
** installing vignettes
** testing if installed package can be loaded from temporary location
** testing if installed package can be loaded from final location
** testing if installed package keeps a record of temporary installation path
install for x64
* installing *source* package 'SMITE' ...
** testing if installed package can be loaded
* MD5 sums
packaged installation of 'SMITE' as SMITE_1.14.0.zip
* DONE (SMITE)