| Back to Multiple platform build/check report for BioC 3.10 |
|
This page was generated on 2020-04-15 12:33:07 -0400 (Wed, 15 Apr 2020).
| Package 1573/1823 | Hostname | OS / Arch | INSTALL | BUILD | CHECK | BUILD BIN | ||||||
| SEtools 1.0.0 Pierre-Luc Germain
| malbec1 | Linux (Ubuntu 18.04.4 LTS) / x86_64 | OK | OK | OK | |||||||
| tokay1 | Windows Server 2012 R2 Standard / x64 | OK | OK | [ OK ] | OK | |||||||
| merida1 | OS X 10.11.6 El Capitan / x86_64 | OK | OK | OK | OK |
| Package: SEtools |
| Version: 1.0.0 |
| Command: C:\Users\biocbuild\bbs-3.10-bioc\R\bin\R.exe CMD check --force-multiarch --install=check:SEtools.install-out.txt --library=C:\Users\biocbuild\bbs-3.10-bioc\R\library --no-vignettes --timings SEtools_1.0.0.tar.gz |
| StartedAt: 2020-04-15 06:34:11 -0400 (Wed, 15 Apr 2020) |
| EndedAt: 2020-04-15 06:40:34 -0400 (Wed, 15 Apr 2020) |
| EllapsedTime: 382.7 seconds |
| RetCode: 0 |
| Status: OK |
| CheckDir: SEtools.Rcheck |
| Warnings: 0 |
##############################################################################
##############################################################################
###
### Running command:
###
### C:\Users\biocbuild\bbs-3.10-bioc\R\bin\R.exe CMD check --force-multiarch --install=check:SEtools.install-out.txt --library=C:\Users\biocbuild\bbs-3.10-bioc\R\library --no-vignettes --timings SEtools_1.0.0.tar.gz
###
##############################################################################
##############################################################################
* using log directory 'C:/Users/biocbuild/bbs-3.10-bioc/meat/SEtools.Rcheck'
* using R version 3.6.3 (2020-02-29)
* using platform: x86_64-w64-mingw32 (64-bit)
* using session charset: ISO8859-1
* using option '--no-vignettes'
* checking for file 'SEtools/DESCRIPTION' ... OK
* checking extension type ... Package
* this is package 'SEtools' version '1.0.0'
* package encoding: UTF-8
* checking package namespace information ... OK
* checking package dependencies ... OK
* checking if this is a source package ... OK
* checking if there is a namespace ... OK
* checking for hidden files and directories ... OK
* checking for portable file names ... OK
* checking whether package 'SEtools' can be installed ... OK
* checking installed package size ... OK
* checking package directory ... OK
* checking 'build' directory ... OK
* checking DESCRIPTION meta-information ... OK
* checking top-level files ... OK
* checking for left-over files ... OK
* checking index information ... OK
* checking package subdirectories ... OK
* checking R files for non-ASCII characters ... OK
* checking R files for syntax errors ... OK
* loading checks for arch 'i386'
** checking whether the package can be loaded ... OK
** checking whether the package can be loaded with stated dependencies ... OK
** checking whether the package can be unloaded cleanly ... OK
** checking whether the namespace can be loaded with stated dependencies ... OK
** checking whether the namespace can be unloaded cleanly ... OK
* loading checks for arch 'x64'
** checking whether the package can be loaded ... OK
** checking whether the package can be loaded with stated dependencies ... OK
** checking whether the package can be unloaded cleanly ... OK
** checking whether the namespace can be loaded with stated dependencies ... OK
** checking whether the namespace can be unloaded cleanly ... OK
* checking dependencies in R code ... OK
* checking S3 generic/method consistency ... OK
* checking replacement functions ... OK
* checking foreign function calls ... OK
* checking R code for possible problems ... NOTE
.getBreaks: no visible global function definition for 'quantile'
.getHMcols: no visible global function definition for
'colorRampPalette'
.prepAssays : <anonymous> : <anonymous> : <anonymous> : <anonymous>: no
visible global function definition for 'sd'
sehm: no visible binding for global variable 'sd'
sortRows: no visible binding for global variable 'sd'
sortRows: no visible global function definition for 'aggregate'
sortRows: no visible binding for global variable 'median'
sortRows: no visible global function definition for 'dist'
Undefined global functions or variables:
aggregate colorRampPalette dist median quantile sd
Consider adding
importFrom("grDevices", "colorRampPalette")
importFrom("stats", "aggregate", "dist", "median", "quantile", "sd")
to your NAMESPACE file.
* checking Rd files ... OK
* checking Rd metadata ... OK
* checking Rd cross-references ... OK
* checking for missing documentation entries ... OK
* checking for code/documentation mismatches ... OK
* checking Rd \usage sections ... OK
* checking Rd contents ... OK
* checking for unstated dependencies in examples ... OK
* checking contents of 'data' directory ... OK
* checking data for non-ASCII characters ... OK
* checking data for ASCII and uncompressed saves ... OK
* checking files in 'vignettes' ... OK
* checking examples ...
** running examples for arch 'i386' ... OK
** running examples for arch 'x64' ... OK
* checking for unstated dependencies in vignettes ... OK
* checking package vignettes in 'inst/doc' ... OK
* checking running R code from vignettes ... SKIPPED
* checking re-building of vignette outputs ... SKIPPED
* checking PDF version of manual ... OK
* DONE
Status: 1 NOTE
See
'C:/Users/biocbuild/bbs-3.10-bioc/meat/SEtools.Rcheck/00check.log'
for details.
SEtools.Rcheck/00install.out
##############################################################################
##############################################################################
###
### Running command:
###
### C:\cygwin\bin\curl.exe -O https://malbec1.bioconductor.org/BBS/3.10/bioc/src/contrib/SEtools_1.0.0.tar.gz && rm -rf SEtools.buildbin-libdir && mkdir SEtools.buildbin-libdir && C:\Users\biocbuild\bbs-3.10-bioc\R\bin\R.exe CMD INSTALL --merge-multiarch --build --library=SEtools.buildbin-libdir SEtools_1.0.0.tar.gz && C:\Users\biocbuild\bbs-3.10-bioc\R\bin\R.exe CMD INSTALL SEtools_1.0.0.zip && rm SEtools_1.0.0.tar.gz SEtools_1.0.0.zip
###
##############################################################################
##############################################################################
% Total % Received % Xferd Average Speed Time Time Time Current
Dload Upload Total Spent Left Speed
0 0 0 0 0 0 0 0 --:--:-- --:--:-- --:--:-- 0
100 169k 100 169k 0 0 1813k 0 --:--:-- --:--:-- --:--:-- 1888k
install for i386
* installing *source* package 'SEtools' ...
** using staged installation
** R
** data
** byte-compile and prepare package for lazy loading
** help
*** installing help indices
converting help for package 'SEtools'
finding HTML links ... done
crossHm html
data html
log2FC html
meltSE html
mergeSEs html
resetAllSEtoolsOptions html
sehm html
sortRows html
** building package indices
** installing vignettes
** testing if installed package can be loaded from temporary location
** testing if installed package can be loaded from final location
** testing if installed package keeps a record of temporary installation path
install for x64
* installing *source* package 'SEtools' ...
** testing if installed package can be loaded
* MD5 sums
packaged installation of 'SEtools' as SEtools_1.0.0.zip
* DONE (SEtools)
* installing to library 'C:/Users/biocbuild/bbs-3.10-bioc/R/library'
package 'SEtools' successfully unpacked and MD5 sums checked
|
SEtools.Rcheck/examples_i386/SEtools-Ex.timings
|
SEtools.Rcheck/examples_x64/SEtools-Ex.timings
|