| Back to Multiple platform build/check report for BioC 3.10 |
|
This page was generated on 2020-04-15 12:07:31 -0400 (Wed, 15 Apr 2020).
| Package 1514/1823 | Hostname | OS / Arch | INSTALL | BUILD | CHECK | BUILD BIN | ||||||
| SANTA 2.24.0 Alex J. Cornish
| malbec1 | Linux (Ubuntu 18.04.4 LTS) / x86_64 | [ OK ] | ERROR | skipped | |||||||
| tokay1 | Windows Server 2012 R2 Standard / x64 | OK | ERROR | skipped | skipped | |||||||
| merida1 | OS X 10.11.6 El Capitan / x86_64 | OK | ERROR | skipped | skipped |
| Package: SANTA |
| Version: 2.24.0 |
| Command: /home/biocbuild/bbs-3.10-bioc/R/bin/R CMD INSTALL SANTA |
| StartedAt: 2020-04-14 18:18:15 -0400 (Tue, 14 Apr 2020) |
| EndedAt: 2020-04-14 18:18:22 -0400 (Tue, 14 Apr 2020) |
| EllapsedTime: 6.7 seconds |
| RetCode: 0 |
| Status: OK |
##############################################################################
##############################################################################
###
### Running command:
###
### /home/biocbuild/bbs-3.10-bioc/R/bin/R CMD INSTALL SANTA
###
##############################################################################
##############################################################################
* installing to library ‘/home/biocbuild/bbs-3.10-bioc/R/library’
* installing *source* package ‘SANTA’ ...
** using staged installation
** libs
gcc -I"/home/biocbuild/bbs-3.10-bioc/R/include" -DNDEBUG -I/usr/local/include -fpic -g -O2 -Wall -c computenetK_fewzeros.c -o computenetK_fewzeros.o
gcc -I"/home/biocbuild/bbs-3.10-bioc/R/include" -DNDEBUG -I/usr/local/include -fpic -g -O2 -Wall -c computenetK_manyzeros.c -o computenetK_manyzeros.o
computenetK_manyzeros.c: In function ‘computenetK_manyzeros’:
computenetK_manyzeros.c:29:24: warning: assignment from incompatible pointer type [-Wincompatible-pointer-types]
p_which_vw_nonzero = R_alloc(n_nonzero_vertices, sizeof(int));
^
gcc -I"/home/biocbuild/bbs-3.10-bioc/R/include" -DNDEBUG -I/usr/local/include -fpic -g -O2 -Wall -c computenodeAUK.c -o computenodeAUK.o
gcc -I"/home/biocbuild/bbs-3.10-bioc/R/include" -DNDEBUG -I/usr/local/include -fpic -g -O2 -Wall -c computeweights.c -o computeweights.o
gcc -shared -L/home/biocbuild/bbs-3.10-bioc/R/lib -L/usr/local/lib -o SANTA.so computenetK_fewzeros.o computenetK_manyzeros.o computenodeAUK.o computeweights.o -L/home/biocbuild/bbs-3.10-bioc/R/lib -lR
installing to /home/biocbuild/bbs-3.10-bioc/R/library/00LOCK-SANTA/00new/SANTA/libs
** R
** data
** inst
** byte-compile and prepare package for lazy loading
** help
*** installing help indices
** building package indices
** installing vignettes
** testing if installed package can be loaded from temporary location
** checking absolute paths in shared objects and dynamic libraries
** testing if installed package can be loaded from final location
** testing if installed package keeps a record of temporary installation path
* DONE (SANTA)