| Back to Multiple platform build/check report for BioC 3.10 |
|
This page was generated on 2019-10-21 12:41:43 -0400 (Mon, 21 Oct 2019).
| Package 1372/1800 | Hostname | OS / Arch | INSTALL | BUILD | CHECK | BUILD BIN | ||||||
| Rcwl 1.1.14 Qiang Hu
| malbec1 | Linux (Ubuntu 18.04.2 LTS) / x86_64 | OK | OK | OK | |||||||
| tokay1 | Windows Server 2012 R2 Standard / x64 | [ OK ] | ERROR | skipped | skipped | |||||||
| merida1 | OS X 10.11.6 El Capitan / x86_64 | OK | OK | OK | OK |
| Package: Rcwl |
| Version: 1.1.14 |
| Command: C:\Users\biocbuild\bbs-3.10-bioc\R\bin\R.exe CMD INSTALL Rcwl |
| StartedAt: 2019-10-20 19:27:08 -0400 (Sun, 20 Oct 2019) |
| EndedAt: 2019-10-20 19:34:20 -0400 (Sun, 20 Oct 2019) |
| EllapsedTime: 432.4 seconds |
| RetCode: 0 |
| Status: OK |
##############################################################################
##############################################################################
###
### Running command:
###
### C:\Users\biocbuild\bbs-3.10-bioc\R\bin\R.exe CMD INSTALL Rcwl
###
##############################################################################
##############################################################################
* installing to library 'C:/Users/biocbuild/bbs-3.10-bioc/R/library'
* installing *source* package 'Rcwl' ...
** using staged installation
** R
** byte-compile and prepare package for lazy loading
** help
*** installing help indices
converting help for package 'Rcwl'
finding HTML links ... done
InputArrayParam html
InputParam html
InputParamList html
OutputArrayParam html
OutputParam html
OutputParamList html
Rcwl html
Step html
cwlParam-methods html
cwlParam html
cwlShiny html
cwlStepParam html
plotCWL html
plus-cwlStepParam-stepParam-method html
readCWL html
runCWL html
runCWLBatch html
runs html
short html
stepInParam html
stepInParamList html
stepParam html
stepParamList html
steps html
writeCWL html
** building package indices
** installing vignettes
** testing if installed package can be loaded from temporary location
*** arch - i386
c:\python27\lib\site-packages\cwltool\__init__.py:17: CWLToolDeprecationWarning:
DEPRECATION: Python 2.7 will reach the end of its life on January 1st, 2020.
Please upgrade your Python as the Python 2.7 version of cwltool won't be
maintained after that date.
""", category=CWLToolDeprecationWarning)
*** arch - x64
c:\python27\lib\site-packages\cwltool\__init__.py:17: CWLToolDeprecationWarning:
DEPRECATION: Python 2.7 will reach the end of its life on January 1st, 2020.
Please upgrade your Python as the Python 2.7 version of cwltool won't be
maintained after that date.
""", category=CWLToolDeprecationWarning)
** testing if installed package can be loaded from final location
*** arch - i386
c:\python27\lib\site-packages\cwltool\__init__.py:17: CWLToolDeprecationWarning:
DEPRECATION: Python 2.7 will reach the end of its life on January 1st, 2020.
Please upgrade your Python as the Python 2.7 version of cwltool won't be
maintained after that date.
""", category=CWLToolDeprecationWarning)
*** arch - x64
c:\python27\lib\site-packages\cwltool\__init__.py:17: CWLToolDeprecationWarning:
DEPRECATION: Python 2.7 will reach the end of its life on January 1st, 2020.
Please upgrade your Python as the Python 2.7 version of cwltool won't be
maintained after that date.
""", category=CWLToolDeprecationWarning)
** testing if installed package keeps a record of temporary installation path
* DONE (Rcwl)
Making 'packages.html' ... done