| Back to Multiple platform build/check report for BioC 3.10 |
|
This page was generated on 2020-04-15 12:20:36 -0400 (Wed, 15 Apr 2020).
| Package 1384/1823 | Hostname | OS / Arch | INSTALL | BUILD | CHECK | BUILD BIN | ||||||
| RchyOptimyx 2.26.0 Adrin Jalali
| malbec1 | Linux (Ubuntu 18.04.4 LTS) / x86_64 | OK | OK | OK | |||||||
| tokay1 | Windows Server 2012 R2 Standard / x64 | [ ERROR ] | OK | ERROR | ERROR | |||||||
| merida1 | OS X 10.11.6 El Capitan / x86_64 | OK | OK | WARNINGS | OK |
| Package: RchyOptimyx |
| Version: 2.26.0 |
| Command: C:\cygwin\bin\curl.exe -O https://malbec1.bioconductor.org/BBS/3.10/bioc/src/contrib/RchyOptimyx_2.26.0.tar.gz && rm -rf RchyOptimyx.buildbin-libdir && mkdir RchyOptimyx.buildbin-libdir && C:\Users\biocbuild\bbs-3.10-bioc\R\bin\R.exe CMD INSTALL --merge-multiarch --build --library=RchyOptimyx.buildbin-libdir RchyOptimyx_2.26.0.tar.gz && C:\Users\biocbuild\bbs-3.10-bioc\R\bin\R.exe CMD INSTALL RchyOptimyx_2.26.0.zip && rm RchyOptimyx_2.26.0.tar.gz RchyOptimyx_2.26.0.zip |
| StartedAt: 2020-04-14 19:32:58 -0400 (Tue, 14 Apr 2020) |
| EndedAt: 2020-04-14 19:33:07 -0400 (Tue, 14 Apr 2020) |
| EllapsedTime: 8.7 seconds |
| RetCode: 1 |
| Status: ERROR |
##############################################################################
##############################################################################
###
### Running command:
###
### C:\cygwin\bin\curl.exe -O https://malbec1.bioconductor.org/BBS/3.10/bioc/src/contrib/RchyOptimyx_2.26.0.tar.gz && rm -rf RchyOptimyx.buildbin-libdir && mkdir RchyOptimyx.buildbin-libdir && C:\Users\biocbuild\bbs-3.10-bioc\R\bin\R.exe CMD INSTALL --merge-multiarch --build --library=RchyOptimyx.buildbin-libdir RchyOptimyx_2.26.0.tar.gz && C:\Users\biocbuild\bbs-3.10-bioc\R\bin\R.exe CMD INSTALL RchyOptimyx_2.26.0.zip && rm RchyOptimyx_2.26.0.tar.gz RchyOptimyx_2.26.0.zip
###
##############################################################################
##############################################################################
% Total % Received % Xferd Average Speed Time Time Time Current
Dload Upload Total Spent Left Speed
0 0 0 0 0 0 0 0 --:--:-- --:--:-- --:--:-- 0
100 360k 100 360k 0 0 8182k 0 --:--:-- --:--:-- --:--:-- 9016k
install for i386
* installing *source* package 'RchyOptimyx' ...
** using staged installation
** libs
C:/Rtools/mingw_32/bin/g++ -std=gnu++11 -I"C:/Users/BIOCBU~1/BBS-3~1.10-/R/include" -DNDEBUG -I"C:/extsoft/include" -O2 -Wall -mtune=core2 -c RchyOptimyx.cpp -o RchyOptimyx.o
C:/Rtools/mingw_32/bin/g++ -std=gnu++11 -I"C:/Users/BIOCBU~1/BBS-3~1.10-/R/include" -DNDEBUG -I"C:/extsoft/include" -O2 -Wall -mtune=core2 -c dataRead.cpp -o dataRead.o
C:/Rtools/mingw_32/bin/g++ -std=gnu++11 -I"C:/Users/BIOCBU~1/BBS-3~1.10-/R/include" -DNDEBUG -I"C:/extsoft/include" -O2 -Wall -mtune=core2 -c mystring.cpp -o mystring.o
C:/Rtools/mingw_32/bin/g++ -std=gnu++11 -I"C:/Users/BIOCBU~1/BBS-3~1.10-/R/include" -DNDEBUG -I"C:/extsoft/include" -O2 -Wall -mtune=core2 -c numberGenerator.cpp -o numberGenerator.o
C:/Rtools/mingw_32/bin/g++ -std=gnu++11 -shared -s -static-libgcc -o RchyOptimyx.dll tmp.def RchyOptimyx.o dataRead.o mystring.o numberGenerator.o -LC:/extsoft/lib/i386 -LC:/extsoft/lib -LC:/Users/BIOCBU~1/BBS-3~1.10-/R/bin/i386 -lR
installing to C:/Users/biocbuild/bbs-3.10-bioc/meat/RchyOptimyx.buildbin-libdir/00LOCK-RchyOptimyx/00new/RchyOptimyx/libs/i386
** R
** data
** inst
** byte-compile and prepare package for lazy loading
Error in library.dynam(dynlib, pkg, lib) :
DLL 'rgl' not found: maybe not installed for this architecture?
Error: .onLoad failed in loadNamespace() for 'rgl', details:
call: NULL
error: Loading rgl's DLL failed.
Execution halted
ERROR: lazy loading failed for package 'RchyOptimyx'
* removing 'C:/Users/biocbuild/bbs-3.10-bioc/meat/RchyOptimyx.buildbin-libdir/RchyOptimyx'