| Back to Multiple platform build/check report for BioC 3.10 |
|
This page was generated on 2020-04-15 12:18:54 -0400 (Wed, 15 Apr 2020).
| Package 1472/1823 | Hostname | OS / Arch | INSTALL | BUILD | CHECK | BUILD BIN | ||||||
| RPA 1.42.0 Leo Lahti
| malbec1 | Linux (Ubuntu 18.04.4 LTS) / x86_64 | OK | OK | OK | |||||||
| tokay1 | Windows Server 2012 R2 Standard / x64 | OK | OK | OK | [ OK ] | |||||||
| merida1 | OS X 10.11.6 El Capitan / x86_64 | OK | OK | OK | OK |
| Package: RPA |
| Version: 1.42.0 |
| Command: rm -rf RPA.buildbin-libdir && mkdir RPA.buildbin-libdir && C:\Users\biocbuild\bbs-3.10-bioc\R\bin\R.exe CMD INSTALL --merge-multiarch --build --library=RPA.buildbin-libdir RPA_1.42.0.tar.gz |
| StartedAt: 2020-04-15 09:35:03 -0400 (Wed, 15 Apr 2020) |
| EndedAt: 2020-04-15 09:35:35 -0400 (Wed, 15 Apr 2020) |
| EllapsedTime: 31.5 seconds |
| RetCode: 0 |
| Status: OK |
| PackageFile: RPA_1.42.0.zip |
| PackageFileSize: 435.1 KiB |
##############################################################################
##############################################################################
###
### Running command:
###
### rm -rf RPA.buildbin-libdir && mkdir RPA.buildbin-libdir && C:\Users\biocbuild\bbs-3.10-bioc\R\bin\R.exe CMD INSTALL --merge-multiarch --build --library=RPA.buildbin-libdir RPA_1.42.0.tar.gz
###
##############################################################################
##############################################################################
install for i386
* installing *source* package 'RPA' ...
** using staged installation
** R
** inst
** byte-compile and prepare package for lazy loading
** help
*** installing help indices
converting help for package 'RPA'
finding HTML links ... done
RPA-package html
RPA.iteration html
RPA.preprocess html
calculate.rpa html
collect.hyperparameters html
d.update.fast html
estimate.affinities html
estimate.hyperparameters html
frpa html
get.batches html
get.probe.matrix html
get.probe.parameters html
get.probeset html
hyperparameter.update html
levelmap html
n.phylotypes.per.oligo html
online.quantile html
probe.parameters.tolist html
probe.performance html
probeplot html
probetable html
retrieve.probesets html
rpa html
rpa.complete html
rpa.fit html
rpa.online html
rpa.plot html
rpa.summarize html
rpaplot html
sample.probeset html
summarize.batch html
summarize.batches html
summarize.rpa html
summarize.sum html
summarize_probedata html
updating.hyperparameters html
** building package indices
** installing vignettes
** testing if installed package can be loaded from temporary location
** testing if installed package can be loaded from final location
** testing if installed package keeps a record of temporary installation path
install for x64
* installing *source* package 'RPA' ...
** testing if installed package can be loaded
* MD5 sums
packaged installation of 'RPA' as RPA_1.42.0.zip
* DONE (RPA)