| Back to Multiple platform build/check report for BioC 3.10 |
|
This page was generated on 2020-04-15 12:05:22 -0400 (Wed, 15 Apr 2020).
| Package 1451/1823 | Hostname | OS / Arch | INSTALL | BUILD | CHECK | BUILD BIN | ||||||
| RNAither 2.34.0 Lars Kaderali
| malbec1 | Linux (Ubuntu 18.04.4 LTS) / x86_64 | OK | OK | [ OK ] | |||||||
| tokay1 | Windows Server 2012 R2 Standard / x64 | OK | OK | OK | OK | |||||||
| merida1 | OS X 10.11.6 El Capitan / x86_64 | OK | OK | OK | OK |
| Package: RNAither |
| Version: 2.34.0 |
| Command: /home/biocbuild/bbs-3.10-bioc/R/bin/R CMD check --install=check:RNAither.install-out.txt --library=/home/biocbuild/bbs-3.10-bioc/R/library --no-vignettes --timings RNAither_2.34.0.tar.gz |
| StartedAt: 2020-04-15 00:33:23 -0400 (Wed, 15 Apr 2020) |
| EndedAt: 2020-04-15 00:36:48 -0400 (Wed, 15 Apr 2020) |
| EllapsedTime: 205.5 seconds |
| RetCode: 0 |
| Status: OK |
| CheckDir: RNAither.Rcheck |
| Warnings: 0 |
##############################################################################
##############################################################################
###
### Running command:
###
### /home/biocbuild/bbs-3.10-bioc/R/bin/R CMD check --install=check:RNAither.install-out.txt --library=/home/biocbuild/bbs-3.10-bioc/R/library --no-vignettes --timings RNAither_2.34.0.tar.gz
###
##############################################################################
##############################################################################
* using log directory ‘/home/biocbuild/bbs-3.10-bioc/meat/RNAither.Rcheck’
* using R version 3.6.3 (2020-02-29)
* using platform: x86_64-pc-linux-gnu (64-bit)
* using session charset: UTF-8
* using option ‘--no-vignettes’
* checking for file ‘RNAither/DESCRIPTION’ ... OK
* this is package ‘RNAither’ version ‘2.34.0’
* checking package namespace information ... OK
* checking package dependencies ... OK
* checking if this is a source package ... OK
* checking if there is a namespace ... OK
* checking for hidden files and directories ... OK
* checking for portable file names ... OK
* checking for sufficient/correct file permissions ... OK
* checking whether package ‘RNAither’ can be installed ... OK
* checking installed package size ... OK
* checking package directory ... OK
* checking ‘build’ directory ... OK
* checking DESCRIPTION meta-information ... OK
* checking top-level files ... OK
* checking for left-over files ... OK
* checking index information ... OK
* checking package subdirectories ... NOTE
Found the following CITATION file in a non-standard place:
inst/extdata/CITATION
Most likely ‘inst/CITATION’ should be used instead.
* checking R files for non-ASCII characters ... OK
* checking R files for syntax errors ... OK
* checking whether the package can be loaded ... OK
* checking whether the package can be loaded with stated dependencies ... OK
* checking whether the package can be unloaded cleanly ... OK
* checking whether the namespace can be loaded with stated dependencies ... OK
* checking whether the namespace can be unloaded cleanly ... OK
* checking dependencies in R code ... NOTE
Package in Depends field not imported from: ‘RankProd’
These packages need to be imported from (in the NAMESPACE file)
for when this namespace is loaded but not attached.
* checking S3 generic/method consistency ... OK
* checking replacement functions ... OK
* checking foreign function calls ... OK
* checking R code for possible problems ... NOTE
PlotSpatialDistrib: no visible global function definition for
‘brewer.pal’
RankProduct: no visible global function definition for ‘RP’
compareReplicateSD: no visible global function definition for
‘brewer.pal’
compareReplicateSDPerScreen: no visible global function definition for
‘brewer.pal’
spatialDistrib: no visible global function definition for ‘brewer.pal’
Undefined global functions or variables:
RP brewer.pal
* checking Rd files ... OK
* checking Rd metadata ... OK
* checking Rd cross-references ... OK
* checking for missing documentation entries ... OK
* checking for code/documentation mismatches ... OK
* checking Rd \usage sections ... OK
* checking Rd contents ... OK
* checking for unstated dependencies in examples ... OK
* checking contents of ‘data’ directory ... OK
* checking data for non-ASCII characters ... OK
* checking data for ASCII and uncompressed saves ... OK
* checking files in ‘vignettes’ ... OK
* checking examples ... OK
Examples with CPU or elapsed time > 5s
user system elapsed
mainAnalysis 15.444 0.224 15.776
rnaither 8.872 0.088 8.979
* checking for unstated dependencies in vignettes ... OK
* checking package vignettes in ‘inst/doc’ ... OK
* checking running R code from vignettes ... SKIPPED
* checking re-building of vignette outputs ... SKIPPED
* checking PDF version of manual ... OK
* DONE
Status: 3 NOTEs
See
‘/home/biocbuild/bbs-3.10-bioc/meat/RNAither.Rcheck/00check.log’
for details.
RNAither.Rcheck/00install.out
############################################################################## ############################################################################## ### ### Running command: ### ### /home/biocbuild/bbs-3.10-bioc/R/bin/R CMD INSTALL RNAither ### ############################################################################## ############################################################################## * installing to library ‘/home/biocbuild/bbs-3.10-bioc/R/library’ * installing *source* package ‘RNAither’ ... ** using staged installation ** R ** data ** inst ** byte-compile and prepare package for lazy loading groupGOTerms: GOBPTerm, GOMFTerm, GOCCTerm environments built. ** help *** installing help indices ** building package indices ** installing vignettes ** testing if installed package can be loaded from temporary location groupGOTerms: GOBPTerm, GOMFTerm, GOCCTerm environments built. ** testing if installed package can be loaded from final location groupGOTerms: GOBPTerm, GOMFTerm, GOCCTerm environments built. ** testing if installed package keeps a record of temporary installation path * DONE (RNAither)
RNAither.Rcheck/RNAither-Ex.timings
| name | user | system | elapsed | |
| BScore | 0.036 | 0.000 | 0.038 | |
| DRQualControl | 0.048 | 0.000 | 0.049 | |
| LiWongRank | 0.068 | 0.000 | 0.070 | |
| MannWhitney | 0.020 | 0.000 | 0.017 | |
| RankProduct | 0.072 | 0.000 | 0.073 | |
| SNRQualControl | 0.020 | 0.000 | 0.018 | |
| Ttest | 0.012 | 0.000 | 0.015 | |
| ZPRIMEQualControl | 0.032 | 0.004 | 0.040 | |
| ZScore | 0.004 | 0.000 | 0.008 | |
| ZScorePerScreen | 0.004 | 0.000 | 0.005 | |
| ZScorePlot | 0.032 | 0.000 | 0.034 | |
| ZScorePlotTwo | 0.016 | 0.000 | 0.018 | |
| channelPlot | 0.016 | 0.004 | 0.020 | |
| closestToZero | 0.000 | 0.000 | 0.001 | |
| compareHits | 0.040 | 0.000 | 0.038 | |
| compareReplicaPlates | 0.008 | 0.000 | 0.010 | |
| compareReplicateSD | 0.120 | 0.000 | 0.123 | |
| compareReplicateSDPerScreen | 0.172 | 0.000 | 0.169 | |
| compareReplicates | 0.124 | 0.000 | 0.124 | |
| controlDensity | 0.056 | 0.004 | 0.062 | |
| controlDensityPerPlate | 0.148 | 0.004 | 0.153 | |
| controlDensityPerScreen | 0.072 | 0.000 | 0.072 | |
| controlNorm | 0.012 | 0.000 | 0.011 | |
| createSubset | 0.02 | 0.00 | 0.02 | |
| discardLabtek | 0.000 | 0.000 | 0.002 | |
| discardWells | 0.004 | 0.000 | 0.002 | |
| divNorm | 0.008 | 0.000 | 0.007 | |
| divideChannels | 0.000 | 0.000 | 0.002 | |
| eraseDataSetColumn | 0.004 | 0.000 | 0.005 | |
| findReplicates | 0.000 | 0.000 | 0.002 | |
| furthestFromZero | 0.004 | 0.000 | 0.001 | |
| generateDatasetFile | 0.008 | 0.000 | 0.007 | |
| generateRepMatNoFilter | 0.000 | 0.000 | 0.003 | |
| generateReplicateMat | 0.004 | 0.000 | 0.004 | |
| gseaAnalysis | 0.536 | 0.020 | 1.697 | |
| hitselectionPval | 0.024 | 0.000 | 0.021 | |
| hitselectionZscore | 0.024 | 0.000 | 0.025 | |
| hitselectionZscorePval | 0.048 | 0.000 | 0.052 | |
| incorporatepValVec | 0.012 | 0.000 | 0.015 | |
| indexSubset | 0.000 | 0.000 | 0.003 | |
| joinDatasetFiles | 0.016 | 0.004 | 0.021 | |
| joinDatasets | 0.304 | 0.000 | 0.303 | |
| lowessNorm | 0.008 | 0.004 | 0.011 | |
| mainAnalysis | 15.444 | 0.224 | 15.776 | |
| makeBoxplot4PlateType | 0.044 | 0.000 | 0.045 | |
| makeBoxplotControls | 0.024 | 0.000 | 0.025 | |
| makeBoxplotControlsPerPlate | 0.088 | 0.004 | 0.094 | |
| makeBoxplotControlsPerScreen | 0.048 | 0.000 | 0.050 | |
| makeBoxplotPerPlate | 0.048 | 0.000 | 0.047 | |
| makeBoxplotPerScreen | 0.040 | 0.000 | 0.041 | |
| multTestAdjust | 0.000 | 0.000 | 0.002 | |
| numCellQualControl | 0.028 | 0.004 | 0.035 | |
| orderGeneIDs | 0.044 | 0.000 | 0.044 | |
| percCellQualControl | 0.020 | 0.004 | 0.025 | |
| plotBar | 0.120 | 0.000 | 0.119 | |
| plotControlHisto | 0.072 | 0.004 | 0.073 | |
| plotControlHistoPerplate | 0.264 | 0.004 | 0.270 | |
| plotControlHistoPerscreen | 0.128 | 0.000 | 0.128 | |
| plotHisto | 0.020 | 0.000 | 0.019 | |
| plotHistoPerplate | 0.072 | 0.000 | 0.073 | |
| plotHistoPerscreen | 0.040 | 0.000 | 0.038 | |
| plotQQ | 0.044 | 0.000 | 0.044 | |
| plotQQperplate | 0.080 | 0.000 | 0.082 | |
| plotQQperscreen | 0.040 | 0.000 | 0.042 | |
| quantileNormalization | 0.012 | 0.004 | 0.016 | |
| replicatesCV | 0.040 | 0.000 | 0.043 | |
| replicatesSpearmancor | 0.008 | 0.008 | 0.019 | |
| rms | 0.000 | 0.000 | 0.002 | |
| rnaither | 8.872 | 0.088 | 8.979 | |
| saveDataset | 0.008 | 0.000 | 0.008 | |
| saveOldIntensityColumns | 0.000 | 0.000 | 0.002 | |
| savepValVec | 0.004 | 0.000 | 0.003 | |
| spatialDistrib | 0.416 | 0.000 | 0.415 | |
| spatialDistribHits | 0.344 | 0.000 | 0.343 | |
| subtractBackground | 0.004 | 0.000 | 0.004 | |
| sumChannels | 0.012 | 0.000 | 0.012 | |
| summarizeReps | 0.060 | 0.000 | 0.063 | |
| summarizeRepsNoFiltering | 0.060 | 0.000 | 0.059 | |
| trim | 0.004 | 0.000 | 0.003 | |
| varAdjust | 0.004 | 0.004 | 0.008 | |
| vennDiag | 0.068 | 0.008 | 0.076 | |
| volcanoPlot | 0.044 | 0.008 | 0.049 | |