| Back to Multiple platform build/check report for BioC 3.10 | 
  | 
This page was generated on 2020-04-15 12:26:09 -0400 (Wed, 15 Apr 2020).
| Package 1436/1823 | Hostname | OS / Arch | INSTALL | BUILD | CHECK | BUILD BIN | ||||||
| RImmPort 1.14.0 Zicheng Hu 
  | malbec1 | Linux (Ubuntu 18.04.4 LTS) / x86_64 | OK | OK | OK | |||||||
| tokay1 | Windows Server 2012 R2 Standard / x64 | OK | [ OK ] | OK | OK | |||||||
| merida1 | OS X 10.11.6 El Capitan / x86_64 | OK | OK | OK | OK | 
| Package: RImmPort | 
| Version: 1.14.0 | 
| Command: chmod a+r RImmPort -R && C:\Users\biocbuild\bbs-3.10-bioc\R\bin\R.exe CMD build --keep-empty-dirs --no-resave-data RImmPort | 
| StartedAt: 2020-04-14 22:47:13 -0400 (Tue, 14 Apr 2020) | 
| EndedAt: 2020-04-14 22:47:55 -0400 (Tue, 14 Apr 2020) | 
| EllapsedTime: 41.5 seconds | 
| RetCode: 0 | 
| Status: OK | 
| PackageFile: RImmPort_1.14.0.tar.gz | 
| PackageFileSize: 2.815 MiB | 
############################################################################## ############################################################################## ### ### Running command: ### ### chmod a+r RImmPort -R && C:\Users\biocbuild\bbs-3.10-bioc\R\bin\R.exe CMD build --keep-empty-dirs --no-resave-data RImmPort ### ############################################################################## ############################################################################## * checking for file 'RImmPort/DESCRIPTION' ... OK * preparing 'RImmPort': * checking DESCRIPTION meta-information ... OK * installing the package to build vignettes * creating vignettes ... OK * checking for LF line-endings in source and make files and shell scripts * checking for empty or unneeded directories * building 'RImmPort_1.14.0.tar.gz'