| Back to Multiple platform build/check report for BioC 3.10 |
|
This page was generated on 2020-04-15 12:38:15 -0400 (Wed, 15 Apr 2020).
| Package 1438/1823 | Hostname | OS / Arch | INSTALL | BUILD | CHECK | BUILD BIN | ||||||
| RIPSeeker 1.26.0 Yue Li
| malbec1 | Linux (Ubuntu 18.04.4 LTS) / x86_64 | OK | OK | OK | |||||||
| tokay1 | Windows Server 2012 R2 Standard / x64 | OK | OK | WARNINGS | OK | |||||||
| merida1 | OS X 10.11.6 El Capitan / x86_64 | OK | OK | [ OK ] | OK |
| Package: RIPSeeker |
| Version: 1.26.0 |
| Command: /Library/Frameworks/R.framework/Versions/Current/Resources/bin/R CMD check --install=check:RIPSeeker.install-out.txt --library=/Library/Frameworks/R.framework/Versions/Current/Resources/library --no-vignettes --timings RIPSeeker_1.26.0.tar.gz |
| StartedAt: 2020-04-15 05:11:27 -0400 (Wed, 15 Apr 2020) |
| EndedAt: 2020-04-15 05:16:17 -0400 (Wed, 15 Apr 2020) |
| EllapsedTime: 290.2 seconds |
| RetCode: 0 |
| Status: OK |
| CheckDir: RIPSeeker.Rcheck |
| Warnings: 0 |
##############################################################################
##############################################################################
###
### Running command:
###
### /Library/Frameworks/R.framework/Versions/Current/Resources/bin/R CMD check --install=check:RIPSeeker.install-out.txt --library=/Library/Frameworks/R.framework/Versions/Current/Resources/library --no-vignettes --timings RIPSeeker_1.26.0.tar.gz
###
##############################################################################
##############################################################################
* using log directory ‘/Users/biocbuild/bbs-3.10-bioc/meat/RIPSeeker.Rcheck’
* using R version 3.6.3 (2020-02-29)
* using platform: x86_64-apple-darwin15.6.0 (64-bit)
* using session charset: UTF-8
* using option ‘--no-vignettes’
* checking for file ‘RIPSeeker/DESCRIPTION’ ... OK
* checking extension type ... Package
* this is package ‘RIPSeeker’ version ‘1.26.0’
* checking package namespace information ... OK
* checking package dependencies ... NOTE
Depends: includes the non-default packages:
'S4Vectors', 'IRanges', 'GenomicRanges', 'SummarizedExperiment',
'Rsamtools', 'GenomicAlignments', 'rtracklayer'
Adding so many packages to the search path is excessive and importing
selectively is preferable.
* checking if this is a source package ... OK
* checking if there is a namespace ... OK
* checking for hidden files and directories ... OK
* checking for portable file names ... OK
* checking for sufficient/correct file permissions ... OK
* checking whether package ‘RIPSeeker’ can be installed ... OK
* checking installed package size ... OK
* checking package directory ... OK
* checking ‘build’ directory ... OK
* checking DESCRIPTION meta-information ... OK
* checking top-level files ... OK
* checking for left-over files ... OK
* checking index information ... OK
* checking package subdirectories ... OK
* checking R files for non-ASCII characters ... OK
* checking R files for syntax errors ... OK
* checking whether the package can be loaded ... OK
* checking whether the package can be loaded with stated dependencies ... OK
* checking whether the package can be unloaded cleanly ... OK
* checking whether the namespace can be loaded with stated dependencies ... OK
* checking whether the namespace can be unloaded cleanly ... OK
* checking dependencies in R code ... NOTE
'library' or 'require' call to ‘Rsamtools’ which was already attached by Depends.
Please remove these calls from your code.
'library' or 'require' calls in package code:
‘ChIPpeakAnno’ ‘GenomicFeatures’ ‘biomaRt’ ‘parallel’
Please use :: or requireNamespace() instead.
See section 'Suggested packages' in the 'Writing R Extensions' manual.
* checking S3 generic/method consistency ... NOTE
Found the following apparent S3 methods exported but not registered:
nbh.GRanges nbh.integer
See section ‘Registering S3 methods’ in the ‘Writing R Extensions’
manual.
* checking replacement functions ... OK
* checking foreign function calls ... OK
* checking R code for possible problems ... NOTE
annotateRIP: no visible global function definition for ‘getAnnotation’
annotateRIP: no visible global function definition for ‘getBM’
annotateRIP: no visible global function definition for ‘write.table’
binCount: no visible global function definition for ‘seqlengths’
combineRIP: no visible global function definition for ‘seqlengths<-’
combineRIP: no visible global function definition for ‘seqlengths’
computeRPKM: no visible global function definition for ‘exonsBy’
computeRPKM: no visible global function definition for ‘cdsBy’
computeRPKM: no visible global function definition for
‘intronsByTranscript’
computeRPKM: no visible global function definition for
‘fiveUTRsByTranscript’
computeRPKM: no visible global function definition for
‘threeUTRsByTranscript’
computeRPKM: no visible global function definition for ‘seqlevels<-’
computeRPKM: no visible global function definition for ‘seqlevels’
computeRPKM: no visible global function definition for ‘read.delim’
computeRPKM: no visible global function definition for ‘getBM’
exportGRanges: no visible global function definition for ‘write.table’
galp2gal: no visible global function definition for ‘seqlengths’
getAlignGal: no visible global function definition for ‘seqlengths<-’
getAlignGal: no visible global function definition for ‘seqlengths’
mainSeek: no visible global function definition for ‘mclapply’
mainSeekSingleChrom: no visible global function definition for
‘seqlengths’
plotCoverage: no visible global function definition for ‘seqlengths’
ripSeek: no visible global function definition for ‘as.roman’
ripSeek: no visible global function definition for ‘write.table’
rulebaseRIPSeek: no visible global function definition for ‘getBM’
rulebaseRIPSeek: no visible global function definition for
‘write.table’
selectBinSize: no visible global function definition for ‘seqlengths’
viewRIP: no visible global function definition for
‘GRangesForUCSCGenome’
Undefined global functions or variables:
GRangesForUCSCGenome as.roman cdsBy exonsBy fiveUTRsByTranscript
getAnnotation getBM intronsByTranscript mclapply read.delim
seqlengths seqlengths<- seqlevels seqlevels<- threeUTRsByTranscript
write.table
Consider adding
importFrom("utils", "as.roman", "read.delim", "write.table")
to your NAMESPACE file.
* checking Rd files ... OK
* checking Rd metadata ... OK
* checking Rd cross-references ... OK
* checking for missing documentation entries ... OK
* checking for code/documentation mismatches ... OK
* checking Rd \usage sections ... OK
* checking Rd contents ... OK
* checking for unstated dependencies in examples ... OK
* checking sizes of PDF files under ‘inst/doc’ ... OK
* checking files in ‘vignettes’ ... OK
* checking examples ... OK
Examples with CPU or elapsed time > 5s
user system elapsed
mainSeek 16.768 0.065 16.962
disambiguateMultihits 15.331 0.064 15.515
combineRIP 2.318 0.052 19.978
* checking for unstated dependencies in vignettes ... OK
* checking package vignettes in ‘inst/doc’ ... OK
* checking running R code from vignettes ... SKIPPED
* checking re-building of vignette outputs ... SKIPPED
* checking PDF version of manual ... OK
* DONE
Status: 4 NOTEs
See
‘/Users/biocbuild/bbs-3.10-bioc/meat/RIPSeeker.Rcheck/00check.log’
for details.
RIPSeeker.Rcheck/00install.out
############################################################################## ############################################################################## ### ### Running command: ### ### /Library/Frameworks/R.framework/Versions/Current/Resources/bin/R CMD INSTALL RIPSeeker ### ############################################################################## ############################################################################## * installing to library ‘/Library/Frameworks/R.framework/Versions/3.6/Resources/library’ * installing *source* package ‘RIPSeeker’ ... ** using staged installation ** R ** inst ** byte-compile and prepare package for lazy loading ** help *** installing help indices ** building package indices ** installing vignettes ** testing if installed package can be loaded from temporary location ** testing if installed package can be loaded from final location ** testing if installed package keeps a record of temporary installation path * DONE (RIPSeeker)
RIPSeeker.Rcheck/RIPSeeker-Ex.timings
| name | user | system | elapsed | |
| RIPSeeker-package | 0.002 | 0.001 | 0.003 | |
| addDummyProb | 1.128 | 0.093 | 1.234 | |
| addPseudoAlignment | 0.536 | 0.022 | 0.561 | |
| annotateRIP | 0.024 | 0.001 | 0.026 | |
| binCount | 0.652 | 0.031 | 0.691 | |
| combineAlignGals | 0.366 | 0.016 | 0.384 | |
| combineRIP | 2.318 | 0.052 | 19.978 | |
| computeLogOdd | 1.611 | 0.034 | 1.660 | |
| computeRPKM | 0.004 | 0.000 | 0.005 | |
| disambiguateMultihits | 15.331 | 0.064 | 15.515 | |
| empiricalFDR | 0.001 | 0.001 | 0.001 | |
| evalBinSize | 0.420 | 0.029 | 0.450 | |
| exportGRanges | 0.002 | 0.000 | 0.003 | |
| galp2gal | 0.249 | 0.005 | 0.266 | |
| getAlignGal | 0.181 | 0.006 | 0.190 | |
| logScoreWithControl | 0.007 | 0.001 | 0.007 | |
| logScoreWithoutControl | 0.003 | 0.000 | 0.004 | |
| mainSeek | 16.768 | 0.065 | 16.962 | |
| mainSeekSingleChrom | 1.676 | 0.028 | 1.724 | |
| nbh.GRanges | 0 | 0 | 0 | |
| nbh | 2.275 | 0.022 | 2.309 | |
| nbh.integer | 0.001 | 0.001 | 0.001 | |
| nbh_chk | 0.001 | 0.000 | 0.001 | |
| nbh_em | 0.270 | 0.003 | 0.275 | |
| nbh_gen | 0.004 | 0.000 | 0.004 | |
| nbh_init | 1.698 | 0.012 | 1.725 | |
| nbh_vit | 0.288 | 0.006 | 0.353 | |
| nbm_chk | 0.000 | 0.000 | 0.001 | |
| nbm_em | 0.423 | 0.003 | 0.427 | |
| plotCoverage | 0.727 | 0.059 | 0.794 | |
| plotStrandedCoverage | 1.199 | 0.301 | 1.518 | |
| randindx | 0.197 | 0.013 | 0.216 | |
| ripSeek | 0.009 | 0.000 | 0.009 | |
| rulebaseRIPSeek | 0.004 | 0.000 | 0.005 | |
| scoreMergedBins | 0.023 | 0.001 | 0.025 | |
| seekRIP | 0.011 | 0.001 | 0.012 | |
| selectBinSize | 2.578 | 0.283 | 2.893 | |
| statdis | 0.259 | 0.002 | 0.263 | |
| viewRIP | 0.008 | 0.001 | 0.009 | |