| Back to Multiple platform build/check report for BioC 3.10 |
|
This page was generated on 2020-04-15 12:31:40 -0400 (Wed, 15 Apr 2020).
| Package 1386/1823 | Hostname | OS / Arch | INSTALL | BUILD | CHECK | BUILD BIN | ||||||
| RCM 1.2.0 Joris Meys
| malbec1 | Linux (Ubuntu 18.04.4 LTS) / x86_64 | OK | OK | OK | |||||||
| tokay1 | Windows Server 2012 R2 Standard / x64 | OK | OK | OK | [ OK ] | |||||||
| merida1 | OS X 10.11.6 El Capitan / x86_64 | OK | OK | OK | OK |
| Package: RCM |
| Version: 1.2.0 |
| Command: rm -rf RCM.buildbin-libdir && mkdir RCM.buildbin-libdir && C:\Users\biocbuild\bbs-3.10-bioc\R\bin\R.exe CMD INSTALL --merge-multiarch --build --library=RCM.buildbin-libdir RCM_1.2.0.tar.gz |
| StartedAt: 2020-04-15 09:30:07 -0400 (Wed, 15 Apr 2020) |
| EndedAt: 2020-04-15 09:30:48 -0400 (Wed, 15 Apr 2020) |
| EllapsedTime: 40.3 seconds |
| RetCode: 0 |
| Status: OK |
| PackageFile: RCM_1.2.0.zip |
| PackageFileSize: 3.053 MiB |
##############################################################################
##############################################################################
###
### Running command:
###
### rm -rf RCM.buildbin-libdir && mkdir RCM.buildbin-libdir && C:\Users\biocbuild\bbs-3.10-bioc\R\bin\R.exe CMD INSTALL --merge-multiarch --build --library=RCM.buildbin-libdir RCM_1.2.0.tar.gz
###
##############################################################################
##############################################################################
install for i386
* installing *source* package 'RCM' ...
** using staged installation
** R
** data
*** moving datasets to lazyload DB
** inst
** byte-compile and prepare package for lazy loading
** help
*** installing help indices
converting help for package 'RCM'
finding HTML links ... done
JacCol_constr html
JacCol_constr_noLab html
LR_nb html
LR_nb_Jac html
NBalphaInfl html
NBcolInfl html
NBjacobianAbunds html
NBjacobianCol html
NBjacobianColNP html
NBjacobianLibSizes html
NBjacobianPsi html
NBjacobianRow html
NBpsiInfl html
NBrowInfl html
RCM html
RCM_NB html
Zeller html
addOrthProjection html
arrayprod html
buildCentMat html
buildConfMat html
buildConfMat.character html
buildConfMat.data.frame html
buildCovMat html
buildDesign html
dLR_nb html
dNBabunds html
dNBlibSizes html
dNBllcol html
dNBllcolNP html
dNBllcol_constr html
dNBllcol_constr_noLab html
dNBllrow html
dNBpsis html
deviances html
ellipseCoord html
estDisp html
estNBparams html
estNBparamsNoLab html
estNPresp html
extractCoord html
extractE html
filterConfounders html
getDevMat html
getDevianceRes html
getInflCol html
getInflRow html
getInt html
getLogLik html
getModelMat html
getRowMat html
heq_nb html
heq_nb_jac html
indentPlot html
inertia html
liks html
plot.RCM html
plotRespFun html
residualPlot html
respFunJacMat html
respFunScoreMat html
rowMultiply html
seq_k html
trimOnConfounders html
** building package indices
** installing vignettes
** testing if installed package can be loaded from temporary location
** testing if installed package can be loaded from final location
** testing if installed package keeps a record of temporary installation path
install for x64
* installing *source* package 'RCM' ...
** testing if installed package can be loaded
* MD5 sums
packaged installation of 'RCM' as RCM_1.2.0.zip
* DONE (RCM)