| Back to Multiple platform build/check report for BioC 3.10 | 
  | 
This page was generated on 2019-08-24 12:01:47 -0400 (Sat, 24 Aug 2019).
| Package 1302/1760 | Hostname | OS / Arch | INSTALL | BUILD | CHECK | BUILD BIN | ||||||
| QUALIFIER 1.29.1 Mike Jiang 
  | malbec1 | Linux (Ubuntu 18.04.2 LTS) / x86_64 | OK | OK | WARNINGS | |||||||
| tokay1 | Windows Server 2012 R2 Standard / x64 | OK | OK | WARNINGS | [ OK ] | |||||||
| merida1 | OS X 10.11.6 El Capitan / x86_64 | OK | OK | WARNINGS | OK | 
| Package: QUALIFIER | 
| Version: 1.29.1 | 
| Command: rm -rf QUALIFIER.buildbin-libdir && mkdir QUALIFIER.buildbin-libdir && C:\Users\biocbuild\bbs-3.10-bioc\R\bin\R.exe CMD INSTALL --merge-multiarch --build --library=QUALIFIER.buildbin-libdir QUALIFIER_1.29.1.tar.gz | 
| StartedAt: 2019-08-24 07:55:00 -0400 (Sat, 24 Aug 2019) | 
| EndedAt: 2019-08-24 07:55:41 -0400 (Sat, 24 Aug 2019) | 
| EllapsedTime: 40.6 seconds | 
| RetCode: 0 | 
| Status: OK | 
| PackageFile: QUALIFIER_1.29.1.zip | 
| PackageFileSize: 1.106 MiB | 
##############################################################################
##############################################################################
###
### Running command:
###
###   rm -rf QUALIFIER.buildbin-libdir && mkdir QUALIFIER.buildbin-libdir && C:\Users\biocbuild\bbs-3.10-bioc\R\bin\R.exe CMD INSTALL --merge-multiarch --build --library=QUALIFIER.buildbin-libdir QUALIFIER_1.29.1.tar.gz
###
##############################################################################
##############################################################################
install for i386
* installing *source* package 'QUALIFIER' ...
** using staged installation
** R
** data
** inst
** byte-compile and prepare package for lazy loading
** help
*** installing help indices
  converting help for package 'QUALIFIER'
    finding HTML links ... done
    ITNQASTUDY                              html  
    QUALIFIER-package                       html  
    getQAStats                              html  
    finding level-2 HTML links ... done
    initDB                                  html  
    outlierFunctions                        html  
    plot-methods                            html  
    qaCheck-methods                         html  
Rd warning: C:/Users/biocbuild/bbs-3.10-bioc/tmpdir/RtmpyO3g3X/R.INSTALL27c47076a61/QUALIFIER/man/qaCheck-methods.Rd:40: file link 'plot' in package 'QUALIFIER' does not exist and so has been treated as a topic
Rd warning: C:/Users/biocbuild/bbs-3.10-bioc/tmpdir/RtmpyO3g3X/R.INSTALL27c47076a61/QUALIFIER/man/qaCheck-methods.Rd:129: file link 'plot' in package 'QUALIFIER' does not exist and so has been treated as a topic
    qaPreprocess                            html  
    qaReport                                html  
Rd warning: C:/Users/biocbuild/bbs-3.10-bioc/tmpdir/RtmpyO3g3X/R.INSTALL27c47076a61/QUALIFIER/man/qaReport.Rd:20: file link 'plot' in package 'QUALIFIER' does not exist and so has been treated as a topic
Rd warning: C:/Users/biocbuild/bbs-3.10-bioc/tmpdir/RtmpyO3g3X/R.INSTALL27c47076a61/QUALIFIER/man/qaReport.Rd:60: file link 'plot' in package 'QUALIFIER' does not exist and so has been treated as a topic
    qaTask-class                            html  
    read.qaTask                             html  
    saveToDB                                html  
    save_db                                 html  
** building package indices
** installing vignettes
** testing if installed package can be loaded from temporary location
** testing if installed package can be loaded from final location
** testing if installed package keeps a record of temporary installation path
install for x64
* installing *source* package 'QUALIFIER' ...
** testing if installed package can be loaded
* MD5 sums
packaged installation of 'QUALIFIER' as QUALIFIER_1.29.1.zip
* DONE (QUALIFIER)