| Back to Multiple platform build/check report for BioC 3.10 |
|
This page was generated on 2020-04-15 12:31:57 -0400 (Wed, 15 Apr 2020).
| Package 1301/1823 | Hostname | OS / Arch | INSTALL | BUILD | CHECK | BUILD BIN | ||||||
| PrInCE 1.2.0 Michael Skinnider
| malbec1 | Linux (Ubuntu 18.04.4 LTS) / x86_64 | OK | OK | OK | |||||||
| tokay1 | Windows Server 2012 R2 Standard / x64 | [ OK ] | OK | OK | OK | |||||||
| merida1 | OS X 10.11.6 El Capitan / x86_64 | OK | OK | OK | OK |
| Package: PrInCE |
| Version: 1.2.0 |
| Command: C:\cygwin\bin\curl.exe -O https://malbec1.bioconductor.org/BBS/3.10/bioc/src/contrib/PrInCE_1.2.0.tar.gz && rm -rf PrInCE.buildbin-libdir && mkdir PrInCE.buildbin-libdir && C:\Users\biocbuild\bbs-3.10-bioc\R\bin\R.exe CMD INSTALL --merge-multiarch --build --library=PrInCE.buildbin-libdir PrInCE_1.2.0.tar.gz && C:\Users\biocbuild\bbs-3.10-bioc\R\bin\R.exe CMD INSTALL PrInCE_1.2.0.zip && rm PrInCE_1.2.0.tar.gz PrInCE_1.2.0.zip |
| StartedAt: 2020-04-14 19:46:54 -0400 (Tue, 14 Apr 2020) |
| EndedAt: 2020-04-14 19:48:31 -0400 (Tue, 14 Apr 2020) |
| EllapsedTime: 96.9 seconds |
| RetCode: 0 |
| Status: OK |
##############################################################################
##############################################################################
###
### Running command:
###
### C:\cygwin\bin\curl.exe -O https://malbec1.bioconductor.org/BBS/3.10/bioc/src/contrib/PrInCE_1.2.0.tar.gz && rm -rf PrInCE.buildbin-libdir && mkdir PrInCE.buildbin-libdir && C:\Users\biocbuild\bbs-3.10-bioc\R\bin\R.exe CMD INSTALL --merge-multiarch --build --library=PrInCE.buildbin-libdir PrInCE_1.2.0.tar.gz && C:\Users\biocbuild\bbs-3.10-bioc\R\bin\R.exe CMD INSTALL PrInCE_1.2.0.zip && rm PrInCE_1.2.0.tar.gz PrInCE_1.2.0.zip
###
##############################################################################
##############################################################################
% Total % Received % Xferd Average Speed Time Time Time Current
Dload Upload Total Spent Left Speed
0 0 0 0 0 0 0 0 --:--:-- --:--:-- --:--:-- 0
100 1586k 100 1586k 0 0 22.6M 0 --:--:-- --:--:-- --:--:-- 23.8M
install for i386
* installing *source* package 'PrInCE' ...
** using staged installation
** R
** data
** inst
** byte-compile and prepare package for lazy loading
** help
Loading required namespace: PrInCE
Registered S3 method overwritten by 'quantmod':
method from
as.zoo.data.frame zoo
*** installing help indices
converting help for package 'PrInCE'
finding HTML links ... done
PrInCE html
finding level-2 HTML links ... done
adjacency_matrix_from_data_frame html
adjacency_matrix_from_list html
aic html
build_gaussians html
calculate_features html
calculate_precision html
check_gaussians html
choose_gaussians html
clean_profile html
clean_profiles html
co_apex html
concatenate_features html
detect_complexes html
filter_profiles html
fit_curve html
fit_gaussians html
gold_standard html
impute_neighbors html
is_unweighted html
is_weighted html
kristensen html
kristensen_gaussians html
make_feature_from_data_frame html
make_feature_from_expression html
make_initial_conditions html
make_labels html
match_matrix_dimensions html
predict_ensemble html
predict_interactions html
replace_missing_data html
scott html
scott_gaussians html
threshold_precision html
** building package indices
** installing vignettes
** testing if installed package can be loaded from temporary location
** testing if installed package can be loaded from final location
** testing if installed package keeps a record of temporary installation path
install for x64
* installing *source* package 'PrInCE' ...
** testing if installed package can be loaded
* MD5 sums
packaged installation of 'PrInCE' as PrInCE_1.2.0.zip
* DONE (PrInCE)
* installing to library 'C:/Users/biocbuild/bbs-3.10-bioc/R/library'
package 'PrInCE' successfully unpacked and MD5 sums checked