| Back to Multiple platform build/check report for BioC 3.10 |
|
This page was generated on 2020-04-15 12:48:25 -0400 (Wed, 15 Apr 2020).
| Package 1245/1823 | Hostname | OS / Arch | INSTALL | BUILD | CHECK | BUILD BIN | ||||||
| PepsNMR 1.4.0 Manon Martin
| malbec1 | Linux (Ubuntu 18.04.4 LTS) / x86_64 | OK | OK | OK | |||||||
| tokay1 | Windows Server 2012 R2 Standard / x64 | OK | OK | OK | OK | |||||||
| merida1 | OS X 10.11.6 El Capitan / x86_64 | OK | OK | [ OK ] | OK |
| Package: PepsNMR |
| Version: 1.4.0 |
| Command: /Library/Frameworks/R.framework/Versions/Current/Resources/bin/R CMD check --install=check:PepsNMR.install-out.txt --library=/Library/Frameworks/R.framework/Versions/Current/Resources/library --no-vignettes --timings PepsNMR_1.4.0.tar.gz |
| StartedAt: 2020-04-15 04:32:46 -0400 (Wed, 15 Apr 2020) |
| EndedAt: 2020-04-15 04:46:29 -0400 (Wed, 15 Apr 2020) |
| EllapsedTime: 823.3 seconds |
| RetCode: 0 |
| Status: OK |
| CheckDir: PepsNMR.Rcheck |
| Warnings: 0 |
##############################################################################
##############################################################################
###
### Running command:
###
### /Library/Frameworks/R.framework/Versions/Current/Resources/bin/R CMD check --install=check:PepsNMR.install-out.txt --library=/Library/Frameworks/R.framework/Versions/Current/Resources/library --no-vignettes --timings PepsNMR_1.4.0.tar.gz
###
##############################################################################
##############################################################################
* using log directory ‘/Users/biocbuild/bbs-3.10-bioc/meat/PepsNMR.Rcheck’
* using R version 3.6.3 (2020-02-29)
* using platform: x86_64-apple-darwin15.6.0 (64-bit)
* using session charset: UTF-8
* using option ‘--no-vignettes’
* checking for file ‘PepsNMR/DESCRIPTION’ ... OK
* checking extension type ... Package
* this is package ‘PepsNMR’ version ‘1.4.0’
* package encoding: UTF-8
* checking package namespace information ... OK
* checking package dependencies ... OK
* checking if this is a source package ... OK
* checking if there is a namespace ... OK
* checking for hidden files and directories ... OK
* checking for portable file names ... OK
* checking for sufficient/correct file permissions ... OK
* checking whether package ‘PepsNMR’ can be installed ... OK
* checking installed package size ... OK
* checking package directory ... OK
* checking ‘build’ directory ... OK
* checking DESCRIPTION meta-information ... OK
* checking top-level files ... OK
* checking for left-over files ... OK
* checking index information ... OK
* checking package subdirectories ... OK
* checking R files for non-ASCII characters ... OK
* checking R files for syntax errors ... OK
* checking whether the package can be loaded ... OK
* checking whether the package can be loaded with stated dependencies ... OK
* checking whether the package can be unloaded cleanly ... OK
* checking whether the namespace can be loaded with stated dependencies ... OK
* checking whether the namespace can be unloaded cleanly ... OK
* checking dependencies in R code ... OK
* checking S3 generic/method consistency ... OK
* checking replacement functions ... OK
* checking foreign function calls ... OK
* checking R code for possible problems ... OK
* checking Rd files ... OK
* checking Rd metadata ... OK
* checking Rd cross-references ... OK
* checking for missing documentation entries ... OK
* checking for code/documentation mismatches ... OK
* checking Rd \usage sections ... OK
* checking Rd contents ... OK
* checking for unstated dependencies in examples ... OK
* checking files in ‘vignettes’ ... OK
* checking examples ... OK
Examples with CPU or elapsed time > 5s
user system elapsed
PEPSNMR-package 317.656 47.932 368.603
PreprocessingChain 308.066 45.083 353.928
Warping 14.373 3.472 17.871
* checking for unstated dependencies in vignettes ... OK
* checking package vignettes in ‘inst/doc’ ... OK
* checking running R code from vignettes ... SKIPPED
* checking re-building of vignette outputs ... SKIPPED
* checking PDF version of manual ... OK
* DONE
Status: OK
PepsNMR.Rcheck/00install.out
############################################################################## ############################################################################## ### ### Running command: ### ### /Library/Frameworks/R.framework/Versions/Current/Resources/bin/R CMD INSTALL PepsNMR ### ############################################################################## ############################################################################## * installing to library ‘/Library/Frameworks/R.framework/Versions/3.6/Resources/library’ * installing *source* package ‘PepsNMR’ ... ** using staged installation ** R ** inst ** byte-compile and prepare package for lazy loading ** help *** installing help indices ** building package indices ** installing vignettes ** testing if installed package can be loaded from temporary location ** testing if installed package can be loaded from final location ** testing if installed package keeps a record of temporary installation path * DONE (PepsNMR)
PepsNMR.Rcheck/PepsNMR-Ex.timings
| name | user | system | elapsed | |
| Apodization | 0.628 | 0.082 | 0.720 | |
| BaselineCorrection | 0.625 | 0.169 | 0.816 | |
| Bucketing | 0.104 | 0.004 | 0.108 | |
| Draw | 1.943 | 0.080 | 2.047 | |
| DrawPCA | 1.025 | 0.018 | 1.048 | |
| DrawSignal | 1.160 | 0.016 | 1.193 | |
| FirstOrderPhaseCorrection | 0.050 | 0.010 | 0.059 | |
| FourierTransform | 0.026 | 0.008 | 0.034 | |
| GroupDelayCorrection | 0.068 | 0.011 | 0.080 | |
| InternalReferencing | 0.041 | 0.009 | 0.050 | |
| NegativeValuesZeroing | 0.020 | 0.008 | 0.027 | |
| Normalization | 0.008 | 0.000 | 0.008 | |
| PEPSNMR-package | 317.656 | 47.932 | 368.603 | |
| PreprocessingChain | 308.066 | 45.083 | 353.928 | |
| ReadFids | 0.382 | 0.102 | 0.486 | |
| RegionRemoval | 0.01 | 0.00 | 0.01 | |
| SolventSuppression | 0.342 | 0.130 | 0.473 | |
| Warping | 14.373 | 3.472 | 17.871 | |
| WindowSelection | 0.052 | 0.005 | 0.058 | |
| ZeroFilling | 0.125 | 0.006 | 0.130 | |
| ZeroOrderPhaseCorrection | 0.120 | 0.068 | 0.188 | |
| ZoneAggregation | 0.300 | 0.063 | 0.365 | |