| Back to Multiple platform build/check report for BioC 3.10 |
|
This page was generated on 2020-04-15 12:16:55 -0400 (Wed, 15 Apr 2020).
| Package 1305/1823 | Hostname | OS / Arch | INSTALL | BUILD | CHECK | BUILD BIN | ||||||
| PROcess 1.62.0 Xiaochun Li
| malbec1 | Linux (Ubuntu 18.04.4 LTS) / x86_64 | OK | OK | OK | |||||||
| tokay1 | Windows Server 2012 R2 Standard / x64 | [ OK ] | OK | OK | OK | |||||||
| merida1 | OS X 10.11.6 El Capitan / x86_64 | OK | OK | OK | OK |
| Package: PROcess |
| Version: 1.62.0 |
| Command: C:\cygwin\bin\curl.exe -O https://malbec1.bioconductor.org/BBS/3.10/bioc/src/contrib/PROcess_1.62.0.tar.gz && rm -rf PROcess.buildbin-libdir && mkdir PROcess.buildbin-libdir && C:\Users\biocbuild\bbs-3.10-bioc\R\bin\R.exe CMD INSTALL --merge-multiarch --build --library=PROcess.buildbin-libdir PROcess_1.62.0.tar.gz && C:\Users\biocbuild\bbs-3.10-bioc\R\bin\R.exe CMD INSTALL PROcess_1.62.0.zip && rm PROcess_1.62.0.tar.gz PROcess_1.62.0.zip |
| StartedAt: 2020-04-14 18:57:39 -0400 (Tue, 14 Apr 2020) |
| EndedAt: 2020-04-14 18:58:07 -0400 (Tue, 14 Apr 2020) |
| EllapsedTime: 28.3 seconds |
| RetCode: 0 |
| Status: OK |
##############################################################################
##############################################################################
###
### Running command:
###
### C:\cygwin\bin\curl.exe -O https://malbec1.bioconductor.org/BBS/3.10/bioc/src/contrib/PROcess_1.62.0.tar.gz && rm -rf PROcess.buildbin-libdir && mkdir PROcess.buildbin-libdir && C:\Users\biocbuild\bbs-3.10-bioc\R\bin\R.exe CMD INSTALL --merge-multiarch --build --library=PROcess.buildbin-libdir PROcess_1.62.0.tar.gz && C:\Users\biocbuild\bbs-3.10-bioc\R\bin\R.exe CMD INSTALL PROcess_1.62.0.zip && rm PROcess_1.62.0.tar.gz PROcess_1.62.0.zip
###
##############################################################################
##############################################################################
% Total % Received % Xferd Average Speed Time Time Time Current
Dload Upload Total Spent Left Speed
0 0 0 0 0 0 0 0 --:--:-- --:--:-- --:--:-- 0
60 1182k 60 720k 0 0 18.2M 0 --:--:-- --:--:-- --:--:-- 19.5M
100 1182k 100 1182k 0 0 25.1M 0 --:--:-- --:--:-- --:--:-- 26.8M
install for i386
* installing *source* package 'PROcess' ...
** using staged installation
** R
** inst
** byte-compile and prepare package for lazy loading
** help
*** installing help indices
converting help for package 'PROcess'
finding HTML links ... done
align html
aveSpec html
avesd html
binning html
bslnoff html
gelmap html
getMzs html
getPeaks html
getPeaks2 html
intg html
is.multiple html
isPeak html
lnn html
peaks html
pk2bmkr html
quality html
read.files html
renorm html
rmBaseline html
specZoom html
** building package indices
** installing vignettes
** testing if installed package can be loaded from temporary location
** testing if installed package can be loaded from final location
** testing if installed package keeps a record of temporary installation path
install for x64
* installing *source* package 'PROcess' ...
** testing if installed package can be loaded
* MD5 sums
packaged installation of 'PROcess' as PROcess_1.62.0.zip
* DONE (PROcess)
* installing to library 'C:/Users/biocbuild/bbs-3.10-bioc/R/library'
package 'PROcess' successfully unpacked and MD5 sums checked