| Back to Multiple platform build/check report for BioC 3.10 |
|
This page was generated on 2020-04-15 12:18:00 -0400 (Wed, 15 Apr 2020).
| Package 1252/1823 | Hostname | OS / Arch | INSTALL | BUILD | CHECK | BUILD BIN | ||||||
| PGSEA 1.60.0 Karl Dykema
| malbec1 | Linux (Ubuntu 18.04.4 LTS) / x86_64 | OK | OK | OK | |||||||
| tokay1 | Windows Server 2012 R2 Standard / x64 | OK | OK | OK | [ OK ] | |||||||
| merida1 | OS X 10.11.6 El Capitan / x86_64 | OK | OK | OK | OK |
| Package: PGSEA |
| Version: 1.60.0 |
| Command: rm -rf PGSEA.buildbin-libdir && mkdir PGSEA.buildbin-libdir && C:\Users\biocbuild\bbs-3.10-bioc\R\bin\R.exe CMD INSTALL --merge-multiarch --build --library=PGSEA.buildbin-libdir PGSEA_1.60.0.tar.gz |
| StartedAt: 2020-04-15 09:22:19 -0400 (Wed, 15 Apr 2020) |
| EndedAt: 2020-04-15 09:23:01 -0400 (Wed, 15 Apr 2020) |
| EllapsedTime: 41.5 seconds |
| RetCode: 0 |
| Status: OK |
| PackageFile: PGSEA_1.60.0.zip |
| PackageFileSize: 1.226 MiB |
##############################################################################
##############################################################################
###
### Running command:
###
### rm -rf PGSEA.buildbin-libdir && mkdir PGSEA.buildbin-libdir && C:\Users\biocbuild\bbs-3.10-bioc\R\bin\R.exe CMD INSTALL --merge-multiarch --build --library=PGSEA.buildbin-libdir PGSEA_1.60.0.tar.gz
###
##############################################################################
##############################################################################
install for i386
* installing *source* package 'PGSEA' ...
** using staged installation
** R
** data
** inst
** byte-compile and prepare package for lazy loading
** help
*** installing help indices
converting help for package 'PGSEA'
finding HTML links ... done
GOLUBmcs html
PGSEA html
VAIgsc html
VAImcs html
aggregateExprs html
convertSmc html
editSmc html
go2smc html
kegg2smc html
nbEset html
readGmt html
readSmc html
scanSmc html
smcPlot html
writeGmt html
writeSmc html
** building package indices
** installing vignettes
** testing if installed package can be loaded from temporary location
** testing if installed package can be loaded from final location
** testing if installed package keeps a record of temporary installation path
install for x64
* installing *source* package 'PGSEA' ...
** testing if installed package can be loaded
* MD5 sums
packaged installation of 'PGSEA' as PGSEA_1.60.0.zip
* DONE (PGSEA)