| Back to Multiple platform build/check report for BioC 3.10 |
|
This page was generated on 2020-04-15 12:42:04 -0400 (Wed, 15 Apr 2020).
| Package 1250/1823 | Hostname | OS / Arch | INSTALL | BUILD | CHECK | BUILD BIN | ||||||
| PGA 1.16.0 Bo Wen
| malbec1 | Linux (Ubuntu 18.04.4 LTS) / x86_64 | OK | OK | OK | |||||||
| tokay1 | Windows Server 2012 R2 Standard / x64 | OK | OK | OK | OK | |||||||
| merida1 | OS X 10.11.6 El Capitan / x86_64 | ERROR | [ ERROR ] | skipped | skipped |
| Package: PGA |
| Version: 1.16.0 |
| Command: /Library/Frameworks/R.framework/Versions/Current/Resources/bin/R CMD build --keep-empty-dirs --no-resave-data PGA |
| StartedAt: 2020-04-14 21:34:31 -0400 (Tue, 14 Apr 2020) |
| EndedAt: 2020-04-14 21:34:32 -0400 (Tue, 14 Apr 2020) |
| EllapsedTime: 1.0 seconds |
| RetCode: 1 |
| Status: ERROR |
| PackageFile: None |
| PackageFileSize: NA |
##############################################################################
##############################################################################
###
### Running command:
###
### /Library/Frameworks/R.framework/Versions/Current/Resources/bin/R CMD build --keep-empty-dirs --no-resave-data PGA
###
##############################################################################
##############################################################################
* checking for file ‘PGA/DESCRIPTION’ ... OK
* preparing ‘PGA’:
* checking DESCRIPTION meta-information ... OK
* installing the package to build vignettes
-----------------------------------
ERROR: dependency ‘rTANDEM’ is not available for package ‘PGA’
* removing ‘/private/tmp/RtmpptJCZ4/Rinst12c183e3d5706/PGA’
-----------------------------------
ERROR: package installation failed