| Back to Multiple platform build/check report for BioC 3.10 |
|
This page was generated on 2020-04-15 12:31:41 -0400 (Wed, 15 Apr 2020).
| Package 1211/1823 | Hostname | OS / Arch | INSTALL | BUILD | CHECK | BUILD BIN | ||||||
| PAIRADISE 1.2.0 Qiang Hu
| malbec1 | Linux (Ubuntu 18.04.4 LTS) / x86_64 | OK | OK | OK | |||||||
| tokay1 | Windows Server 2012 R2 Standard / x64 | OK | OK | OK | [ OK ] | |||||||
| merida1 | OS X 10.11.6 El Capitan / x86_64 | OK | OK | OK | OK |
| Package: PAIRADISE |
| Version: 1.2.0 |
| Command: rm -rf PAIRADISE.buildbin-libdir && mkdir PAIRADISE.buildbin-libdir && C:\Users\biocbuild\bbs-3.10-bioc\R\bin\R.exe CMD INSTALL --merge-multiarch --build --library=PAIRADISE.buildbin-libdir PAIRADISE_1.2.0.tar.gz |
| StartedAt: 2020-04-15 09:19:56 -0400 (Wed, 15 Apr 2020) |
| EndedAt: 2020-04-15 09:20:46 -0400 (Wed, 15 Apr 2020) |
| EllapsedTime: 49.7 seconds |
| RetCode: 0 |
| Status: OK |
| PackageFile: PAIRADISE_1.2.0.zip |
| PackageFileSize: 382.4 KiB |
##############################################################################
##############################################################################
###
### Running command:
###
### rm -rf PAIRADISE.buildbin-libdir && mkdir PAIRADISE.buildbin-libdir && C:\Users\biocbuild\bbs-3.10-bioc\R\bin\R.exe CMD INSTALL --merge-multiarch --build --library=PAIRADISE.buildbin-libdir PAIRADISE_1.2.0.tar.gz
###
##############################################################################
##############################################################################
install for i386
* installing *source* package 'PAIRADISE' ...
** using staged installation
** R
** data
** inst
** byte-compile and prepare package for lazy loading
** help
*** installing help indices
converting help for package 'PAIRADISE'
finding HTML links ... done
PAIRADISE html
PDseDataSet html
PDseDataSetFromMat html
clean.data html
counts html
load.data html
logit html
loglikelihood html
optimize1 html
optimize2 html
pairadise-FUN html
results html
sample_dataset html
sigmoid html
** building package indices
** installing vignettes
** testing if installed package can be loaded from temporary location
** testing if installed package can be loaded from final location
** testing if installed package keeps a record of temporary installation path
install for x64
* installing *source* package 'PAIRADISE' ...
** testing if installed package can be loaded
* MD5 sums
packaged installation of 'PAIRADISE' as PAIRADISE_1.2.0.zip
* DONE (PAIRADISE)