| Back to Multiple platform build/check report for BioC 3.10 |
|
This page was generated on 2020-04-15 12:20:57 -0400 (Wed, 15 Apr 2020).
| Package 1202/1823 | Hostname | OS / Arch | INSTALL | BUILD | CHECK | BUILD BIN | ||||||
| OrganismDbi 1.28.0 Bioconductor Package Maintainer
| malbec1 | Linux (Ubuntu 18.04.4 LTS) / x86_64 | OK | OK | WARNINGS | |||||||
| tokay1 | Windows Server 2012 R2 Standard / x64 | OK | OK | WARNINGS | [ OK ] | |||||||
| merida1 | OS X 10.11.6 El Capitan / x86_64 | OK | OK | WARNINGS | OK |
| Package: OrganismDbi |
| Version: 1.28.0 |
| Command: rm -rf OrganismDbi.buildbin-libdir && mkdir OrganismDbi.buildbin-libdir && C:\Users\biocbuild\bbs-3.10-bioc\R\bin\R.exe CMD INSTALL --merge-multiarch --build --library=OrganismDbi.buildbin-libdir OrganismDbi_1.28.0.tar.gz |
| StartedAt: 2020-04-15 09:19:23 -0400 (Wed, 15 Apr 2020) |
| EndedAt: 2020-04-15 09:20:10 -0400 (Wed, 15 Apr 2020) |
| EllapsedTime: 46.9 seconds |
| RetCode: 0 |
| Status: OK |
| PackageFile: OrganismDbi_1.28.0.zip |
| PackageFileSize: 555.6 KiB |
##############################################################################
##############################################################################
###
### Running command:
###
### rm -rf OrganismDbi.buildbin-libdir && mkdir OrganismDbi.buildbin-libdir && C:\Users\biocbuild\bbs-3.10-bioc\R\bin\R.exe CMD INSTALL --merge-multiarch --build --library=OrganismDbi.buildbin-libdir OrganismDbi_1.28.0.tar.gz
###
##############################################################################
##############################################################################
install for i386
* installing *source* package 'OrganismDbi' ...
** using staged installation
** R
** inst
** byte-compile and prepare package for lazy loading
** help
*** installing help indices
converting help for package 'OrganismDbi'
finding HTML links ... done
OrganismDb html
finding level-2 HTML links ... done
Rd warning: C:/Users/biocbuild/bbs-3.10-bioc/tmpdir/RtmpOiSEF7/R.INSTALL43a8451e78/OrganismDbi/man/OrganismDb.Rd:191: missing link 'GenomeInfoDb'
coordinate-mapping-method html
makeOrganismDbFromBiomart html
makeOrganismDbFromTxDb html
makeOrganismDbFromUCSC html
makeOrganismPackage html
rangeBasedAccessors html
** building package indices
** installing vignettes
** testing if installed package can be loaded from temporary location
** testing if installed package can be loaded from final location
** testing if installed package keeps a record of temporary installation path
install for x64
* installing *source* package 'OrganismDbi' ...
** testing if installed package can be loaded
* MD5 sums
packaged installation of 'OrganismDbi' as OrganismDbi_1.28.0.zip
* DONE (OrganismDbi)