| Back to Multiple platform build/check report for BioC 3.10 |
|
This page was generated on 2020-04-15 12:13:02 -0400 (Wed, 15 Apr 2020).
| Package 1185/1823 | Hostname | OS / Arch | INSTALL | BUILD | CHECK | BUILD BIN | ||||||
| Onassis 1.8.2 Eugenia Galeota
| malbec1 | Linux (Ubuntu 18.04.4 LTS) / x86_64 | OK | OK | [ OK ] | |||||||
| tokay1 | Windows Server 2012 R2 Standard / x64 | OK | OK | OK | OK | |||||||
| merida1 | OS X 10.11.6 El Capitan / x86_64 | OK | OK | OK | OK |
| Package: Onassis |
| Version: 1.8.2 |
| Command: /home/biocbuild/bbs-3.10-bioc/R/bin/R CMD check --install=check:Onassis.install-out.txt --library=/home/biocbuild/bbs-3.10-bioc/R/library --no-vignettes --timings Onassis_1.8.2.tar.gz |
| StartedAt: 2020-04-15 05:01:29 -0400 (Wed, 15 Apr 2020) |
| EndedAt: 2020-04-15 05:04:10 -0400 (Wed, 15 Apr 2020) |
| EllapsedTime: 160.5 seconds |
| RetCode: 0 |
| Status: OK |
| CheckDir: Onassis.Rcheck |
| Warnings: 0 |
##############################################################################
##############################################################################
###
### Running command:
###
### /home/biocbuild/bbs-3.10-bioc/R/bin/R CMD check --install=check:Onassis.install-out.txt --library=/home/biocbuild/bbs-3.10-bioc/R/library --no-vignettes --timings Onassis_1.8.2.tar.gz
###
##############################################################################
##############################################################################
* using log directory ‘/home/biocbuild/bbs-3.10-bioc/meat/Onassis.Rcheck’
* using R version 3.6.3 (2020-02-29)
* using platform: x86_64-pc-linux-gnu (64-bit)
* using session charset: UTF-8
* using option ‘--no-vignettes’
* checking for file ‘Onassis/DESCRIPTION’ ... OK
* this is package ‘Onassis’ version ‘1.8.2’
* package encoding: UTF-8
* checking package namespace information ... OK
* checking package dependencies ... OK
* checking if this is a source package ... OK
* checking if there is a namespace ... OK
* checking for hidden files and directories ... OK
* checking for portable file names ... OK
* checking for sufficient/correct file permissions ... OK
* checking whether package ‘Onassis’ can be installed ... OK
* checking installed package size ... OK
* checking package directory ... OK
* checking ‘build’ directory ... OK
* checking DESCRIPTION meta-information ... NOTE
Package listed in more than one of Depends, Imports, Suggests, Enhances:
‘data.table’
A package should be listed in only one of these fields.
* checking top-level files ... OK
* checking for left-over files ... OK
* checking index information ... OK
* checking package subdirectories ... OK
* checking R files for non-ASCII characters ... OK
* checking R files for syntax errors ... OK
* checking whether the package can be loaded ... OK
* checking whether the package can be loaded with stated dependencies ... OK
* checking whether the package can be unloaded cleanly ... OK
* checking whether the namespace can be loaded with stated dependencies ... OK
* checking whether the namespace can be unloaded cleanly ... OK
* checking dependencies in R code ... NOTE
Namespaces in Imports field not imported from:
‘DT’ ‘Rtsne’ ‘clusteval’ ‘dendextend’ ‘ggfortify’ ‘ggplot2’ ‘knitr’
‘stats’
All declared Imports should be used.
* checking S3 generic/method consistency ... OK
* checking replacement functions ... OK
* checking foreign function calls ... OK
* checking R code for possible problems ... NOTE
annotate,data.frame-character-character: no visible binding for global
variable ‘sample_id’
annotateDF,EntityFinder-data.frame-character-CMoptions: no visible
binding for global variable ‘ID’
annotateDF,EntityFinder-data.frame-character-CMoptions: no visible
binding for global variable ‘NEW’
collapse,Onassis: no visible global function definition for ‘as.dist’
collapse,Onassis: no visible global function definition for ‘hclust’
collapse,Onassis: no visible global function definition for ‘cutree’
compare,Onassis: no visible global function definition for ‘p.adjust’
Undefined global functions or variables:
ID NEW as.dist cutree hclust p.adjust sample_id
Consider adding
importFrom("stats", "as.dist", "cutree", "hclust", "p.adjust")
to your NAMESPACE file.
* checking Rd files ... OK
* checking Rd metadata ... OK
* checking Rd cross-references ... OK
* checking for missing documentation entries ... OK
* checking for code/documentation mismatches ... OK
* checking Rd \usage sections ... OK
* checking Rd contents ... OK
* checking for unstated dependencies in examples ... OK
* checking files in ‘vignettes’ ... OK
* checking examples ... OK
Examples with CPU or elapsed time > 5s
user system elapsed
EntityFinder 16.852 0.580 9.047
compare 13.140 0.196 9.994
collapse 8.048 0.264 3.557
sim 6.736 0.156 3.832
annotate 6.180 0.168 2.194
* checking for unstated dependencies in vignettes ... OK
* checking package vignettes in ‘inst/doc’ ... OK
* checking running R code from vignettes ... SKIPPED
* checking re-building of vignette outputs ... SKIPPED
* checking PDF version of manual ... OK
* DONE
Status: 3 NOTEs
See
‘/home/biocbuild/bbs-3.10-bioc/meat/Onassis.Rcheck/00check.log’
for details.
Onassis.Rcheck/00install.out
############################################################################## ############################################################################## ### ### Running command: ### ### /home/biocbuild/bbs-3.10-bioc/R/bin/R CMD INSTALL Onassis ### ############################################################################## ############################################################################## * installing to library ‘/home/biocbuild/bbs-3.10-bioc/R/library’ * installing *source* package ‘Onassis’ ... ** using staged installation ** R ** inst ** byte-compile and prepare package for lazy loading ** help *** installing help indices ** building package indices ** installing vignettes ** testing if installed package can be loaded from temporary location ** testing if installed package can be loaded from final location ** testing if installed package keeps a record of temporary installation path * DONE (Onassis)
Onassis.Rcheck/Onassis-Ex.timings
| name | user | system | elapsed | |
| CMdictionary-class | 0.000 | 0.000 | 0.001 | |
| CMdictionary | 0 | 0 | 0 | |
| CMoptions-class | 0.008 | 0.000 | 0.054 | |
| CMoptions | 0.004 | 0.000 | 0.005 | |
| CaseMatch | 0.008 | 0.004 | 0.014 | |
| EntityFinder-class | 0.088 | 0.004 | 0.449 | |
| EntityFinder | 16.852 | 0.580 | 9.047 | |
| FindAllMatches | 0.036 | 0.004 | 0.013 | |
| GEOHandler-functions | 0 | 0 | 0 | |
| Onassis | 0.004 | 0.000 | 0.001 | |
| OrderIndependentLookup | 0.056 | 0.000 | 0.019 | |
| SearchStrategy | 0.056 | 0.000 | 0.019 | |
| Similarity-class | 0.124 | 0.000 | 0.044 | |
| Similarity | 1.728 | 0.096 | 0.806 | |
| Stemmer | 0.020 | 0.000 | 0.024 | |
| StopWords | 0.016 | 0.000 | 0.019 | |
| SynonymType | 0.012 | 0.004 | 0.019 | |
| annotate | 6.180 | 0.168 | 2.194 | |
| annotateDF | 1.992 | 0.084 | 0.802 | |
| collapse | 8.048 | 0.264 | 3.557 | |
| compare | 13.140 | 0.196 | 9.994 | |
| dictInfo | 0.000 | 0.000 | 0.002 | |
| dictRef | 0.004 | 0.000 | 0.003 | |
| dictTypes | 0.004 | 0.000 | 0.004 | |
| dict_location | 0.004 | 0.000 | 0.002 | |
| dictionary | 0.000 | 0.000 | 0.002 | |
| entities | 0.004 | 0.000 | 0.002 | |
| experiment_types | 0.000 | 0.000 | 0.001 | |
| filterTerms | 0.08 | 0.00 | 0.08 | |
| filterconcepts | 1.256 | 0.068 | 0.594 | |
| findEntities | 1.260 | 0.068 | 0.494 | |
| findHealthy | 0.132 | 0.000 | 0.080 | |
| getGEOMetadata | 0.000 | 0.000 | 0.001 | |
| groupConfig | 0.152 | 0.004 | 0.081 | |
| groupsim | 0.404 | 0.008 | 0.334 | |
| groupwiseConfigRef | 0.048 | 0.000 | 0.045 | |
| icConfig | 0 | 0 | 0 | |
| listCMOptions | 0.000 | 0.000 | 0.001 | |
| listSimilarities | 0.044 | 0.000 | 0.042 | |
| mergeonassis | 3.376 | 0.128 | 1.319 | |
| multisim | 2.604 | 0.124 | 1.628 | |
| ontology | 0.048 | 0.000 | 0.012 | |
| organism_types | 0.004 | 0.000 | 0.000 | |
| pairsim | 0.244 | 0.004 | 0.162 | |
| pairwiseConfig | 0.304 | 0.000 | 0.113 | |
| pairwiseConfigRef | 0.044 | 0.000 | 0.043 | |
| paramValueIndex | 0.008 | 0.004 | 0.011 | |
| samplesim | 1.420 | 0.064 | 0.763 | |
| scores | 0.004 | 0.000 | 0.000 | |
| sim | 6.736 | 0.156 | 3.832 | |
| simil | 0 | 0 | 0 | |
| similarityInstance | 0.004 | 0.000 | 0.001 | |
| typeSystemRef | 0.008 | 0.000 | 0.009 | |