| Back to Multiple platform build/check report for BioC 3.10 |
|
This page was generated on 2020-04-15 12:32:20 -0400 (Wed, 15 Apr 2020).
| Package 1180/1823 | Hostname | OS / Arch | INSTALL | BUILD | CHECK | BUILD BIN | ||||||
| OmicsLonDA 1.2.2 Ahmed A. Metwally
| malbec1 | Linux (Ubuntu 18.04.4 LTS) / x86_64 | OK | OK | OK | |||||||
| tokay1 | Windows Server 2012 R2 Standard / x64 | [ OK ] | OK | OK | OK | |||||||
| merida1 | OS X 10.11.6 El Capitan / x86_64 | OK | OK | OK | OK |
| Package: OmicsLonDA |
| Version: 1.2.2 |
| Command: C:\cygwin\bin\curl.exe -O https://malbec1.bioconductor.org/BBS/3.10/bioc/src/contrib/OmicsLonDA_1.2.2.tar.gz && rm -rf OmicsLonDA.buildbin-libdir && mkdir OmicsLonDA.buildbin-libdir && C:\Users\biocbuild\bbs-3.10-bioc\R\bin\R.exe CMD INSTALL --merge-multiarch --build --library=OmicsLonDA.buildbin-libdir OmicsLonDA_1.2.2.tar.gz && C:\Users\biocbuild\bbs-3.10-bioc\R\bin\R.exe CMD INSTALL OmicsLonDA_1.2.2.zip && rm OmicsLonDA_1.2.2.tar.gz OmicsLonDA_1.2.2.zip |
| StartedAt: 2020-04-14 19:44:52 -0400 (Tue, 14 Apr 2020) |
| EndedAt: 2020-04-14 19:45:38 -0400 (Tue, 14 Apr 2020) |
| EllapsedTime: 45.3 seconds |
| RetCode: 0 |
| Status: OK |
##############################################################################
##############################################################################
###
### Running command:
###
### C:\cygwin\bin\curl.exe -O https://malbec1.bioconductor.org/BBS/3.10/bioc/src/contrib/OmicsLonDA_1.2.2.tar.gz && rm -rf OmicsLonDA.buildbin-libdir && mkdir OmicsLonDA.buildbin-libdir && C:\Users\biocbuild\bbs-3.10-bioc\R\bin\R.exe CMD INSTALL --merge-multiarch --build --library=OmicsLonDA.buildbin-libdir OmicsLonDA_1.2.2.tar.gz && C:\Users\biocbuild\bbs-3.10-bioc\R\bin\R.exe CMD INSTALL OmicsLonDA_1.2.2.zip && rm OmicsLonDA_1.2.2.tar.gz OmicsLonDA_1.2.2.zip
###
##############################################################################
##############################################################################
% Total % Received % Xferd Average Speed Time Time Time Current
Dload Upload Total Spent Left Speed
0 0 0 0 0 0 0 0 --:--:-- --:--:-- --:--:-- 0
100 4560k 100 4560k 0 0 51.2M 0 --:--:-- --:--:-- --:--:-- 53.6M
install for i386
* installing *source* package 'OmicsLonDA' ...
** using staged installation
** R
** data
*** moving datasets to lazyload DB
** byte-compile and prepare package for lazy loading
** help
*** installing help indices
converting help for package 'OmicsLonDA'
finding HTML links ... done
adjustBaseline html
curveFitting html
findSigInterval html
omicslonda html
omicslonda_data_example html
permutationMC html
testStat html
testStatPermutation html
visualizeArea html
visualizeFeature html
visualizeFeatureSpline html
visualizeTestStatHistogram html
** building package indices
** installing vignettes
** testing if installed package can be loaded from temporary location
** testing if installed package can be loaded from final location
** testing if installed package keeps a record of temporary installation path
install for x64
* installing *source* package 'OmicsLonDA' ...
** testing if installed package can be loaded
* MD5 sums
packaged installation of 'OmicsLonDA' as OmicsLonDA_1.2.2.zip
* DONE (OmicsLonDA)
* installing to library 'C:/Users/biocbuild/bbs-3.10-bioc/R/library'
package 'OmicsLonDA' successfully unpacked and MD5 sums checked