| Back to Multiple platform build/check report for BioC 3.10 |
|
This page was generated on 2020-04-15 12:47:44 -0400 (Wed, 15 Apr 2020).
| Package 1207/1823 | Hostname | OS / Arch | INSTALL | BUILD | CHECK | BUILD BIN | ||||||
| OUTRIDER 1.4.2 Christian Mertes
| malbec1 | Linux (Ubuntu 18.04.4 LTS) / x86_64 | OK | OK | OK | |||||||
| tokay1 | Windows Server 2012 R2 Standard / x64 | OK | OK | OK | OK | |||||||
| merida1 | OS X 10.11.6 El Capitan / x86_64 | OK | OK | [ OK ] | OK |
| Package: OUTRIDER |
| Version: 1.4.2 |
| Command: /Library/Frameworks/R.framework/Versions/Current/Resources/bin/R CMD check --install=check:OUTRIDER.install-out.txt --library=/Library/Frameworks/R.framework/Versions/Current/Resources/library --no-vignettes --timings OUTRIDER_1.4.2.tar.gz |
| StartedAt: 2020-04-15 04:24:20 -0400 (Wed, 15 Apr 2020) |
| EndedAt: 2020-04-15 04:34:25 -0400 (Wed, 15 Apr 2020) |
| EllapsedTime: 605.3 seconds |
| RetCode: 0 |
| Status: OK |
| CheckDir: OUTRIDER.Rcheck |
| Warnings: 0 |
##############################################################################
##############################################################################
###
### Running command:
###
### /Library/Frameworks/R.framework/Versions/Current/Resources/bin/R CMD check --install=check:OUTRIDER.install-out.txt --library=/Library/Frameworks/R.framework/Versions/Current/Resources/library --no-vignettes --timings OUTRIDER_1.4.2.tar.gz
###
##############################################################################
##############################################################################
* using log directory ‘/Users/biocbuild/bbs-3.10-bioc/meat/OUTRIDER.Rcheck’
* using R version 3.6.3 (2020-02-29)
* using platform: x86_64-apple-darwin15.6.0 (64-bit)
* using session charset: UTF-8
* using option ‘--no-vignettes’
* checking for file ‘OUTRIDER/DESCRIPTION’ ... OK
* checking extension type ... Package
* this is package ‘OUTRIDER’ version ‘1.4.2’
* package encoding: UTF-8
* checking package namespace information ... OK
* checking package dependencies ... OK
* checking if this is a source package ... OK
* checking if there is a namespace ... OK
* checking for hidden files and directories ... OK
* checking for portable file names ... OK
* checking for sufficient/correct file permissions ... OK
* checking whether package ‘OUTRIDER’ can be installed ... OK
* checking installed package size ... OK
* checking package directory ... OK
* checking ‘build’ directory ... OK
* checking DESCRIPTION meta-information ... OK
* checking top-level files ... OK
* checking for left-over files ... OK
* checking index information ... OK
* checking package subdirectories ... OK
* checking R files for non-ASCII characters ... OK
* checking R files for syntax errors ... OK
* checking whether the package can be loaded ... OK
* checking whether the package can be loaded with stated dependencies ... OK
* checking whether the package can be unloaded cleanly ... OK
* checking whether the namespace can be loaded with stated dependencies ... OK
* checking whether the namespace can be unloaded cleanly ... OK
* checking dependencies in R code ... OK
* checking S3 generic/method consistency ... OK
* checking replacement functions ... OK
* checking foreign function calls ... OK
* checking R code for possible problems ... NOTE
plotAberrantPerSample: no visible binding for global variable ‘y’
plotAberrantPerSample: no visible binding for global variable ‘fill’
plotSizeFactors: no visible binding for global variable ‘sizeFactor’
Undefined global functions or variables:
fill sizeFactor y
* checking Rd files ... OK
* checking Rd metadata ... OK
* checking Rd cross-references ... OK
* checking for missing documentation entries ... OK
* checking for code/documentation mismatches ... OK
* checking Rd \usage sections ... OK
* checking Rd contents ... OK
* checking for unstated dependencies in examples ... OK
* checking line endings in C/C++/Fortran sources/headers ... OK
* checking line endings in Makefiles ... OK
* checking compilation flags in Makevars ... OK
* checking for GNU extensions in Makefiles ... OK
* checking for portable use of $(BLAS_LIBS) and $(LAPACK_LIBS) ... OK
* checking compiled code ... NOTE
Note: information on .o files is not available
* checking sizes of PDF files under ‘inst/doc’ ... OK
* checking files in ‘vignettes’ ... OK
* checking examples ... OK
Examples with CPU or elapsed time > 5s
user system elapsed
findEncodingDim 41.395 0.533 42.386
plotFunctions 21.201 7.257 17.079
OUTRIDER 10.979 1.333 11.020
getter_setter_functions 8.416 0.022 8.572
results 7.603 0.157 7.684
aberrant 4.639 0.598 4.514
* checking for unstated dependencies in ‘tests’ ... OK
* checking tests ...
Running ‘testthat.R’
OK
* checking for unstated dependencies in vignettes ... OK
* checking package vignettes in ‘inst/doc’ ... OK
* checking running R code from vignettes ... SKIPPED
* checking re-building of vignette outputs ... SKIPPED
* checking PDF version of manual ... OK
* DONE
Status: 2 NOTEs
See
‘/Users/biocbuild/bbs-3.10-bioc/meat/OUTRIDER.Rcheck/00check.log’
for details.
OUTRIDER.Rcheck/00install.out
############################################################################## ############################################################################## ### ### Running command: ### ### /Library/Frameworks/R.framework/Versions/Current/Resources/bin/R CMD INSTALL OUTRIDER ### ############################################################################## ############################################################################## * installing to library ‘/Library/Frameworks/R.framework/Versions/3.6/Resources/library’ * installing *source* package ‘OUTRIDER’ ... ** using staged installation ** libs clang++ -std=gnu++11 -I"/Library/Frameworks/R.framework/Resources/include" -DNDEBUG -I"/Library/Frameworks/R.framework/Versions/3.6/Resources/library/Rcpp/include" -I"/Library/Frameworks/R.framework/Versions/3.6/Resources/library/RcppArmadillo/include" -isysroot /Library/Developer/CommandLineTools/SDKs/MacOSX.sdk -I/usr/local/include -fopenmp -DARMA_DONT_USE_OPENMP -fPIC -Wall -g -O2 -c RcppExports.cpp -o RcppExports.o clang++ -std=gnu++11 -I"/Library/Frameworks/R.framework/Resources/include" -DNDEBUG -I"/Library/Frameworks/R.framework/Versions/3.6/Resources/library/Rcpp/include" -I"/Library/Frameworks/R.framework/Versions/3.6/Resources/library/RcppArmadillo/include" -isysroot /Library/Developer/CommandLineTools/SDKs/MacOSX.sdk -I/usr/local/include -fopenmp -DARMA_DONT_USE_OPENMP -fPIC -Wall -g -O2 -c loss_n_gradient_functions.cpp -o loss_n_gradient_functions.o clang++ -std=gnu++11 -dynamiclib -Wl,-headerpad_max_install_names -undefined dynamic_lookup -single_module -multiply_defined suppress -L/Library/Frameworks/R.framework/Resources/lib -L/usr/local/lib -o OUTRIDER.so RcppExports.o loss_n_gradient_functions.o -fopenmp -L/Library/Frameworks/R.framework/Resources/lib -lRlapack -L/Library/Frameworks/R.framework/Resources/lib -lRblas -L/usr/local/gfortran/lib/gcc/x86_64-apple-darwin15/6.1.0 -L/usr/local/gfortran/lib -lgfortran -lquadmath -lm -F/Library/Frameworks/R.framework/.. -framework R -Wl,-framework -Wl,CoreFoundation installing to /Library/Frameworks/R.framework/Versions/3.6/Resources/library/00LOCK-OUTRIDER/00new/OUTRIDER/libs ** R ** inst ** byte-compile and prepare package for lazy loading ** help *** installing help indices ** building package indices ** installing vignettes ** testing if installed package can be loaded from temporary location ** checking absolute paths in shared objects and dynamic libraries ** testing if installed package can be loaded from final location ** testing if installed package keeps a record of temporary installation path * DONE (OUTRIDER)
OUTRIDER.Rcheck/tests/testthat.Rout
R version 3.6.3 (2020-02-29) -- "Holding the Windsock"
Copyright (C) 2020 The R Foundation for Statistical Computing
Platform: x86_64-apple-darwin15.6.0 (64-bit)
R is free software and comes with ABSOLUTELY NO WARRANTY.
You are welcome to redistribute it under certain conditions.
Type 'license()' or 'licence()' for distribution details.
R is a collaborative project with many contributors.
Type 'contributors()' for more information and
'citation()' on how to cite R or R packages in publications.
Type 'demo()' for some demos, 'help()' for on-line help, or
'help.start()' for an HTML browser interface to help.
Type 'q()' to quit R.
> library(testthat)
> library(OUTRIDER)
Loading required package: BiocParallel
Loading required package: GenomicFeatures
Loading required package: BiocGenerics
Loading required package: parallel
Attaching package: 'BiocGenerics'
The following objects are masked from 'package:parallel':
clusterApply, clusterApplyLB, clusterCall, clusterEvalQ,
clusterExport, clusterMap, parApply, parCapply, parLapply,
parLapplyLB, parRapply, parSapply, parSapplyLB
The following objects are masked from 'package:stats':
IQR, mad, sd, var, xtabs
The following objects are masked from 'package:base':
Filter, Find, Map, Position, Reduce, anyDuplicated, append,
as.data.frame, basename, cbind, colnames, dirname, do.call,
duplicated, eval, evalq, get, grep, grepl, intersect, is.unsorted,
lapply, mapply, match, mget, order, paste, pmax, pmax.int, pmin,
pmin.int, rank, rbind, rownames, sapply, setdiff, sort, table,
tapply, union, unique, unsplit, which, which.max, which.min
Loading required package: S4Vectors
Loading required package: stats4
Attaching package: 'S4Vectors'
The following object is masked from 'package:base':
expand.grid
Loading required package: IRanges
Loading required package: GenomeInfoDb
Loading required package: GenomicRanges
Loading required package: AnnotationDbi
Loading required package: Biobase
Welcome to Bioconductor
Vignettes contain introductory material; view with
'browseVignettes()'. To cite Bioconductor, see
'citation("Biobase")', and for packages 'citation("pkgname")'.
Loading required package: SummarizedExperiment
Loading required package: DelayedArray
Loading required package: matrixStats
Attaching package: 'matrixStats'
The following objects are masked from 'package:Biobase':
anyMissing, rowMedians
Attaching package: 'DelayedArray'
The following objects are masked from 'package:matrixStats':
colMaxs, colMins, colRanges, rowMaxs, rowMins, rowRanges
The following objects are masked from 'package:base':
aperm, apply, rowsum
Loading required package: data.table
Attaching package: 'data.table'
The following object is masked from 'package:SummarizedExperiment':
shift
The following object is masked from 'package:GenomicRanges':
shift
The following object is masked from 'package:IRanges':
shift
The following objects are masked from 'package:S4Vectors':
first, second
>
> register(SerialParam())
>
> test_check("OUTRIDER")
[1] "Wed Apr 15 04:32:13 2020: Initial PCA loss: 6.48079388424633"
[1] "Wed Apr 15 04:32:16 2020: Iteration: 1 loss: 4.66673411000507"
[1] "Wed Apr 15 04:32:18 2020: Iteration: 2 loss: 4.59025892043291"
[1] "Wed Apr 15 04:32:20 2020: Iteration: 3 loss: 4.55093449417929"
[1] "Wed Apr 15 04:32:21 2020: Iteration: 4 loss: 4.53302738959705"
[1] "Wed Apr 15 04:32:23 2020: Iteration: 5 loss: 4.52124956520443"
[1] "Wed Apr 15 04:32:24 2020: Iteration: 6 loss: 4.50405795293859"
Time difference of 9.863016 secs
[1] "Wed Apr 15 04:32:24 2020: 6 Final nb-AE loss: 4.50405795293859"
[1] "Wed Apr 15 04:32:29 2020: Initial PCA loss: 6.48079388424633"
[1] "Wed Apr 15 04:32:33 2020: Iteration: 1 loss: 4.66673411000507"
[1] "Wed Apr 15 04:32:35 2020: Iteration: 2 loss: 4.59025892043291"
[1] "Wed Apr 15 04:32:37 2020: Iteration: 3 loss: 4.55093449417929"
[1] "Wed Apr 15 04:32:39 2020: Iteration: 4 loss: 4.53302738959705"
[1] "Wed Apr 15 04:32:41 2020: Iteration: 5 loss: 4.52124956520443"
[1] "Wed Apr 15 04:32:43 2020: Iteration: 6 loss: 4.50405795293859"
Time difference of 12.41858 secs
[1] "Wed Apr 15 04:32:43 2020: 6 Final nb-AE loss: 4.50405795293859"
class: OutriderDataSet
class: RangedSummarizedExperiment
dim: 100 50
metadata(1): version
assays(1): counts
rownames(100): ENSG00000223972.4 ENSG00000227232.4 ...
ENSG00000107404.13 ENSG00000162576.12
rowData names(0):
colnames(50): GTEX.UPK5.0426.SM.3GAEK GTEX.WFG7.2026.SM.3GIL7 ...
GTEX.11UD2.2526.SM.5CVNU GTEX.13O61.1426.SM.5KM3D
colData names(1): sampleID
[1] "Wed Apr 15 04:33:09 2020: Initial PCA loss: 4.48427991053297"
[1] "Wed Apr 15 04:33:12 2020: Iteration: 1 loss: 4.13710450103578"
[1] "Wed Apr 15 04:33:13 2020: Iteration: 2 loss: 4.11493529044686"
Time difference of 3.034323 secs
[1] "Wed Apr 15 04:33:13 2020: 2 Final nb-AE loss: 4.11493529044686"
[1] "Evaluation loss: 0.533458733250864 for q=3"
[1] "Wed Apr 15 04:33:15 2020: Initial PCA loss: 4.44430390378977"
[1] "Wed Apr 15 04:33:18 2020: Iteration: 1 loss: 4.03883954519844"
[1] "Wed Apr 15 04:33:20 2020: Iteration: 2 loss: 4.01289232402774"
Time difference of 3.520529 secs
[1] "Wed Apr 15 04:33:20 2020: 2 Final nb-AE loss: 4.01289232402774"
[1] "Evaluation loss: 0.381045981968238 for q=4"
[1] "Wed Apr 15 04:33:22 2020: Initial PCA loss: 4.41758265897753"
[1] "Wed Apr 15 04:33:25 2020: Iteration: 1 loss: 3.95381804155594"
[1] "Wed Apr 15 04:33:26 2020: Iteration: 2 loss: 3.94374851454385"
Time difference of 2.927998 secs
[1] "Wed Apr 15 04:33:26 2020: 2 Final nb-AE loss: 3.94374851454385"
[1] "Evaluation loss: 0.343782642486646 for q=5"
[1] "Wed Apr 15 04:33:42 2020: Initial PCA loss: 6.46616282459584"
[1] "Wed Apr 15 04:33:45 2020: Iteration: 1 loss: 4.81518048146922"
[1] "Wed Apr 15 04:33:46 2020: Iteration: 2 loss: 4.78972706919211"
Time difference of 3.240071 secs
[1] "Wed Apr 15 04:33:46 2020: 2 Final nb-AE loss: 4.78972706919211"
══ testthat results ═══════════════════════════════════════════════════════════
[ OK: 102 | SKIPPED: 0 | WARNINGS: 32 | FAILED: 0 ]
>
> proc.time()
user system elapsed
159.277 18.919 145.235
OUTRIDER.Rcheck/OUTRIDER-Ex.timings
| name | user | system | elapsed | |
| OUTRIDER | 10.979 | 1.333 | 11.020 | |
| OutriderDataSet-class | 1.262 | 0.014 | 1.302 | |
| aberrant | 4.639 | 0.598 | 4.514 | |
| computeGeneLength | 2.350 | 0.062 | 2.445 | |
| computeLatentSpace | 1.677 | 0.005 | 1.701 | |
| computePvalues | 2.191 | 0.301 | 2.377 | |
| computeZscores | 2.183 | 0.125 | 2.337 | |
| controlForConfounders | 2.462 | 0.014 | 2.506 | |
| counts | 1.159 | 0.007 | 1.181 | |
| estimateBestQ | 0.643 | 0.003 | 0.657 | |
| filterExpression | 2.896 | 0.582 | 2.524 | |
| findEncodingDim | 41.395 | 0.533 | 42.386 | |
| fit | 1.946 | 0.022 | 2.033 | |
| fpkm | 1.666 | 0.009 | 1.693 | |
| getter_setter_functions | 8.416 | 0.022 | 8.572 | |
| makeExampleOutriderDataSet | 1.664 | 0.007 | 1.697 | |
| normalizationFactors | 1.497 | 0.011 | 1.525 | |
| plotFunctions | 21.201 | 7.257 | 17.079 | |
| results | 7.603 | 0.157 | 7.684 | |
| sampleExclusionMask | 2.179 | 0.114 | 0.731 | |
| sizeFactors | 1.013 | 0.004 | 1.027 | |