| Back to Multiple platform build/check report for BioC 3.10 |
|
This page was generated on 2020-04-15 12:30:32 -0400 (Wed, 15 Apr 2020).
| Package 1200/1823 | Hostname | OS / Arch | INSTALL | BUILD | CHECK | BUILD BIN | ||||||
| ORFik 1.6.9 Haakon Tjeldnes
| malbec1 | Linux (Ubuntu 18.04.4 LTS) / x86_64 | OK | OK | OK | |||||||
| tokay1 | Windows Server 2012 R2 Standard / x64 | OK | OK | [ OK ] | OK | |||||||
| merida1 | OS X 10.11.6 El Capitan / x86_64 | OK | OK | OK | OK |
| Package: ORFik |
| Version: 1.6.9 |
| Command: C:\Users\biocbuild\bbs-3.10-bioc\R\bin\R.exe CMD check --force-multiarch --install=check:ORFik.install-out.txt --library=C:\Users\biocbuild\bbs-3.10-bioc\R\library --no-vignettes --timings ORFik_1.6.9.tar.gz |
| StartedAt: 2020-04-15 05:16:26 -0400 (Wed, 15 Apr 2020) |
| EndedAt: 2020-04-15 05:28:13 -0400 (Wed, 15 Apr 2020) |
| EllapsedTime: 706.9 seconds |
| RetCode: 0 |
| Status: OK |
| CheckDir: ORFik.Rcheck |
| Warnings: 0 |
##############################################################################
##############################################################################
###
### Running command:
###
### C:\Users\biocbuild\bbs-3.10-bioc\R\bin\R.exe CMD check --force-multiarch --install=check:ORFik.install-out.txt --library=C:\Users\biocbuild\bbs-3.10-bioc\R\library --no-vignettes --timings ORFik_1.6.9.tar.gz
###
##############################################################################
##############################################################################
* using log directory 'C:/Users/biocbuild/bbs-3.10-bioc/meat/ORFik.Rcheck'
* using R version 3.6.3 (2020-02-29)
* using platform: x86_64-w64-mingw32 (64-bit)
* using session charset: ISO8859-1
* using option '--no-vignettes'
* checking for file 'ORFik/DESCRIPTION' ... OK
* checking extension type ... Package
* this is package 'ORFik' version '1.6.9'
* package encoding: UTF-8
* checking package namespace information ... OK
* checking package dependencies ... OK
* checking if this is a source package ... OK
* checking if there is a namespace ... OK
* checking for hidden files and directories ... OK
* checking for portable file names ... OK
* checking whether package 'ORFik' can be installed ... OK
* checking installed package size ... OK
* checking package directory ... OK
* checking 'build' directory ... OK
* checking DESCRIPTION meta-information ... OK
* checking top-level files ... OK
* checking for left-over files ... OK
* checking index information ... OK
* checking package subdirectories ... OK
* checking R files for non-ASCII characters ... OK
* checking R files for syntax errors ... OK
* loading checks for arch 'i386'
** checking whether the package can be loaded ... OK
** checking whether the package can be loaded with stated dependencies ... OK
** checking whether the package can be unloaded cleanly ... OK
** checking whether the namespace can be loaded with stated dependencies ... OK
** checking whether the namespace can be unloaded cleanly ... OK
* loading checks for arch 'x64'
** checking whether the package can be loaded ... OK
** checking whether the package can be loaded with stated dependencies ... OK
** checking whether the package can be unloaded cleanly ... OK
** checking whether the namespace can be loaded with stated dependencies ... OK
** checking whether the namespace can be unloaded cleanly ... OK
* checking dependencies in R code ... NOTE
Unexported objects imported by ':::' calls:
'GenomicFeatures:::.merge_seqinfo_and_infer_missing_seqlengths'
'IRanges:::regroupBySupergroup'
See the note in ?`:::` about the use of this operator.
* checking S3 generic/method consistency ... OK
* checking replacement functions ... OK
* checking foreign function calls ... OK
* checking R code for possible problems ... NOTE
ORFikQC: no visible binding for global variable 'leaders'
ORFikQC: no visible binding for global variable 'ratio_mrna_aligned'
ORFikQC: no visible binding for global variable 'mRNA'
ORFikQC: no visible binding for global variable 'ratio_cds_mrna'
ORFikQC: no visible binding for global variable 'CDS'
ORFikQC: no visible binding for global variable 'ratio_cds_leader'
ORFikQC: no visible binding for global variable 'LEADERS'
ORFikQC: no visible binding for global variable 'tx'
ORFikQC: no visible global function definition for 'write.csv'
QCplots: no visible binding for global variable 'leaders'
QCplots: no visible binding for global variable 'trailers'
allFeaturesHelper: no visible binding for global variable 'te'
allFeaturesHelper: no visible binding for global variable 'fpkmRFP'
allFeaturesHelper: no visible binding for global variable 'fpkmRNA'
allFeaturesHelper: no visible binding for global variable 'countRFP'
allFeaturesHelper: no visible binding for global variable 'entropyRFP'
allFeaturesHelper: no visible binding for global variable
'disengagementScores'
allFeaturesHelper: no visible binding for global variable 'RRS'
allFeaturesHelper: no visible binding for global variable 'RSS'
allFeaturesHelper: no visible binding for global variable
'fractionLengths'
allFeaturesHelper: no visible binding for global variable 'ORFScores'
allFeaturesHelper: no visible binding for global variable 'ioScore'
allFeaturesHelper: no visible binding for global variable 'kozak'
allFeaturesHelper: no visible binding for global variable 'distORFCDS'
allFeaturesHelper: no visible binding for global variable 'inFrameCDS'
allFeaturesHelper: no visible binding for global variable
'isOverlappingCds'
allFeaturesHelper: no visible binding for global variable 'rankInTx'
convertToOneBasedRanges: no visible binding for global variable 'size'
convertToOneBasedRanges: no visible global function definition for '.'
coverageHeatMap: no visible binding for global variable 'position'
coverageHeatMap: no visible binding for global variable 'fraction'
coveragePerTiling: no visible binding for global variable 'ones'
coveragePerTiling: no visible binding for global variable 'position'
coveragePerTiling: no visible binding for global variable 'frame'
coverageScorings: no visible binding for global variable 'count'
coverageScorings: no visible binding for global variable 'zscore'
coverageScorings: no visible binding for global variable 'windowMean'
coverageScorings: no visible binding for global variable 'windowSD'
coverageScorings: no visible global function definition for '.'
coverageScorings: no visible binding for global variable 'gene_sum'
create.experiment: no visible global function definition for 'View'
detectRibosomeShifts: no visible global function definition for '.'
detectRibosomeShifts: no visible binding for global variable 'fraction'
detectRibosomeShifts: no visible binding for global variable
'offsets_start'
entropy: no visible binding for global variable 'Hx'
entropy: no visible binding for global variable 'codonSums'
entropy: no visible global function definition for '.'
filterTranscripts: no visible binding for global variable 'utr5_len'
filterTranscripts: no visible binding for global variable 'utr3_len'
gSort: no visible binding for global variable 'grnames'
getNGenesCoverage: no visible global function definition for '.'
getNGenesCoverage: no visible binding for global variable 'fraction'
initiationScore: no visible global function definition for '.'
initiationScore: no visible binding for global variable 'dif'
initiationScore: no visible binding for global variable 'fraction'
initiationScore: no visible binding for global variable 'difPer'
kozakHeatmap: no visible global function definition for '.'
kozakHeatmap: no visible binding for global variable 'variable'
kozakHeatmap: no visible binding for global variable 'value'
kozakHeatmap: no visible binding for global variable
'count_seq_pos_with_count'
kozakHeatmap: no visible binding for global variable 'median_score'
longestORFs: no visible global function definition for '.'
metaWindow: no visible binding for global variable 'position'
metaWindow: no visible binding for global variable 'frame'
orfScore: no visible binding for global variable 'frame'
orfScore: no visible binding for global variable 'frame_one_RP'
orfScore: no visible binding for global variable 'frame_two_RP'
pSitePlot: no visible binding for global variable 'count'
pSitePlot: no visible binding for global variable 'frame'
pSitePlot: no visible binding for global variable 'position'
read.experiment: no visible global function definition for 'read.table'
read.experiment: no visible global function definition for 'read.csv2'
remakeTxdbExonIds: no visible global function definition for '.'
remakeTxdbExonIds: no visible binding for global variable 'chr'
removeTxdbExons: no visible binding for global variable 'exon_rank'
removeTxdbExons: no visible binding for global variable 'ranks'
rnaNormalize: no visible binding for global variable 'feature'
save.experiment: no visible global function definition for
'write.table'
scaledWindowPositions: no visible binding for global variable
'scalingFactor'
scaledWindowPositions: no visible binding for global variable
'position'
scaledWindowPositions: no visible global function definition for '.'
scoreSummarizedExperiment: no visible global function definition for
'rowSums2'
transcriptWindow: no visible binding for global variable 'fractions'
windowCoveragePlot: no visible binding for global variable 'feature'
windowCoveragePlot: no visible binding for global variable 'fraction'
windowCoveragePlot: no visible binding for global variable
'fraction_min'
windowCoveragePlot: no visible binding for global variable 'position'
nrow,experiment: no visible global function definition for 'as'
show,experiment: no visible global function definition for 'as'
Undefined global functions or variables:
. CDS Hx LEADERS ORFScores RRS RSS View as chr codonSums count
countRFP count_seq_pos_with_count dif difPer disengagementScores
distORFCDS entropyRFP exon_rank feature fpkmRFP fpkmRNA fraction
fractionLengths fraction_min fractions frame frame_one_RP
frame_two_RP gene_sum grnames inFrameCDS ioScore isOverlappingCds
kozak leaders mRNA median_score offsets_start ones position rankInTx
ranks ratio_cds_leader ratio_cds_mrna ratio_mrna_aligned read.csv2
read.table rowSums2 scalingFactor size te trailers tx utr3_len
utr5_len value variable windowMean windowSD write.csv write.table
zscore
Consider adding
importFrom("graphics", "frame")
importFrom("methods", "as")
importFrom("utils", "View", "read.csv2", "read.table", "write.csv",
"write.table")
to your NAMESPACE file (and ensure that your DESCRIPTION Imports field
contains 'methods').
* checking Rd files ... OK
* checking Rd metadata ... OK
* checking Rd cross-references ... OK
* checking for missing documentation entries ... OK
* checking for code/documentation mismatches ... OK
* checking Rd \usage sections ... OK
* checking Rd contents ... OK
* checking for unstated dependencies in examples ... OK
* checking line endings in C/C++/Fortran sources/headers ... OK
* checking line endings in Makefiles ... OK
* checking compilation flags in Makevars ... OK
* checking for GNU extensions in Makefiles ... OK
* checking for portable use of $(BLAS_LIBS) and $(LAPACK_LIBS) ... OK
* checking compiled code ... NOTE
Note: information on .o files for i386 is not available
Note: information on .o files for x64 is not available
File 'C:/Users/biocbuild/bbs-3.10-bioc/R/library/ORFik/libs/i386/ORFik.dll':
Found 'abort', possibly from 'abort' (C), 'runtime' (Fortran)
Found 'exit', possibly from 'exit' (C), 'stop' (Fortran)
Found 'printf', possibly from 'printf' (C)
File 'C:/Users/biocbuild/bbs-3.10-bioc/R/library/ORFik/libs/x64/ORFik.dll':
Found 'abort', possibly from 'abort' (C), 'runtime' (Fortran)
Found 'exit', possibly from 'exit' (C), 'stop' (Fortran)
Found 'printf', possibly from 'printf' (C)
Compiled code should not call entry points which might terminate R nor
write to stdout/stderr instead of to the console, nor use Fortran I/O
nor system RNGs. The detected symbols are linked into the code but
might come from libraries and not actually be called.
See 'Writing portable packages' in the 'Writing R Extensions' manual.
* checking files in 'vignettes' ... OK
* checking examples ...
** running examples for arch 'i386' ... OK
Examples with CPU or elapsed time > 5s
user system elapsed
computeFeatures 6.68 1.37 9.16
** running examples for arch 'x64' ... OK
Examples with CPU or elapsed time > 5s
user system elapsed
computeFeatures 7.5 0.17 13.28
* checking for unstated dependencies in 'tests' ... OK
* checking tests ...
** running tests for arch 'i386' ...
Running 'testthat.R'
OK
** running tests for arch 'x64' ...
Running 'testthat.R'
OK
* checking for unstated dependencies in vignettes ... OK
* checking package vignettes in 'inst/doc' ... OK
* checking running R code from vignettes ... SKIPPED
* checking re-building of vignette outputs ... SKIPPED
* checking PDF version of manual ... OK
* DONE
Status: 3 NOTEs
See
'C:/Users/biocbuild/bbs-3.10-bioc/meat/ORFik.Rcheck/00check.log'
for details.
ORFik.Rcheck/00install.out
##############################################################################
##############################################################################
###
### Running command:
###
### C:\cygwin\bin\curl.exe -O https://malbec1.bioconductor.org/BBS/3.10/bioc/src/contrib/ORFik_1.6.9.tar.gz && rm -rf ORFik.buildbin-libdir && mkdir ORFik.buildbin-libdir && C:\Users\biocbuild\bbs-3.10-bioc\R\bin\R.exe CMD INSTALL --merge-multiarch --build --library=ORFik.buildbin-libdir ORFik_1.6.9.tar.gz && C:\Users\biocbuild\bbs-3.10-bioc\R\bin\R.exe CMD INSTALL ORFik_1.6.9.zip && rm ORFik_1.6.9.tar.gz ORFik_1.6.9.zip
###
##############################################################################
##############################################################################
% Total % Received % Xferd Average Speed Time Time Time Current
Dload Upload Total Spent Left Speed
0 0 0 0 0 0 0 0 --:--:-- --:--:-- --:--:-- 0
100 364k 100 364k 0 0 4540k 0 --:--:-- --:--:-- --:--:-- 4794k
install for i386
* installing *source* package 'ORFik' ...
** using staged installation
** libs
C:/Rtools/mingw_32/bin/g++ -std=gnu++11 -I"C:/Users/BIOCBU~1/BBS-3~1.10-/R/include" -DNDEBUG -I"C:/Users/biocbuild/bbs-3.10-bioc/R/library/Rcpp/include" -I"C:/extsoft/include" -O2 -Wall -mtune=core2 -c RcppExports.cpp -o RcppExports.o
C:/Rtools/mingw_32/bin/g++ -std=gnu++11 -I"C:/Users/BIOCBU~1/BBS-3~1.10-/R/include" -DNDEBUG -I"C:/Users/biocbuild/bbs-3.10-bioc/R/library/Rcpp/include" -I"C:/extsoft/include" -O2 -Wall -mtune=core2 -c findORFsHelpers.cpp -o findORFsHelpers.o
findORFsHelpers.cpp: In function 'Rcpp::IntegerMatrix orfs_as_matrix(std::string&, std::string, std::string, int)':
findORFsHelpers.cpp:212:21: warning: comparison between signed and unsigned integer expressions [-Wsign-compare]
for (int i = 0; i < uorfSize/2; i++) {
^
C:/Rtools/mingw_32/bin/g++ -std=gnu++11 -I"C:/Users/BIOCBU~1/BBS-3~1.10-/R/include" -DNDEBUG -I"C:/Users/biocbuild/bbs-3.10-bioc/R/library/Rcpp/include" -I"C:/extsoft/include" -O2 -Wall -mtune=core2 -c findOrfs.cpp -o findOrfs.o
C:/Rtools/mingw_32/bin/g++ -std=gnu++11 -I"C:/Users/BIOCBU~1/BBS-3~1.10-/R/include" -DNDEBUG -I"C:/Users/biocbuild/bbs-3.10-bioc/R/library/Rcpp/include" -I"C:/extsoft/include" -O2 -Wall -mtune=core2 -c findOrfsFasta.cpp -o findOrfsFasta.o
C:/Rtools/mingw_32/bin/g++ -std=gnu++11 -I"C:/Users/BIOCBU~1/BBS-3~1.10-/R/include" -DNDEBUG -I"C:/Users/biocbuild/bbs-3.10-bioc/R/library/Rcpp/include" -I"C:/extsoft/include" -O2 -Wall -mtune=core2 -c pmapFromTranscripts.cpp -o pmapFromTranscripts.o
pmapFromTranscripts.cpp: In function 'Rcpp::List pmapFromTranscriptsCPP(const std::vector<int>&, const std::vector<int>&, const std::vector<int>&, const std::vector<int>&, const std::vector<int>&, const char&, bool)':
pmapFromTranscripts.cpp:151:20: warning: comparison between signed and unsigned integer expressions [-Wsign-compare]
for(auto i = 0;i < xSize; i++){
^
pmapFromTranscripts.cpp:155:21: warning: comparison between signed and unsigned integer expressions [-Wsign-compare]
for(auto i = 0; i < indexSize; i++){
^
pmapFromTranscripts.cpp:161:21: warning: comparison between signed and unsigned integer expressions [-Wsign-compare]
for(auto i = 1; i < indexSize; i++){
^
C:/Rtools/mingw_32/bin/g++ -shared -s -static-libgcc -o ORFik.dll tmp.def RcppExports.o findORFsHelpers.o findOrfs.o findOrfsFasta.o pmapFromTranscripts.o -LC:/extsoft/lib/i386 -LC:/extsoft/lib -LC:/Users/BIOCBU~1/BBS-3~1.10-/R/bin/i386 -lR
installing to C:/Users/biocbuild/bbs-3.10-bioc/meat/ORFik.buildbin-libdir/00LOCK-ORFik/00new/ORFik/libs/i386
** R
** inst
** byte-compile and prepare package for lazy loading
** help
*** installing help indices
converting help for package 'ORFik'
finding HTML links ... done
ORFik-package html
ORFikQC html
QCplots html
addCdsOnLeaderEnds html
addNewTSSOnLeaders html
allFeaturesHelper html
finding level-2 HTML links ... done
asTX html
assignAnnotations html
assignFirstExonsStartSite html
assignLastExonsStopSite html
assignTSSByCage html
bamVarName html
bamVarNamePicker html
bedToGR html
changePointAnalysis html
checkRFP html
checkRNA html
codonSumsPerGroup html
computeFeatures html
computeFeaturesCage html
convertToOneBasedRanges html
countTable html
coverageByTranscriptW html
coverageGroupings html
coverageHeatMap html
coveragePerTiling html
coverageScorings html
create.experiment html
defineIsoform html
defineTrailer html
detectRibosomeShifts html
disengagementScore html
distToCds html
distToTSS html
downstreamFromPerGroup html
downstreamN html
downstreamOfPerGroup html
entropy html
experiment-class html
export.bedo html
extendLeaders html
extendTrailers html
extendsTSSexons html
filterCage html
filterTranscripts html
filterUORFs html
fimport html
findFa html
findFromPath html
findLibrariesInFolder html
findMapORFs html
findMaxPeaks html
findNewTSS html
findORFs html
findORFsFasta html
findUORFs html
findWigPairs html
firstEndPerGroup html
firstExonPerGroup html
firstStartPerGroup html
floss html
fpkm html
fpkm_calc html
fractionLength html
fread.bed html
gSort html
gcContent html
getNGenesCoverage html
groupGRangesBy html
groupings html
hasHits html
import.bedo html
initiationScore html
insideOutsideORF html
is.ORF html
is.gr_or_grl html
is.grl html
isInFrame html
isOverlapping html
isPeriodic html
kozakHeatmap html
kozakSequenceScore html
lastExonEndPerGroup html
lastExonPerGroup html
lastExonStartPerGroup html
libraryTypes html
loadRegion html
loadRegions html
loadTranscriptType html
loadTxdb html
longestORFs html
makeExonRanks html
makeORFNames html
makeSummarizedExperimentFromBam html
mapToGRanges html
matchColors html
matchNaming html
matchSeqStyle html
metaWindow html
nrow-experiment-method html
numCodons html
numExonsPerGroup html
optimizeReads html
orfID html
orfScore html
outputLibs html
overlapsToCoverage html
pSitePlot html
parseCigar html
pasteDir html
plotHelper html
pmapFromTranscriptF html
prettyScoring html
rankOrder html
read.experiment html
readBam html
readWidths html
readWig html
reassignTSSbyCage html
reassignTxDbByCage html
reduceKeepAttr html
remakeTxdbExonIds html
remove.experiments html
remove.file_ext html
removeMetaCols html
removeORFsWithSameStartAsCDS html
removeORFsWithSameStopAsCDS html
removeORFsWithStartInsideCDS html
removeORFsWithinCDS html
removeTxdbExons html
removeTxdbTranscripts html
restrictTSSByUpstreamLeader html
ribosomeReleaseScore html
ribosomeStallingScore html
rnaNormalize html
save.experiment html
savePlot html
scaledWindowPositions html
scoreSummarizedExperiment html
seqnamesPerGroup html
shiftFootprints html
shiftFootprintsByExperiment html
show-experiment-method html
simpleLibs html
sortPerGroup html
splitIn3Tx html
startCodons html
startDefinition html
startRegion html
startRegionCoverage html
startRegionString html
startSites html
stopCodons html
stopDefinition html
stopSites html
strandBool html
strandPerGroup html
subsetCoverage html
subsetToFrame html
tile1 html
transcriptWindow html
transcriptWindowPer html
translationalEff html
txNames html
txNamesToGeneNames html
txSeqsFromFa html
uORFSearchSpace html
uniqueGroups html
uniqueOrder html
unlistGrl html
updateTxdbRanks html
updateTxdbStartSites html
upstreamFromPerGroup html
upstreamOfPerGroup html
validGRL html
validSeqlevels html
validateExperiments html
widthPerGroup html
windowCoveragePlot html
windowPerGroup html
windowPerReadLength html
windowPerTranscript html
xAxisScaler html
yAxisScaler html
** building package indices
** installing vignettes
** testing if installed package can be loaded from temporary location
** testing if installed package can be loaded from final location
** testing if installed package keeps a record of temporary installation path
install for x64
* installing *source* package 'ORFik' ...
** libs
C:/Rtools/mingw_64/bin/g++ -std=gnu++11 -I"C:/Users/BIOCBU~1/BBS-3~1.10-/R/include" -DNDEBUG -I"C:/Users/biocbuild/bbs-3.10-bioc/R/library/Rcpp/include" -I"C:/extsoft/include" -O2 -Wall -mtune=core2 -c RcppExports.cpp -o RcppExports.o
C:/Rtools/mingw_64/bin/g++ -std=gnu++11 -I"C:/Users/BIOCBU~1/BBS-3~1.10-/R/include" -DNDEBUG -I"C:/Users/biocbuild/bbs-3.10-bioc/R/library/Rcpp/include" -I"C:/extsoft/include" -O2 -Wall -mtune=core2 -c findORFsHelpers.cpp -o findORFsHelpers.o
findORFsHelpers.cpp: In function 'Rcpp::IntegerMatrix orfs_as_matrix(std::string&, std::string, std::string, int)':
findORFsHelpers.cpp:212:21: warning: comparison between signed and unsigned integer expressions [-Wsign-compare]
for (int i = 0; i < uorfSize/2; i++) {
^
C:/Rtools/mingw_64/bin/g++ -std=gnu++11 -I"C:/Users/BIOCBU~1/BBS-3~1.10-/R/include" -DNDEBUG -I"C:/Users/biocbuild/bbs-3.10-bioc/R/library/Rcpp/include" -I"C:/extsoft/include" -O2 -Wall -mtune=core2 -c findOrfs.cpp -o findOrfs.o
C:/Rtools/mingw_64/bin/g++ -std=gnu++11 -I"C:/Users/BIOCBU~1/BBS-3~1.10-/R/include" -DNDEBUG -I"C:/Users/biocbuild/bbs-3.10-bioc/R/library/Rcpp/include" -I"C:/extsoft/include" -O2 -Wall -mtune=core2 -c findOrfsFasta.cpp -o findOrfsFasta.o
C:/Rtools/mingw_64/bin/g++ -std=gnu++11 -I"C:/Users/BIOCBU~1/BBS-3~1.10-/R/include" -DNDEBUG -I"C:/Users/biocbuild/bbs-3.10-bioc/R/library/Rcpp/include" -I"C:/extsoft/include" -O2 -Wall -mtune=core2 -c pmapFromTranscripts.cpp -o pmapFromTranscripts.o
pmapFromTranscripts.cpp: In function 'Rcpp::List pmapFromTranscriptsCPP(const std::vector<int>&, const std::vector<int>&, const std::vector<int>&, const std::vector<int>&, const std::vector<int>&, const char&, bool)':
pmapFromTranscripts.cpp:151:20: warning: comparison between signed and unsigned integer expressions [-Wsign-compare]
for(auto i = 0;i < xSize; i++){
^
pmapFromTranscripts.cpp:155:21: warning: comparison between signed and unsigned integer expressions [-Wsign-compare]
for(auto i = 0; i < indexSize; i++){
^
pmapFromTranscripts.cpp:161:21: warning: comparison between signed and unsigned integer expressions [-Wsign-compare]
for(auto i = 1; i < indexSize; i++){
^
C:/Rtools/mingw_64/bin/g++ -shared -s -static-libgcc -o ORFik.dll tmp.def RcppExports.o findORFsHelpers.o findOrfs.o findOrfsFasta.o pmapFromTranscripts.o -LC:/extsoft/lib/x64 -LC:/extsoft/lib -LC:/Users/BIOCBU~1/BBS-3~1.10-/R/bin/x64 -lR
installing to C:/Users/biocbuild/bbs-3.10-bioc/meat/ORFik.buildbin-libdir/ORFik/libs/x64
** testing if installed package can be loaded
* MD5 sums
packaged installation of 'ORFik' as ORFik_1.6.9.zip
* DONE (ORFik)
* installing to library 'C:/Users/biocbuild/bbs-3.10-bioc/R/library'
package 'ORFik' successfully unpacked and MD5 sums checked
|
ORFik.Rcheck/tests_i386/testthat.Rout
R version 3.6.3 (2020-02-29) -- "Holding the Windsock"
Copyright (C) 2020 The R Foundation for Statistical Computing
Platform: i386-w64-mingw32/i386 (32-bit)
R is free software and comes with ABSOLUTELY NO WARRANTY.
You are welcome to redistribute it under certain conditions.
Type 'license()' or 'licence()' for distribution details.
R is a collaborative project with many contributors.
Type 'contributors()' for more information and
'citation()' on how to cite R or R packages in publications.
Type 'demo()' for some demos, 'help()' for on-line help, or
'help.start()' for an HTML browser interface to help.
Type 'q()' to quit R.
> library(testthat)
> library(ORFik)
Loading required package: IRanges
Loading required package: BiocGenerics
Loading required package: parallel
Attaching package: 'BiocGenerics'
The following objects are masked from 'package:parallel':
clusterApply, clusterApplyLB, clusterCall, clusterEvalQ,
clusterExport, clusterMap, parApply, parCapply, parLapply,
parLapplyLB, parRapply, parSapply, parSapplyLB
The following objects are masked from 'package:stats':
IQR, mad, sd, var, xtabs
The following objects are masked from 'package:base':
Filter, Find, Map, Position, Reduce, anyDuplicated, append,
as.data.frame, basename, cbind, colnames, dirname, do.call,
duplicated, eval, evalq, get, grep, grepl, intersect, is.unsorted,
lapply, mapply, match, mget, order, paste, pmax, pmax.int, pmin,
pmin.int, rank, rbind, rownames, sapply, setdiff, sort, table,
tapply, union, unique, unsplit, which, which.max, which.min
Loading required package: S4Vectors
Loading required package: stats4
Attaching package: 'S4Vectors'
The following object is masked from 'package:base':
expand.grid
Attaching package: 'IRanges'
The following object is masked from 'package:grDevices':
windows
Loading required package: GenomicRanges
Loading required package: GenomeInfoDb
Loading required package: GenomicAlignments
Loading required package: SummarizedExperiment
Loading required package: Biobase
Welcome to Bioconductor
Vignettes contain introductory material; view with
'browseVignettes()'. To cite Bioconductor, see
'citation("Biobase")', and for packages 'citation("pkgname")'.
Loading required package: DelayedArray
Loading required package: matrixStats
Attaching package: 'matrixStats'
The following objects are masked from 'package:Biobase':
anyMissing, rowMedians
Loading required package: BiocParallel
Attaching package: 'DelayedArray'
The following objects are masked from 'package:matrixStats':
colMaxs, colMins, colRanges, rowMaxs, rowMins, rowRanges
The following objects are masked from 'package:base':
aperm, apply, rowsum
Loading required package: Biostrings
Loading required package: XVector
Attaching package: 'Biostrings'
The following object is masked from 'package:base':
strsplit
Loading required package: Rsamtools
>
> test_check("ORFik")
[1] "ORFik_cage"
[1] "ORFik_ribo-seq_fheart"
[1] "ORFik_ribo-seq"
[1] "ORFik_rna-seq"
[1] "ORFik_ribo-seq"
== testthat results ===========================================================
[ OK: 293 | SKIPPED: 0 | WARNINGS: 0 | FAILED: 0 ]
>
> proc.time()
user system elapsed
72.07 2.35 94.53
|
ORFik.Rcheck/tests_x64/testthat.Rout
R version 3.6.3 (2020-02-29) -- "Holding the Windsock"
Copyright (C) 2020 The R Foundation for Statistical Computing
Platform: x86_64-w64-mingw32/x64 (64-bit)
R is free software and comes with ABSOLUTELY NO WARRANTY.
You are welcome to redistribute it under certain conditions.
Type 'license()' or 'licence()' for distribution details.
R is a collaborative project with many contributors.
Type 'contributors()' for more information and
'citation()' on how to cite R or R packages in publications.
Type 'demo()' for some demos, 'help()' for on-line help, or
'help.start()' for an HTML browser interface to help.
Type 'q()' to quit R.
> library(testthat)
> library(ORFik)
Loading required package: IRanges
Loading required package: BiocGenerics
Loading required package: parallel
Attaching package: 'BiocGenerics'
The following objects are masked from 'package:parallel':
clusterApply, clusterApplyLB, clusterCall, clusterEvalQ,
clusterExport, clusterMap, parApply, parCapply, parLapply,
parLapplyLB, parRapply, parSapply, parSapplyLB
The following objects are masked from 'package:stats':
IQR, mad, sd, var, xtabs
The following objects are masked from 'package:base':
Filter, Find, Map, Position, Reduce, anyDuplicated, append,
as.data.frame, basename, cbind, colnames, dirname, do.call,
duplicated, eval, evalq, get, grep, grepl, intersect, is.unsorted,
lapply, mapply, match, mget, order, paste, pmax, pmax.int, pmin,
pmin.int, rank, rbind, rownames, sapply, setdiff, sort, table,
tapply, union, unique, unsplit, which, which.max, which.min
Loading required package: S4Vectors
Loading required package: stats4
Attaching package: 'S4Vectors'
The following object is masked from 'package:base':
expand.grid
Attaching package: 'IRanges'
The following object is masked from 'package:grDevices':
windows
Loading required package: GenomicRanges
Loading required package: GenomeInfoDb
Loading required package: GenomicAlignments
Loading required package: SummarizedExperiment
Loading required package: Biobase
Welcome to Bioconductor
Vignettes contain introductory material; view with
'browseVignettes()'. To cite Bioconductor, see
'citation("Biobase")', and for packages 'citation("pkgname")'.
Loading required package: DelayedArray
Loading required package: matrixStats
Attaching package: 'matrixStats'
The following objects are masked from 'package:Biobase':
anyMissing, rowMedians
Loading required package: BiocParallel
Attaching package: 'DelayedArray'
The following objects are masked from 'package:matrixStats':
colMaxs, colMins, colRanges, rowMaxs, rowMins, rowRanges
The following objects are masked from 'package:base':
aperm, apply, rowsum
Loading required package: Biostrings
Loading required package: XVector
Attaching package: 'Biostrings'
The following object is masked from 'package:base':
strsplit
Loading required package: Rsamtools
>
> test_check("ORFik")
[1] "ORFik_cage"
[1] "ORFik_ribo-seq_fheart"
[1] "ORFik_ribo-seq"
[1] "ORFik_rna-seq"
[1] "ORFik_ribo-seq"
== testthat results ===========================================================
[ OK: 293 | SKIPPED: 0 | WARNINGS: 0 | FAILED: 0 ]
>
> proc.time()
user system elapsed
84.28 1.00 106.65
|
|
ORFik.Rcheck/examples_i386/ORFik-Ex.timings
|
ORFik.Rcheck/examples_x64/ORFik-Ex.timings
|