| Back to Multiple platform build/check report for BioC 3.10 | 
  | 
This page was generated on 2020-04-15 12:42:12 -0400 (Wed, 15 Apr 2020).
| Package 1170/1823 | Hostname | OS / Arch | INSTALL | BUILD | CHECK | BUILD BIN | ||||||
| OGSA 1.16.0 Michael F. Ochs 
  | malbec1 | Linux (Ubuntu 18.04.4 LTS) / x86_64 | OK | OK | OK | |||||||
| tokay1 | Windows Server 2012 R2 Standard / x64 | OK | OK | OK | OK | |||||||
| merida1 | OS X 10.11.6 El Capitan / x86_64 | OK | OK | [ OK ] | OK | 
| Package: OGSA | 
| Version: 1.16.0 | 
| Command: /Library/Frameworks/R.framework/Versions/Current/Resources/bin/R CMD check --install=check:OGSA.install-out.txt --library=/Library/Frameworks/R.framework/Versions/Current/Resources/library --no-vignettes --timings OGSA_1.16.0.tar.gz | 
| StartedAt: 2020-04-15 04:18:00 -0400 (Wed, 15 Apr 2020) | 
| EndedAt: 2020-04-15 04:21:17 -0400 (Wed, 15 Apr 2020) | 
| EllapsedTime: 196.7 seconds | 
| RetCode: 0 | 
| Status: OK | 
| CheckDir: OGSA.Rcheck | 
| Warnings: 0 | 
##############################################################################
##############################################################################
###
### Running command:
###
###   /Library/Frameworks/R.framework/Versions/Current/Resources/bin/R CMD check --install=check:OGSA.install-out.txt --library=/Library/Frameworks/R.framework/Versions/Current/Resources/library --no-vignettes --timings OGSA_1.16.0.tar.gz
###
##############################################################################
##############################################################################
* using log directory ‘/Users/biocbuild/bbs-3.10-bioc/meat/OGSA.Rcheck’
* using R version 3.6.3 (2020-02-29)
* using platform: x86_64-apple-darwin15.6.0 (64-bit)
* using session charset: UTF-8
* using option ‘--no-vignettes’
* checking for file ‘OGSA/DESCRIPTION’ ... OK
* this is package ‘OGSA’ version ‘1.16.0’
* checking package namespace information ... OK
* checking package dependencies ... OK
* checking if this is a source package ... OK
* checking if there is a namespace ... OK
* checking for hidden files and directories ... OK
* checking for portable file names ... OK
* checking for sufficient/correct file permissions ... OK
* checking whether package ‘OGSA’ can be installed ... OK
* checking installed package size ... OK
* checking package directory ... OK
* checking ‘build’ directory ... OK
* checking DESCRIPTION meta-information ... OK
* checking top-level files ... OK
* checking for left-over files ... OK
* checking index information ... OK
* checking package subdirectories ... OK
* checking R files for non-ASCII characters ... OK
* checking R files for syntax errors ... OK
* checking whether the package can be loaded ... OK
* checking whether the package can be loaded with stated dependencies ... OK
* checking whether the package can be unloaded cleanly ... OK
* checking whether the namespace can be loaded with stated dependencies ... OK
* checking whether the namespace can be unloaded cleanly ... OK
* checking dependencies in R code ... OK
* checking S3 generic/method consistency ... OK
* checking replacement functions ... OK
* checking foreign function calls ... OK
* checking R code for possible problems ... NOTE
copaStat: no visible binding for global variable ‘median’
copaStat: no visible binding for global variable ‘mad’
copaStat: no visible binding for global variable ‘IQR’
copaStat: no visible binding for global variable ‘quantile’
expressionSetPheno: no visible global function definition for ‘relevel’
outCallTib: no visible binding for global variable ‘median’
outCallTib: no visible binding for global variable ‘mad’
outCallTib: no visible binding for global variable ‘IQR’
outCallTib: no visible binding for global variable ‘quantile’
outCallTibE: no visible binding for global variable ‘median’
outCallTibE: no visible binding for global variable ‘mad’
outCallTibE: no visible binding for global variable ‘IQR’
outCallTibE: no visible binding for global variable ‘quantile’
outCount: no visible binding for global variable ‘median’
outCount: no visible binding for global variable ‘mad’
outCount: no visible binding for global variable ‘IQR’
outCount: no visible binding for global variable ‘quantile’
outMap: no visible global function definition for ‘pdf’
outMap: no visible global function definition for ‘dev.off’
Undefined global functions or variables:
  IQR dev.off mad median pdf quantile relevel
Consider adding
  importFrom("grDevices", "dev.off", "pdf")
  importFrom("stats", "IQR", "mad", "median", "quantile", "relevel")
to your NAMESPACE file.
* checking Rd files ... OK
* checking Rd metadata ... OK
* checking Rd cross-references ... OK
* checking for missing documentation entries ... OK
* checking for code/documentation mismatches ... OK
* checking Rd \usage sections ... OK
* checking Rd contents ... OK
* checking for unstated dependencies in examples ... OK
* checking contents of ‘data’ directory ... OK
* checking data for non-ASCII characters ... OK
* checking data for ASCII and uncompressed saves ... OK
* checking sizes of PDF files under ‘inst/doc’ ... OK
* checking files in ‘vignettes’ ... OK
* checking examples ... OK
Examples with CPU or elapsed time > 5s
            user system elapsed
copaStat 124.171  1.585 126.817
* checking for unstated dependencies in vignettes ... OK
* checking package vignettes in ‘inst/doc’ ... OK
* checking running R code from vignettes ... SKIPPED
* checking re-building of vignette outputs ... SKIPPED
* checking PDF version of manual ... OK
* DONE
Status: 1 NOTE
See
  ‘/Users/biocbuild/bbs-3.10-bioc/meat/OGSA.Rcheck/00check.log’
for details.
OGSA.Rcheck/00install.out
############################################################################## ############################################################################## ### ### Running command: ### ### /Library/Frameworks/R.framework/Versions/Current/Resources/bin/R CMD INSTALL OGSA ### ############################################################################## ############################################################################## * installing to library ‘/Library/Frameworks/R.framework/Versions/3.6/Resources/library’ * installing *source* package ‘OGSA’ ... ** using staged installation ** R ** data *** moving datasets to lazyload DB ** inst ** byte-compile and prepare package for lazy loading ** help *** installing help indices ** building package indices ** installing vignettes ** testing if installed package can be loaded from temporary location ** testing if installed package can be loaded from final location ** testing if installed package keeps a record of temporary installation path * DONE (OGSA)
OGSA.Rcheck/OGSA-Ex.timings
| name | user | system | elapsed | |
| copaInt | 3.736 | 0.077 | 3.845 | |
| copaIntE | 3.813 | 0.035 | 3.856 | |
| copaStat | 124.171 | 1.585 | 126.817 | |
| expressionSetDataSet | 0.119 | 0.009 | 0.128 | |
| expressionSetPheno | 0.099 | 0.006 | 0.106 | |
| outCallRank | 1.835 | 0.027 | 1.879 | |
| outCallRankE | 1.767 | 0.036 | 1.813 | |
| outCallTib | 3.751 | 0.037 | 3.814 | |
| outCallTibE | 3.632 | 0.048 | 3.704 | |
| outCount | 3.575 | 0.040 | 3.640 | |
| outMap | 3.670 | 0.045 | 3.738 | |
| outRank | 1.971 | 0.034 | 2.021 | |
| testGScogps | 0.001 | 0.001 | 0.000 | |