| Back to Multiple platform build/check report for BioC 3.10 |
|
This page was generated on 2020-04-15 12:27:28 -0400 (Wed, 15 Apr 2020).
| Package 1122/1823 | Hostname | OS / Arch | INSTALL | BUILD | CHECK | BUILD BIN | ||||||
| MutationalPatterns 1.12.0 Roel Janssen
| malbec1 | Linux (Ubuntu 18.04.4 LTS) / x86_64 | OK | OK | OK | |||||||
| tokay1 | Windows Server 2012 R2 Standard / x64 | OK | OK | OK | [ OK ] | |||||||
| merida1 | OS X 10.11.6 El Capitan / x86_64 | OK | OK | OK | OK |
| Package: MutationalPatterns |
| Version: 1.12.0 |
| Command: rm -rf MutationalPatterns.buildbin-libdir && mkdir MutationalPatterns.buildbin-libdir && C:\Users\biocbuild\bbs-3.10-bioc\R\bin\R.exe CMD INSTALL --merge-multiarch --build --library=MutationalPatterns.buildbin-libdir MutationalPatterns_1.12.0.tar.gz |
| StartedAt: 2020-04-15 09:14:51 -0400 (Wed, 15 Apr 2020) |
| EndedAt: 2020-04-15 09:16:09 -0400 (Wed, 15 Apr 2020) |
| EllapsedTime: 77.5 seconds |
| RetCode: 0 |
| Status: OK |
| PackageFile: MutationalPatterns_1.12.0.zip |
| PackageFileSize: 2.927 MiB |
##############################################################################
##############################################################################
###
### Running command:
###
### rm -rf MutationalPatterns.buildbin-libdir && mkdir MutationalPatterns.buildbin-libdir && C:\Users\biocbuild\bbs-3.10-bioc\R\bin\R.exe CMD INSTALL --merge-multiarch --build --library=MutationalPatterns.buildbin-libdir MutationalPatterns_1.12.0.tar.gz
###
##############################################################################
##############################################################################
install for i386
* installing *source* package 'MutationalPatterns' ...
** using staged installation
** R
** inst
** byte-compile and prepare package for lazy loading
** help
*** installing help indices
converting help for package 'MutationalPatterns'
finding HTML links ... done
MutationalPatterns-package html
binomial_test html
cluster_signatures html
cos_sim html
cos_sim_matrix html
enrichment_depletion_test html
explained_by_signatures html
extract_signatures html
fit_to_signatures html
genomic_distribution html
mut_context html
mut_matrix html
mut_matrix_stranded html
mut_strand html
mut_type html
mut_type_occurrences html
mutation_context html
mutation_types html
mutations_from_vcf html
plot_192_profile html
plot_96_profile html
plot_compare_profiles html
plot_contribution html
plot_contribution_heatmap html
plot_cosine_heatmap html
plot_enrichment_depletion html
plot_rainfall html
plot_signature_strand_bias html
plot_spectrum html
plot_strand html
plot_strand_bias html
read_vcfs_as_granges html
strand_bias_test html
strand_from_vcf html
strand_occurrences html
type_context html
** building package indices
** installing vignettes
** testing if installed package can be loaded from temporary location
** testing if installed package can be loaded from final location
** testing if installed package keeps a record of temporary installation path
install for x64
* installing *source* package 'MutationalPatterns' ...
** testing if installed package can be loaded
* MD5 sums
packaged installation of 'MutationalPatterns' as MutationalPatterns_1.12.0.zip
* DONE (MutationalPatterns)